| Back to Mac ARM64 build report for BioC 3.17 |
|
This page was generated on 2023-10-20 09:38:06 -0400 (Fri, 20 Oct 2023).
| Hostname | OS | Arch (*) | R version | Installed pkgs |
|---|---|---|---|---|
| kjohnson2 | macOS 12.6.1 Monterey | arm64 | 4.3.1 (2023-06-16) -- "Beagle Scouts" | 4347 |
| Click on any hostname to see more info about the system (e.g. compilers) (*) as reported by 'uname -p', except on Windows and Mac OS X | ||||
| Package 1179/2230 | Hostname | OS / Arch | INSTALL | BUILD | CHECK | BUILD BIN | ||||||||
| MetaNeighbor 1.20.0 (landing page) Stephan Fischer
| kjohnson2 | macOS 12.6.1 Monterey / arm64 | OK | OK | OK | OK | ||||||||
|
To the developers/maintainers of the MetaNeighbor package: - Use the following Renviron settings to reproduce errors and warnings. - If 'R CMD check' started to fail recently on the Linux builder(s) over a missing dependency, add the missing dependency to 'Suggests:' in your DESCRIPTION file. See Renviron.bioc for more information. |
| Package: MetaNeighbor |
| Version: 1.20.0 |
| Command: /Library/Frameworks/R.framework/Resources/bin/R CMD check --install=check:MetaNeighbor.install-out.txt --library=/Library/Frameworks/R.framework/Resources/library --no-vignettes --timings MetaNeighbor_1.20.0.tar.gz |
| StartedAt: 2023-10-18 06:03:42 -0400 (Wed, 18 Oct 2023) |
| EndedAt: 2023-10-18 06:06:58 -0400 (Wed, 18 Oct 2023) |
| EllapsedTime: 195.1 seconds |
| RetCode: 0 |
| Status: OK |
| CheckDir: MetaNeighbor.Rcheck |
| Warnings: 0 |
##############################################################################
##############################################################################
###
### Running command:
###
### /Library/Frameworks/R.framework/Resources/bin/R CMD check --install=check:MetaNeighbor.install-out.txt --library=/Library/Frameworks/R.framework/Resources/library --no-vignettes --timings MetaNeighbor_1.20.0.tar.gz
###
##############################################################################
##############################################################################
* using log directory ‘/Users/biocbuild/bbs-3.17-bioc-mac-arm64/meat/MetaNeighbor.Rcheck’
* using R version 4.3.1 (2023-06-16)
* using platform: aarch64-apple-darwin20 (64-bit)
* R was compiled by
Apple clang version 14.0.0 (clang-1400.0.29.202)
GNU Fortran (GCC) 12.2.0
* running under: macOS Monterey 12.6.7
* using session charset: UTF-8
* using option ‘--no-vignettes’
* checking for file ‘MetaNeighbor/DESCRIPTION’ ... OK
* checking extension type ... Package
* this is package ‘MetaNeighbor’ version ‘1.20.0’
* checking package namespace information ... OK
* checking package dependencies ... OK
* checking if this is a source package ... OK
* checking if there is a namespace ... OK
* checking for hidden files and directories ... OK
* checking for portable file names ... OK
* checking for sufficient/correct file permissions ... OK
* checking whether package ‘MetaNeighbor’ can be installed ... OK
* checking installed package size ... OK
* checking package directory ... OK
* checking ‘build’ directory ... OK
* checking DESCRIPTION meta-information ... OK
* checking top-level files ... OK
* checking for left-over files ... OK
* checking index information ... OK
* checking package subdirectories ... OK
* checking R files for non-ASCII characters ... OK
* checking R files for syntax errors ... OK
* checking whether the package can be loaded ... OK
* checking whether the package can be loaded with stated dependencies ... OK
* checking whether the package can be unloaded cleanly ... OK
* checking whether the namespace can be loaded with stated dependencies ... OK
* checking whether the namespace can be unloaded cleanly ... OK
* checking dependencies in R code ... OK
* checking S3 generic/method consistency ... OK
* checking replacement functions ... OK
* checking foreign function calls ... OK
* checking R code for possible problems ... NOTE
MetaNeighbor : <anonymous>: no visible binding for global variable
‘cell_type’
ggPlotHeatmap: no visible binding for global variable ‘target_ct’
ggPlotHeatmap: no visible binding for global variable ‘ref_ct’
ggPlotHeatmap: no visible binding for global variable ‘auroc’
is_reciprocal_top_hit: no visible binding for global variable ‘auroc’
is_reciprocal_top_hit: no visible binding for global variable
‘ref_cell_type’
is_reciprocal_top_hit: no visible binding for global variable
‘target_cell_type’
is_reciprocal_top_hit: no visible binding for global variable
‘reciprocal_cell_type’
is_reciprocal_top_hit: no visible binding for global variable
‘is_reciprocal’
plotDotPlot: no visible binding for global variable ‘cluster’
plotDotPlot: no visible binding for global variable ‘gene’
plotDotPlot: no visible binding for global variable ‘cell_type’
plotDotPlot: no visible binding for global variable
‘average_expression’
plotDotPlot: no visible binding for global variable
‘percent_expressing’
plotMetaClusters: no visible global function definition for
‘order_sym_matrix’
topHitsByStudy: no visible binding for global variable ‘ref_cell_type’
topHitsByStudy: no visible binding for global variable
‘target_cell_type’
topHitsByStudy: no visible binding for global variable ‘ref_study’
topHitsByStudy: no visible binding for global variable ‘target_study’
topHitsByStudy: no visible binding for global variable ‘.’
topHitsByStudy: no visible binding for global variable ‘pair_id’
topHitsByStudy: no visible binding for global variable ‘is_reciprocal’
topHitsByStudy: no visible global function definition for ‘desc’
topHitsByStudy: no visible binding for global variable ‘Match_type’
variableGenes: no visible binding for global variable ‘gene’
variableGenes: no visible binding for global variable ‘is_hvg’
variableGenes: no visible binding for global variable ‘var_quant’
variableGenes: no visible binding for global variable ‘recurrence’
variableGenes: no visible global function definition for ‘desc’
variableGenes: no visible binding for global variable ‘score’
variable_genes_single_exp: no visible binding for global variable
‘bin_med’
variable_genes_single_exp: no visible binding for global variable
‘variance’
variable_genes_single_exp: no visible binding for global variable
‘var_quant’
Undefined global functions or variables:
. Match_type auroc average_expression bin_med cell_type cluster desc
gene is_hvg is_reciprocal order_sym_matrix pair_id percent_expressing
reciprocal_cell_type recurrence ref_cell_type ref_ct ref_study score
target_cell_type target_ct target_study var_quant variance
* checking Rd files ... OK
* checking Rd metadata ... OK
* checking Rd cross-references ... OK
* checking for missing documentation entries ... OK
* checking for code/documentation mismatches ... OK
* checking Rd \usage sections ... OK
* checking Rd contents ... OK
* checking for unstated dependencies in examples ... OK
* checking contents of ‘data’ directory ... OK
* checking data for non-ASCII characters ... OK
* checking LazyData ... OK
* checking data for ASCII and uncompressed saves ... OK
* checking sizes of PDF files under ‘inst/doc’ ... OK
* checking files in ‘vignettes’ ... OK
* checking examples ... OK
Examples with CPU (user + system) or elapsed time > 5s
user system elapsed
MetaNeighbor 23.869 0.594 35.340
neighborVoting 16.317 0.320 25.537
plotBPlot 16.210 0.293 25.247
* checking for unstated dependencies in ‘tests’ ... OK
* checking tests ...
Running ‘testthat.R’
OK
* checking for unstated dependencies in vignettes ... OK
* checking package vignettes in ‘inst/doc’ ... OK
* checking running R code from vignettes ... SKIPPED
* checking re-building of vignette outputs ... SKIPPED
* checking PDF version of manual ... OK
* DONE
Status: 1 NOTE
See
‘/Users/biocbuild/bbs-3.17-bioc-mac-arm64/meat/MetaNeighbor.Rcheck/00check.log’
for details.
MetaNeighbor.Rcheck/00install.out
############################################################################## ############################################################################## ### ### Running command: ### ### /Library/Frameworks/R.framework/Resources/bin/R CMD INSTALL MetaNeighbor ### ############################################################################## ############################################################################## * installing to library ‘/Library/Frameworks/R.framework/Versions/4.3-arm64/Resources/library’ * installing *source* package ‘MetaNeighbor’ ... ** using staged installation ** R ** data *** moving datasets to lazyload DB ** inst ** byte-compile and prepare package for lazy loading ** help *** installing help indices ** building package indices ** installing vignettes ** testing if installed package can be loaded from temporary location ** testing if installed package can be loaded from final location ** testing if installed package keeps a record of temporary installation path * DONE (MetaNeighbor)
MetaNeighbor.Rcheck/tests/testthat.Rout
R version 4.3.1 (2023-06-16) -- "Beagle Scouts"
Copyright (C) 2023 The R Foundation for Statistical Computing
Platform: aarch64-apple-darwin20 (64-bit)
R is free software and comes with ABSOLUTELY NO WARRANTY.
You are welcome to redistribute it under certain conditions.
Type 'license()' or 'licence()' for distribution details.
R is a collaborative project with many contributors.
Type 'contributors()' for more information and
'citation()' on how to cite R or R packages in publications.
Type 'demo()' for some demos, 'help()' for on-line help, or
'help.start()' for an HTML browser interface to help.
Type 'q()' to quit R.
> library(testthat)
> library(MetaNeighbor)
>
> test_check("MetaNeighbor")
[ FAIL 0 | WARN 0 | SKIP 0 | PASS 0 ]
>
> proc.time()
user system elapsed
0.686 0.110 1.258
MetaNeighbor.Rcheck/MetaNeighbor-Ex.timings
| name | user | system | elapsed | |
| MetaNeighbor | 23.869 | 0.594 | 35.340 | |
| MetaNeighborUS | 2.971 | 0.138 | 4.687 | |
| neighborVoting | 16.317 | 0.320 | 25.537 | |
| plotBPlot | 16.210 | 0.293 | 25.247 | |
| plotHeatmap | 2.426 | 0.073 | 3.779 | |
| plotHeatmapPretrained | 2.755 | 0.067 | 4.333 | |
| plotUpset | 1.376 | 0.078 | 2.207 | |
| topHits | 2.384 | 0.071 | 3.739 | |
| topHitsByStudy | 2.521 | 0.073 | 4.017 | |
| trainModel | 0.461 | 0.030 | 0.767 | |
| variableGenes | 0.327 | 0.015 | 0.522 | |