| Back to Mac ARM64 build report for BioC 3.17 |
|
This page was generated on 2023-03-16 11:02:04 -0400 (Thu, 16 Mar 2023).
| Hostname | OS | Arch (*) | R version | Installed pkgs |
|---|---|---|---|---|
| kjohnson2 | macOS 12.6.1 Monterey | arm64 | R Under development (unstable) (2023-01-10 r83596) -- "Unsuffered Consequences" | 4115 |
| Click on any hostname to see more info about the system (e.g. compilers) (*) as reported by 'uname -p', except on Windows and Mac OS X | ||||
|
To the developers/maintainers of the MEIGOR package: Make sure to use the following settings in order to reproduce any error or warning you see on this page. |
| Package 1135/2189 | Hostname | OS / Arch | INSTALL | BUILD | CHECK | BUILD BIN | ||||||||
| MEIGOR 1.33.0 (landing page) Jose A. Egea
| kjohnson2 | macOS 12.6.1 Monterey / arm64 | OK | OK | WARNINGS | OK | ||||||||
| Package: MEIGOR |
| Version: 1.33.0 |
| Command: rm -rf MEIGOR.buildbin-libdir && mkdir MEIGOR.buildbin-libdir && /Users/biocbuild/BBS/utils/build-universal.sh MEIGOR_1.33.0.tar.gz /Library/Frameworks/R.framework/Resources/bin/R MEIGOR.buildbin-libdir |
| StartedAt: 2023-03-14 15:15:05 -0400 (Tue, 14 Mar 2023) |
| EndedAt: 2023-03-14 15:15:12 -0400 (Tue, 14 Mar 2023) |
| EllapsedTime: 7.1 seconds |
| RetCode: 0 |
| Status: OK |
| PackageFile: MEIGOR_1.33.0.tgz |
| PackageFileSize: 981.9 KiB |
############################################################################## ############################################################################## ### ### Running command: ### ### rm -rf MEIGOR.buildbin-libdir && mkdir MEIGOR.buildbin-libdir && /Users/biocbuild/BBS/utils/build-universal.sh MEIGOR_1.33.0.tar.gz /Library/Frameworks/R.framework/Resources/bin/R MEIGOR.buildbin-libdir ### ############################################################################## ############################################################################## >>>>>>> >>>>>>> INSTALLATION WITH 'R CMD INSTALL --preclean --no-multiarch --library=MEIGOR.buildbin-libdir MEIGOR_1.33.0.tar.gz' >>>>>>> * installing *source* package ‘MEIGOR’ ... ** using staged installation ** R ** data ** inst ** byte-compile and prepare package for lazy loading Note: possible error in 'runif(seed = options$seed)': unused argument (seed = options$seed) ** help *** installing help indices ** building package indices ** installing vignettes ** testing if installed package can be loaded from temporary location ** testing if installed package can be loaded from final location ** testing if installed package keeps a record of temporary installation path * DONE (MEIGOR)