| Back to Mac ARM64 build report for BioC 3.17 |
|
This page was generated on 2023-10-20 09:38:03 -0400 (Fri, 20 Oct 2023).
| Hostname | OS | Arch (*) | R version | Installed pkgs |
|---|---|---|---|---|
| kjohnson2 | macOS 12.6.1 Monterey | arm64 | 4.3.1 (2023-06-16) -- "Beagle Scouts" | 4347 |
| Click on any hostname to see more info about the system (e.g. compilers) (*) as reported by 'uname -p', except on Windows and Mac OS X | ||||
| Package 826/2230 | Hostname | OS / Arch | INSTALL | BUILD | CHECK | BUILD BIN | ||||||||
| GeoTcgaData 2.0.0 (landing page) Erqiang Hu
| kjohnson2 | macOS 12.6.1 Monterey / arm64 | OK | OK | OK | OK | ||||||||
|
To the developers/maintainers of the GeoTcgaData package: - Use the following Renviron settings to reproduce errors and warnings. - If 'R CMD check' started to fail recently on the Linux builder(s) over a missing dependency, add the missing dependency to 'Suggests:' in your DESCRIPTION file. See Renviron.bioc for more information. |
| Package: GeoTcgaData |
| Version: 2.0.0 |
| Command: /Library/Frameworks/R.framework/Resources/bin/R CMD check --install=check:GeoTcgaData.install-out.txt --library=/Library/Frameworks/R.framework/Resources/library --no-vignettes --timings GeoTcgaData_2.0.0.tar.gz |
| StartedAt: 2023-10-17 22:12:16 -0400 (Tue, 17 Oct 2023) |
| EndedAt: 2023-10-17 22:18:04 -0400 (Tue, 17 Oct 2023) |
| EllapsedTime: 347.4 seconds |
| RetCode: 0 |
| Status: OK |
| CheckDir: GeoTcgaData.Rcheck |
| Warnings: 0 |
##############################################################################
##############################################################################
###
### Running command:
###
### /Library/Frameworks/R.framework/Resources/bin/R CMD check --install=check:GeoTcgaData.install-out.txt --library=/Library/Frameworks/R.framework/Resources/library --no-vignettes --timings GeoTcgaData_2.0.0.tar.gz
###
##############################################################################
##############################################################################
* using log directory ‘/Users/biocbuild/bbs-3.17-bioc-mac-arm64/meat/GeoTcgaData.Rcheck’
* using R version 4.3.1 (2023-06-16)
* using platform: aarch64-apple-darwin20 (64-bit)
* R was compiled by
Apple clang version 14.0.0 (clang-1400.0.29.202)
GNU Fortran (GCC) 12.2.0
* running under: macOS Monterey 12.6.7
* using session charset: UTF-8
* using option ‘--no-vignettes’
* checking for file ‘GeoTcgaData/DESCRIPTION’ ... OK
* checking extension type ... Package
* this is package ‘GeoTcgaData’ version ‘2.0.0’
* package encoding: UTF-8
* checking package namespace information ... OK
* checking package dependencies ... OK
* checking if this is a source package ... OK
* checking if there is a namespace ... OK
* checking for hidden files and directories ... OK
* checking for portable file names ... OK
* checking for sufficient/correct file permissions ... OK
* checking whether package ‘GeoTcgaData’ can be installed ... OK
* checking installed package size ... OK
* checking package directory ... OK
* checking ‘build’ directory ... OK
* checking DESCRIPTION meta-information ... OK
* checking top-level files ... OK
* checking for left-over files ... OK
* checking index information ... OK
* checking package subdirectories ... OK
* checking R files for non-ASCII characters ... OK
* checking R files for syntax errors ... OK
* checking whether the package can be loaded ... OK
* checking whether the package can be loaded with stated dependencies ... OK
* checking whether the package can be unloaded cleanly ... OK
* checking whether the namespace can be loaded with stated dependencies ... OK
* checking whether the namespace can be unloaded cleanly ... OK
* checking dependencies in R code ... OK
* checking S3 generic/method consistency ... OK
* checking replacement functions ... OK
* checking foreign function calls ... OK
* checking R code for possible problems ... OK
* checking Rd files ... OK
* checking Rd metadata ... OK
* checking Rd cross-references ... OK
* checking for missing documentation entries ... OK
* checking for code/documentation mismatches ... OK
* checking Rd \usage sections ... OK
* checking Rd contents ... OK
* checking for unstated dependencies in examples ... OK
* checking contents of ‘data’ directory ... OK
* checking data for non-ASCII characters ... OK
* checking data for ASCII and uncompressed saves ... OK
* checking R/sysdata.rda ... OK
* checking files in ‘vignettes’ ... OK
* checking examples ... OK
Examples with CPU (user + system) or elapsed time > 5s
user system elapsed
differential_methy 13.240 1.246 21.824
countToFpkm 4.408 0.307 7.202
* checking for unstated dependencies in ‘tests’ ... OK
* checking tests ...
Running ‘testthat.R’
OK
* checking for unstated dependencies in vignettes ... OK
* checking package vignettes in ‘inst/doc’ ... OK
* checking running R code from vignettes ... SKIPPED
* checking re-building of vignette outputs ... SKIPPED
* checking PDF version of manual ... OK
* DONE
Status: OK
GeoTcgaData.Rcheck/00install.out
############################################################################## ############################################################################## ### ### Running command: ### ### /Library/Frameworks/R.framework/Resources/bin/R CMD INSTALL GeoTcgaData ### ############################################################################## ############################################################################## * installing to library ‘/Library/Frameworks/R.framework/Versions/4.3-arm64/Resources/library’ * installing *source* package ‘GeoTcgaData’ ... ** using staged installation ** R ** data ** inst ** byte-compile and prepare package for lazy loading ** help *** installing help indices ** building package indices ** installing vignettes ** testing if installed package can be loaded from temporary location ** testing if installed package can be loaded from final location ** testing if installed package keeps a record of temporary installation path * DONE (GeoTcgaData)
GeoTcgaData.Rcheck/tests/testthat.Rout
R version 4.3.1 (2023-06-16) -- "Beagle Scouts"
Copyright (C) 2023 The R Foundation for Statistical Computing
Platform: aarch64-apple-darwin20 (64-bit)
R is free software and comes with ABSOLUTELY NO WARRANTY.
You are welcome to redistribute it under certain conditions.
Type 'license()' or 'licence()' for distribution details.
R is a collaborative project with many contributors.
Type 'contributors()' for more information and
'citation()' on how to cite R or R packages in publications.
Type 'demo()' for some demos, 'help()' for on-line help, or
'help.start()' for an HTML browser interface to help.
Type 'q()' to quit R.
> # This file is part of the standard setup for testthat.
> # It is recommended that you do not modify it.
> #
> # Where should you do additional test configuration?
> # Learn more about the roles of various files in:
> # * https://r-pkgs.org/tests.html
> # * https://testthat.r-lib.org/reference/test_package.html#special-files
>
> library(testthat)
> library(GeoTcgaData)
>
> test_check("GeoTcgaData")
file1 is over
file2 is over
file3 is over
file4 is over
'select()' returned 1:1 mapping between keys and columns
'select()' returned 1:1 mapping between keys and columns
[ FAIL 0 | WARN 0 | SKIP 2 | PASS 11 ]
══ Skipped tests (2) ═══════════════════════════════════════════════════════════
• On CRAN (2): 'test_diff_RNA_ucsc.R:2:5', 'test_differential_RNA.R:2:5'
[ FAIL 0 | WARN 0 | SKIP 2 | PASS 11 ]
>
> proc.time()
user system elapsed
13.306 0.723 21.448
GeoTcgaData.Rcheck/GeoTcgaData-Ex.timings
| name | user | system | elapsed | |
| Merge_methy_tcga | 1.304 | 0.030 | 2.045 | |
| SNP_QC | 0.025 | 0.001 | 0.040 | |
| array_preprocess | 0 | 0 | 0 | |
| cal_mean_module | 0.201 | 0.019 | 0.337 | |
| cluster_array | 0 | 0 | 0 | |
| combine_pvalue | 0.008 | 0.001 | 0.013 | |
| countToFpkm | 4.408 | 0.307 | 7.202 | |
| countToTpm | 0.526 | 0.020 | 0.821 | |
| differential_RNA | 2.223 | 0.141 | 3.612 | |
| differential_SNP | 0.064 | 0.008 | 0.104 | |
| differential_SNP_GEO | 0.015 | 0.001 | 0.025 | |
| differential_SNP_tcga | 0.025 | 0.001 | 0.041 | |
| differential_array | 0.006 | 0.000 | 0.013 | |
| differential_cnv | 0.038 | 0.002 | 0.073 | |
| differential_limma | 0.005 | 0.000 | 0.010 | |
| differential_methy | 13.240 | 1.246 | 21.824 | |
| fpkmToTpm | 0.000 | 0.001 | 0.001 | |
| gene_ave | 0.002 | 0.000 | 0.002 | |
| get_geo_array | 0.001 | 0.000 | 0.000 | |
| id_conversion_TCGA | 0.402 | 0.022 | 0.653 | |
| prepare_chi | 0.002 | 0.000 | 0.005 | |
| repAssign | 0.002 | 0.000 | 0.004 | |
| repRemove | 0.001 | 0.000 | 0.001 | |