| Back to Mac ARM64 build report for BioC 3.17 |
|
This page was generated on 2023-10-20 09:38:03 -0400 (Fri, 20 Oct 2023).
| Hostname | OS | Arch (*) | R version | Installed pkgs |
|---|---|---|---|---|
| kjohnson2 | macOS 12.6.1 Monterey | arm64 | 4.3.1 (2023-06-16) -- "Beagle Scouts" | 4347 |
| Click on any hostname to see more info about the system (e.g. compilers) (*) as reported by 'uname -p', except on Windows and Mac OS X | ||||
| Package 844/2230 | Hostname | OS / Arch | INSTALL | BUILD | CHECK | BUILD BIN | ||||||||
| GLAD 2.64.0 (landing page) Philippe Hupe
| kjohnson2 | macOS 12.6.1 Monterey / arm64 | OK | OK | WARNINGS | OK | ||||||||
|
To the developers/maintainers of the GLAD package: - Use the following Renviron settings to reproduce errors and warnings. - If 'R CMD check' started to fail recently on the Linux builder(s) over a missing dependency, add the missing dependency to 'Suggests:' in your DESCRIPTION file. See Renviron.bioc for more information. |
| Package: GLAD |
| Version: 2.64.0 |
| Command: rm -rf GLAD.buildbin-libdir && mkdir GLAD.buildbin-libdir && /Users/biocbuild/BBS/utils/build-universal.sh GLAD_2.64.0.tar.gz /Library/Frameworks/R.framework/Resources/bin/R GLAD.buildbin-libdir |
| StartedAt: 2023-10-19 13:45:49 -0400 (Thu, 19 Oct 2023) |
| EndedAt: 2023-10-19 13:46:29 -0400 (Thu, 19 Oct 2023) |
| EllapsedTime: 40.0 seconds |
| RetCode: 0 |
| Status: OK |
| PackageFile: GLAD_2.64.0.tgz |
| PackageFileSize: 1.452 MiB |
##############################################################################
##############################################################################
###
### Running command:
###
### rm -rf GLAD.buildbin-libdir && mkdir GLAD.buildbin-libdir && /Users/biocbuild/BBS/utils/build-universal.sh GLAD_2.64.0.tar.gz /Library/Frameworks/R.framework/Resources/bin/R GLAD.buildbin-libdir
###
##############################################################################
##############################################################################
>>>>>>>
>>>>>>> INSTALLATION WITH 'R CMD INSTALL --preclean --no-multiarch --library=GLAD.buildbin-libdir GLAD_2.64.0.tar.gz'
>>>>>>>
* installing *source* package ‘GLAD’ ...
** using staged installation
checking for pkg-config... /opt/homebrew/bin/pkg-config
checking pkg-config is at least version 0.9.0... yes
checking for GSL... no
checking for gcc... clang -arch arm64
checking for C compiler default output file name... a.out
checking whether the C compiler works... yes
checking whether we are cross compiling... no
checking for suffix of executables...
checking for suffix of object files... o
checking whether we are using the GNU C compiler... yes
checking whether clang -arch arm64 accepts -g... yes
checking for clang -arch arm64 option to accept ISO C89... none needed
checking for gsl-config... /opt/R/arm64/bin/gsl-config
checking for GSL - version >= 1.6... yes
operating system: Darwin
configure: creating ./config.status
config.status: creating src/Makevars
src/Makevars file
PKG_LIBS = -lgsl -lgslcblas -lm
PKG_CPPFLAGS = -DIS_MAC_OS
** libs
using C compiler: ‘Apple clang version 14.0.0 (clang-1400.0.29.202)’
using C++ compiler: ‘Apple clang version 14.0.0 (clang-1400.0.29.202)’
using SDK: ‘MacOSX11.3.sdk’
clang++ -arch arm64 -std=gnu++17 -I"/Library/Frameworks/R.framework/Resources/include" -DNDEBUG -DIS_MAC_OS -I/opt/R/arm64/include -fPIC -falign-functions=64 -Wall -g -O2 -c BkpInfo.cpp -o BkpInfo.o
clang++ -arch arm64 -std=gnu++17 -I"/Library/Frameworks/R.framework/Resources/include" -DNDEBUG -DIS_MAC_OS -I/opt/R/arm64/include -fPIC -falign-functions=64 -Wall -g -O2 -c HaarSeg.cpp -o HaarSeg.o
HaarSeg.cpp:50:12: warning: variable 'lowSquareSum' set but not used [-Wunused-but-set-variable]
double lowSquareSum = 0;
^
1 warning generated.
clang++ -arch arm64 -std=gnu++17 -I"/Library/Frameworks/R.framework/Resources/include" -DNDEBUG -DIS_MAC_OS -I/opt/R/arm64/include -fPIC -falign-functions=64 -Wall -g -O2 -c MoveBkp.cpp -o MoveBkp.o
clang++ -arch arm64 -std=gnu++17 -I"/Library/Frameworks/R.framework/Resources/include" -DNDEBUG -DIS_MAC_OS -I/opt/R/arm64/include -fPIC -falign-functions=64 -Wall -g -O2 -c OutliersGNL.cpp -o OutliersGNL.o
clang++ -arch arm64 -std=gnu++17 -I"/Library/Frameworks/R.framework/Resources/include" -DNDEBUG -DIS_MAC_OS -I/opt/R/arm64/include -fPIC -falign-functions=64 -Wall -g -O2 -c chrBreakpoints.cpp -o chrBreakpoints.o
clang++ -arch arm64 -std=gnu++17 -I"/Library/Frameworks/R.framework/Resources/include" -DNDEBUG -DIS_MAC_OS -I/opt/R/arm64/include -fPIC -falign-functions=64 -Wall -g -O2 -c cutree.cpp -o cutree.o
clang++ -arch arm64 -std=gnu++17 -I"/Library/Frameworks/R.framework/Resources/include" -DNDEBUG -DIS_MAC_OS -I/opt/R/arm64/include -fPIC -falign-functions=64 -Wall -g -O2 -c daglad.cpp -o daglad.o
clang++ -arch arm64 -std=gnu++17 -I"/Library/Frameworks/R.framework/Resources/include" -DNDEBUG -DIS_MAC_OS -I/opt/R/arm64/include -fPIC -falign-functions=64 -Wall -g -O2 -c distance.cpp -o distance.o
clang++ -arch arm64 -std=gnu++17 -I"/Library/Frameworks/R.framework/Resources/include" -DNDEBUG -DIS_MAC_OS -I/opt/R/arm64/include -fPIC -falign-functions=64 -Wall -g -O2 -c filterBkp.cpp -o filterBkp.o
clang++ -arch arm64 -std=gnu++17 -I"/Library/Frameworks/R.framework/Resources/include" -DNDEBUG -DIS_MAC_OS -I/opt/R/arm64/include -fPIC -falign-functions=64 -Wall -g -O2 -c findCluster.cpp -o findCluster.o
clang++ -arch arm64 -std=gnu++17 -I"/Library/Frameworks/R.framework/Resources/include" -DNDEBUG -DIS_MAC_OS -I/opt/R/arm64/include -fPIC -falign-functions=64 -Wall -g -O2 -c glad-utils.cpp -o glad-utils.o
glad-utils.cpp:862:27: warning: unused variable 'it_new_end_NormalCluster' [-Wunused-variable]
vector<int>::iterator it_new_end_NormalCluster;
^
1 warning generated.
clang++ -arch arm64 -std=gnu++17 -I"/Library/Frameworks/R.framework/Resources/include" -DNDEBUG -DIS_MAC_OS -I/opt/R/arm64/include -fPIC -falign-functions=64 -Wall -g -O2 -c hclust.cpp -o hclust.o
clang -arch arm64 -I"/Library/Frameworks/R.framework/Resources/include" -DNDEBUG -DIS_MAC_OS -I/opt/R/arm64/include -fPIC -falign-functions=64 -Wall -g -O2 -c laws.c -o laws.o
clang++ -arch arm64 -std=gnu++17 -I"/Library/Frameworks/R.framework/Resources/include" -DNDEBUG -DIS_MAC_OS -I/opt/R/arm64/include -fPIC -falign-functions=64 -Wall -g -O2 -c loopRemove.cpp -o loopRemove.o
clang++ -arch arm64 -std=gnu++17 -dynamiclib -Wl,-headerpad_max_install_names -undefined dynamic_lookup -single_module -multiply_defined suppress -L/Library/Frameworks/R.framework/Resources/lib -L/opt/R/arm64/lib -o GLAD.so BkpInfo.o HaarSeg.o MoveBkp.o OutliersGNL.o chrBreakpoints.o cutree.o daglad.o distance.o filterBkp.o findCluster.o glad-utils.o hclust.o laws.o loopRemove.o -lgsl -lgslcblas -lm -F/Library/Frameworks/R.framework/.. -framework R -Wl,-framework -Wl,CoreFoundation
installing to /Users/biocbuild/bbs-3.17-bioc-mac-arm64/meat/GLAD.buildbin-libdir/00LOCK-GLAD/00new/GLAD/libs
** R
** data
** demo
** inst
** byte-compile and prepare package for lazy loading
** help
*** installing help indices
** building package indices
** installing vignettes
** testing if installed package can be loaded from temporary location
** checking absolute paths in shared objects and dynamic libraries
** testing if installed package can be loaded from final location
** testing if installed package keeps a record of temporary installation path
* DONE (GLAD)
>>>>>>>
>>>>>>> FIXING PATHS TO DYNAMIC LIBRARIES FOR GLAD.buildbin-libdir/GLAD/libs/GLAD.so
>>>>>>>
>>>>>>> Paths before fix:
GLAD.buildbin-libdir/GLAD/libs/GLAD.so:
GLAD.so (compatibility version 0.0.0, current version 0.0.0)
/usr/lib/libSystem.B.dylib (compatibility version 1.0.0, current version 1292.100.5)
/Library/Frameworks/R.framework/Versions/4.3-arm64/Resources/lib/libR.dylib (compatibility version 4.3.0, current version 4.3.1)
/System/Library/Frameworks/CoreFoundation.framework/Versions/A/CoreFoundation (compatibility version 150.0.0, current version 1775.118.101)
/usr/lib/libc++.1.dylib (compatibility version 1.0.0, current version 905.6.0)
/usr/lib/libobjc.A.dylib (compatibility version 1.0.0, current version 228.0.0)
>>>>>>> Fix with install_name_tool:
install_name_tool -change "/usr/local/lib/libgcc_s.1.1.dylib" "/Library/Frameworks/R.framework/Versions/4.3-arm64/Resources/lib/libgcc_s.1.1.dylib" "GLAD.buildbin-libdir/GLAD/libs/GLAD.so"
install_name_tool -change "/usr/local/lib/libgfortran.5.dylib" "/Library/Frameworks/R.framework/Versions/4.3-arm64/Resources/lib/libgfortran.5.dylib" "GLAD.buildbin-libdir/GLAD/libs/GLAD.so"
install_name_tool -change "/usr/local/lib/libquadmath.0.dylib" "/Library/Frameworks/R.framework/Versions/4.3-arm64/Resources/lib/libquadmath.0.dylib" "GLAD.buildbin-libdir/GLAD/libs/GLAD.so"
>>>>>>> Paths after fix:
GLAD.buildbin-libdir/GLAD/libs/GLAD.so:
GLAD.so (compatibility version 0.0.0, current version 0.0.0)
/usr/lib/libSystem.B.dylib (compatibility version 1.0.0, current version 1292.100.5)
/Library/Frameworks/R.framework/Versions/4.3-arm64/Resources/lib/libR.dylib (compatibility version 4.3.0, current version 4.3.1)
/System/Library/Frameworks/CoreFoundation.framework/Versions/A/CoreFoundation (compatibility version 150.0.0, current version 1775.118.101)
/usr/lib/libc++.1.dylib (compatibility version 1.0.0, current version 905.6.0)
/usr/lib/libobjc.A.dylib (compatibility version 1.0.0, current version 228.0.0)