| Back to Multiple platform build/check report for BioC 3.17: simplified long |
|
This page was generated on 2023-10-16 11:36:40 -0400 (Mon, 16 Oct 2023).
| Hostname | OS | Arch (*) | R version | Installed pkgs |
|---|---|---|---|---|
| nebbiolo1 | Linux (Ubuntu 22.04.2 LTS) | x86_64 | 4.3.1 (2023-06-16) -- "Beagle Scouts" | 4626 |
| palomino3 | Windows Server 2022 Datacenter | x64 | 4.3.1 (2023-06-16 ucrt) -- "Beagle Scouts" | 4379 |
| merida1 | macOS 12.6.4 Monterey | x86_64 | 4.3.1 (2023-06-16) -- "Beagle Scouts" | 4395 |
| Click on any hostname to see more info about the system (e.g. compilers) (*) as reported by 'uname -p', except on Windows and Mac OS X | ||||
| Package 1951/2230 | Hostname | OS / Arch | INSTALL | BUILD | CHECK | BUILD BIN | ||||||||
| snapCGH 1.70.0 (landing page) John Marioni
| nebbiolo1 | Linux (Ubuntu 22.04.2 LTS) / x86_64 | OK | OK | OK | |||||||||
| palomino3 | Windows Server 2022 Datacenter / x64 | OK | OK | OK | OK | |||||||||
| merida1 | macOS 12.6.4 Monterey / x86_64 | OK | OK | OK | OK | |||||||||
| kjohnson2 | macOS 12.6.1 Monterey / arm64 | see weekly results here | ||||||||||||
|
To the developers/maintainers of the snapCGH package: - Allow up to 24 hours (and sometimes 48 hours) for your latest push to git@git.bioconductor.org:packages/snapCGH.git to reflect on this report. See Troubleshooting Build Report for more information. - Use the following Renviron settings to reproduce errors and warnings. - If 'R CMD check' started to fail recently on the Linux builder(s) over a missing dependency, add the missing dependency to 'Suggests:' in your DESCRIPTION file. See Renviron.bioc for more information. |
| Package: snapCGH |
| Version: 1.70.0 |
| Command: F:\biocbuild\bbs-3.17-bioc\R\bin\R.exe CMD check --no-multiarch --install=check:snapCGH.install-out.txt --library=F:\biocbuild\bbs-3.17-bioc\R\library --no-vignettes --timings snapCGH_1.70.0.tar.gz |
| StartedAt: 2023-10-16 07:01:28 -0400 (Mon, 16 Oct 2023) |
| EndedAt: 2023-10-16 07:04:04 -0400 (Mon, 16 Oct 2023) |
| EllapsedTime: 155.5 seconds |
| RetCode: 0 |
| Status: OK |
| CheckDir: snapCGH.Rcheck |
| Warnings: 0 |
##############################################################################
##############################################################################
###
### Running command:
###
### F:\biocbuild\bbs-3.17-bioc\R\bin\R.exe CMD check --no-multiarch --install=check:snapCGH.install-out.txt --library=F:\biocbuild\bbs-3.17-bioc\R\library --no-vignettes --timings snapCGH_1.70.0.tar.gz
###
##############################################################################
##############################################################################
* using log directory 'F:/biocbuild/bbs-3.17-bioc/meat/snapCGH.Rcheck'
* using R version 4.3.1 (2023-06-16 ucrt)
* using platform: x86_64-w64-mingw32 (64-bit)
* R was compiled by
gcc.exe (GCC) 12.2.0
GNU Fortran (GCC) 12.2.0
* running under: Windows Server 2022 x64 (build 20348)
* using session charset: UTF-8
* using option '--no-vignettes'
* checking for file 'snapCGH/DESCRIPTION' ... OK
* this is package 'snapCGH' version '1.70.0'
* checking package namespace information ... OK
* checking package dependencies ... OK
* checking if this is a source package ... OK
* checking if there is a namespace ... OK
* checking for hidden files and directories ... OK
* checking for portable file names ... OK
* checking whether package 'snapCGH' can be installed ... OK
* used C compiler: 'gcc.exe (GCC) 12.2.0'
* checking installed package size ... OK
* checking package directory ... OK
* checking 'build' directory ... OK
* checking DESCRIPTION meta-information ... OK
* checking top-level files ... OK
* checking for left-over files ... OK
* checking index information ... OK
* checking package subdirectories ... OK
* checking R files for non-ASCII characters ... OK
* checking R files for syntax errors ... OK
* checking whether the package can be loaded ... OK
* checking whether the package can be loaded with stated dependencies ... OK
* checking whether the package can be unloaded cleanly ... OK
* checking whether the namespace can be loaded with stated dependencies ... OK
* checking whether the namespace can be unloaded cleanly ... OK
* checking dependencies in R code ... OK
* checking S3 generic/method consistency ... OK
* checking replacement functions ... OK
* checking foreign function calls ... OK
* checking R code for possible problems ... NOTE
heatmapGenome: no visible binding for global variable 'floor.func'
readPositionalInfo: no visible binding for global variable 'RGList'
Undefined global functions or variables:
RGList floor.func
* checking Rd files ... NOTE
checkRd: (-1) compareSegmentations.Rd:25: Escaped LaTeX specials: \$
checkRd: (-1) compareSegmentations.Rd:26: Escaped LaTeX specials: \$
checkRd: (-1) plotSegmentedGenome.Rd:37: Escaped LaTeX specials: \$
checkRd: (-1) read.clonesinfo.Rd:15: Escaped LaTeX specials: \$
checkRd: (-1) readPositionalInfo.Rd:7: Escaped LaTeX specials: \$
* checking Rd metadata ... OK
* checking Rd cross-references ... OK
* checking for missing documentation entries ... OK
* checking for code/documentation mismatches ... OK
* checking Rd \usage sections ... OK
* checking Rd contents ... OK
* checking for unstated dependencies in examples ... OK
* checking line endings in C/C++/Fortran sources/headers ... OK
* checking compiled code ... NOTE
Note: information on .o files for x64 is not available
File 'F:/biocbuild/bbs-3.17-bioc/R/library/snapCGH/libs/x64/snapCGH.dll':
Found 'abort', possibly from 'abort' (C), 'runtime' (Fortran)
Compiled code should not call entry points which might terminate R nor
write to stdout/stderr instead of to the console, nor use Fortran I/O
nor system RNGs nor [v]sprintf. The detected symbols are linked into
the code but might come from libraries and not actually be called.
See 'Writing portable packages' in the 'Writing R Extensions' manual.
* checking sizes of PDF files under 'inst/doc' ... OK
* checking files in 'vignettes' ... OK
* checking examples ... OK
* checking for unstated dependencies in vignettes ... OK
* checking package vignettes in 'inst/doc' ... OK
* checking running R code from vignettes ... SKIPPED
* checking re-building of vignette outputs ... SKIPPED
* checking PDF version of manual ... OK
* DONE
Status: 3 NOTEs
See
'F:/biocbuild/bbs-3.17-bioc/meat/snapCGH.Rcheck/00check.log'
for details.
snapCGH.Rcheck/00install.out
##############################################################################
##############################################################################
###
### Running command:
###
### F:\biocbuild\bbs-3.17-bioc\R\bin\R.exe CMD INSTALL snapCGH
###
##############################################################################
##############################################################################
* installing to library 'F:/biocbuild/bbs-3.17-bioc/R/library'
* installing *source* package 'snapCGH' ...
** using staged installation
** libs
using C compiler: 'gcc.exe (GCC) 12.2.0'
gcc -I"F:/biocbuild/bbs-3.17-bioc/R/include" -DNDEBUG -I"C:/rtools43/x86_64-w64-mingw32.static.posix/include" -O2 -Wall -mfpmath=sse -msse2 -mstackrealign -c optimizer.c -o optimizer.o
optimizer.c: In function 'fr_two':
optimizer.c:26:30: warning: unused variable 'temp3' [-Wunused-variable]
26 | double denom, temp, temp2, temp3;
| ^~~~~
optimizer.c:26:23: warning: unused variable 'temp2' [-Wunused-variable]
26 | double denom, temp, temp2, temp3;
| ^~~~~
optimizer.c:26:10: warning: unused variable 'denom' [-Wunused-variable]
26 | double denom, temp, temp2, temp3;
| ^~~~~
optimizer.c: In function 'fr_three':
optimizer.c:195:30: warning: unused variable 'temp3' [-Wunused-variable]
195 | double denom, temp, temp2, temp3;
| ^~~~~
optimizer.c:195:23: warning: unused variable 'temp2' [-Wunused-variable]
195 | double denom, temp, temp2, temp3;
| ^~~~~
optimizer.c:195:10: warning: unused variable 'denom' [-Wunused-variable]
195 | double denom, temp, temp2, temp3;
| ^~~~~
optimizer.c:194:69: warning: unused variable 'alphahat' [-Wunused-variable]
194 | double gammaA[3][3], gammaB[3][3], gammaC[3][3], alpha[3][nrow1], alphahat[3][nrow1], emis_prob[3][nrow1];
| ^~~~~~~~
optimizer.c: In function 'fr_four':
optimizer.c:413:30: warning: unused variable 'temp3' [-Wunused-variable]
413 | double denom, temp, temp2, temp3;
| ^~~~~
optimizer.c:413:23: warning: unused variable 'temp2' [-Wunused-variable]
413 | double denom, temp, temp2, temp3;
| ^~~~~
optimizer.c:413:10: warning: unused variable 'denom' [-Wunused-variable]
413 | double denom, temp, temp2, temp3;
| ^~~~~
optimizer.c:412:69: warning: unused variable 'alphahat' [-Wunused-variable]
412 | double gammaA[4][4], gammaB[4][4], gammaC[4][4], alpha[4][nrow1], alphahat[4][nrow1], emis_prob[4][nrow1];
| ^~~~~~~~
optimizer.c: In function 'fr_five':
optimizer.c:687:30: warning: unused variable 'temp3' [-Wunused-variable]
687 | double denom, temp, temp2, temp3;
| ^~~~~
optimizer.c:687:23: warning: unused variable 'temp2' [-Wunused-variable]
687 | double denom, temp, temp2, temp3;
| ^~~~~
optimizer.c:687:10: warning: unused variable 'denom' [-Wunused-variable]
687 | double denom, temp, temp2, temp3;
| ^~~~~
optimizer.c:686:69: warning: unused variable 'alphahat' [-Wunused-variable]
686 | double gammaA[5][5], gammaB[5][5], gammaC[5][5], alpha[5][nrow1], alphahat[5][nrow1], emis_prob[5][nrow1];
| ^~~~~~~~
gcc -shared -s -static-libgcc -o snapCGH.dll tmp.def optimizer.o -LC:/rtools43/x86_64-w64-mingw32.static.posix/lib/x64 -LC:/rtools43/x86_64-w64-mingw32.static.posix/lib -LF:/biocbuild/bbs-3.17-bioc/R/bin/x64 -lR
installing to F:/biocbuild/bbs-3.17-bioc/R/library/00LOCK-snapCGH/00new/snapCGH/libs/x64
** R
** inst
** byte-compile and prepare package for lazy loading
** help
*** installing help indices
** building package indices
** installing vignettes
** testing if installed package can be loaded from temporary location
** testing if installed package can be loaded from final location
** testing if installed package keeps a record of temporary installation path
* DONE (snapCGH)
snapCGH.Rcheck/snapCGH-Ex.timings
| name | user | system | elapsed | |
| LargeDataObject | 0 | 0 | 0 | |
| convert.output | 0 | 0 | 0 | |
| dim | 0.02 | 0.00 | 0.01 | |