| Back to Multiple platform build/check report for BioC 3.17: simplified long |
|
This page was generated on 2023-09-15 11:35:39 -0400 (Fri, 15 Sep 2023).
| Hostname | OS | Arch (*) | R version | Installed pkgs |
|---|---|---|---|---|
| nebbiolo1 | Linux (Ubuntu 22.04.2 LTS) | x86_64 | 4.3.1 (2023-06-16) -- "Beagle Scouts" | 4622 |
| palomino3 | Windows Server 2022 Datacenter | x64 | 4.3.1 (2023-06-16 ucrt) -- "Beagle Scouts" | 4378 |
| merida1 | macOS 12.6.4 Monterey | x86_64 | 4.3.1 (2023-06-16) -- "Beagle Scouts" | 4394 |
| Click on any hostname to see more info about the system (e.g. compilers) (*) as reported by 'uname -p', except on Windows and Mac OS X | ||||
| Package 1763/2230 | Hostname | OS / Arch | INSTALL | BUILD | CHECK | BUILD BIN | ||||||||
| rpx 2.8.0 (landing page) Laurent Gatto
| nebbiolo1 | Linux (Ubuntu 22.04.2 LTS) / x86_64 | OK | OK | ERROR | |||||||||
| palomino3 | Windows Server 2022 Datacenter / x64 | OK | OK | ERROR | OK | |||||||||
| merida1 | macOS 12.6.4 Monterey / x86_64 | OK | OK | ERROR | NA | |||||||||
|
To the developers/maintainers of the rpx package: - Allow up to 24 hours (and sometimes 48 hours) for your latest push to git@git.bioconductor.org:packages/rpx.git to reflect on this report. See Troubleshooting Build Report for more information. - Use the following Renviron settings to reproduce errors and warnings. - If 'R CMD check' started to fail recently on the Linux builder(s) over a missing dependency, add the missing dependency to 'Suggests:' in your DESCRIPTION file. See Renviron.bioc for more information. |
| Package: rpx |
| Version: 2.8.0 |
| Command: F:\biocbuild\bbs-3.17-bioc\R\bin\R.exe CMD check --no-multiarch --install=check:rpx.install-out.txt --library=F:\biocbuild\bbs-3.17-bioc\R\library --no-vignettes --timings rpx_2.8.0.tar.gz |
| StartedAt: 2023-09-15 06:25:44 -0400 (Fri, 15 Sep 2023) |
| EndedAt: 2023-09-15 06:27:42 -0400 (Fri, 15 Sep 2023) |
| EllapsedTime: 118.7 seconds |
| RetCode: 1 |
| Status: ERROR |
| CheckDir: rpx.Rcheck |
| Warnings: NA |
##############################################################################
##############################################################################
###
### Running command:
###
### F:\biocbuild\bbs-3.17-bioc\R\bin\R.exe CMD check --no-multiarch --install=check:rpx.install-out.txt --library=F:\biocbuild\bbs-3.17-bioc\R\library --no-vignettes --timings rpx_2.8.0.tar.gz
###
##############################################################################
##############################################################################
* using log directory 'F:/biocbuild/bbs-3.17-bioc/meat/rpx.Rcheck'
* using R version 4.3.1 (2023-06-16 ucrt)
* using platform: x86_64-w64-mingw32 (64-bit)
* R was compiled by
gcc.exe (GCC) 12.2.0
GNU Fortran (GCC) 12.2.0
* running under: Windows Server 2022 x64 (build 20348)
* using session charset: UTF-8
* using option '--no-vignettes'
* checking for file 'rpx/DESCRIPTION' ... OK
* checking extension type ... Package
* this is package 'rpx' version '2.8.0'
* package encoding: UTF-8
* checking package namespace information ... OK
* checking package dependencies ... OK
* checking if this is a source package ... OK
* checking if there is a namespace ... OK
* checking for hidden files and directories ... OK
* checking for portable file names ... OK
* checking whether package 'rpx' can be installed ... OK
* checking installed package size ... OK
* checking package directory ... OK
* checking 'build' directory ... OK
* checking DESCRIPTION meta-information ... OK
* checking top-level files ... OK
* checking for left-over files ... OK
* checking index information ... OK
* checking package subdirectories ... OK
* checking R files for non-ASCII characters ... OK
* checking R files for syntax errors ... OK
* checking whether the package can be loaded ... OK
* checking whether the package can be loaded with stated dependencies ... OK
* checking whether the package can be unloaded cleanly ... OK
* checking whether the namespace can be loaded with stated dependencies ... OK
* checking whether the namespace can be unloaded cleanly ... OK
* checking dependencies in R code ... OK
* checking S3 generic/method consistency ... OK
* checking replacement functions ... OK
* checking foreign function calls ... OK
* checking R code for possible problems ... OK
* checking Rd files ... OK
* checking Rd metadata ... OK
* checking Rd cross-references ... OK
* checking for missing documentation entries ... OK
* checking for code/documentation mismatches ... OK
* checking Rd \usage sections ... OK
* checking Rd contents ... OK
* checking for unstated dependencies in examples ... OK
* checking files in 'vignettes' ... OK
* checking examples ... OK
* checking for unstated dependencies in 'tests' ... OK
* checking tests ...
Running 'testthat.R'
ERROR
Running the tests in 'tests/testthat.R' failed.
Last 13 lines of output:
── Error ('test_px2.R:10:1'): (code run outside of `test_that()`) ──────────────
Error in `open.connection(con, open = mode)`: RETR response: 425
Backtrace:
▆
1. └─rpx::PXDataset2("PXD000001") at test_px2.R:10:0
2. └─rpx:::list_files(ftp_url)
3. └─curl::curl(url = ftp_url, "r", handle = list_files)
4. └─curl:::curl_connection(url, open, handle)
5. ├─base::withCallingHandlers(...)
6. ├─base::open(con, open = mode)
7. └─base::open.connection(con, open = mode)
[ FAIL 1 | WARN 0 | SKIP 0 | PASS 1 ]
Error: Test failures
Execution halted
* checking for unstated dependencies in vignettes ... OK
* checking package vignettes in 'inst/doc' ... OK
* checking running R code from vignettes ... SKIPPED
* checking re-building of vignette outputs ... SKIPPED
* checking PDF version of manual ... OK
* DONE
Status: 1 ERROR
See
'F:/biocbuild/bbs-3.17-bioc/meat/rpx.Rcheck/00check.log'
for details.
rpx.Rcheck/00install.out
############################################################################## ############################################################################## ### ### Running command: ### ### F:\biocbuild\bbs-3.17-bioc\R\bin\R.exe CMD INSTALL rpx ### ############################################################################## ############################################################################## * installing to library 'F:/biocbuild/bbs-3.17-bioc/R/library' * installing *source* package 'rpx' ... ** using staged installation ** R ** inst ** byte-compile and prepare package for lazy loading ** help *** installing help indices ** building package indices ** installing vignettes ** testing if installed package can be loaded from temporary location ** testing if installed package can be loaded from final location ** testing if installed package keeps a record of temporary installation path * DONE (rpx)
rpx.Rcheck/tests/testthat.Rout.fail
R version 4.3.1 (2023-06-16 ucrt) -- "Beagle Scouts"
Copyright (C) 2023 The R Foundation for Statistical Computing
Platform: x86_64-w64-mingw32/x64 (64-bit)
R is free software and comes with ABSOLUTELY NO WARRANTY.
You are welcome to redistribute it under certain conditions.
Type 'license()' or 'licence()' for distribution details.
R is a collaborative project with many contributors.
Type 'contributors()' for more information and
'citation()' on how to cite R or R packages in publications.
Type 'demo()' for some demos, 'help()' for on-line help, or
'help.start()' for an HTML browser interface to help.
Type 'q()' to quit R.
> # setting R_TESTS to empty string because of
> # https://github.com/hadley/testthat/issues/144
> # revert this when that issue in R is fixed.
> Sys.setenv("R_TESTS" = "")
> library(testthat)
> library(rpx)
>
> test_check("rpx")
[ FAIL 1 | WARN 0 | SKIP 0 | PASS 1 ]
══ Failed tests ════════════════════════════════════════════════════════════════
── Error ('test_px2.R:10:1'): (code run outside of `test_that()`) ──────────────
Error in `open.connection(con, open = mode)`: RETR response: 425
Backtrace:
▆
1. └─rpx::PXDataset2("PXD000001") at test_px2.R:10:0
2. └─rpx:::list_files(ftp_url)
3. └─curl::curl(url = ftp_url, "r", handle = list_files)
4. └─curl:::curl_connection(url, open, handle)
5. ├─base::withCallingHandlers(...)
6. ├─base::open(con, open = mode)
7. └─base::open.connection(con, open = mode)
[ FAIL 1 | WARN 0 | SKIP 0 | PASS 1 ]
Error: Test failures
Execution halted
rpx.Rcheck/rpx-Ex.timings
| name | user | system | elapsed | |
| PXDataset2 | 3.14 | 0.31 | 3.91 | |
| cache | 0.10 | 0.01 | 0.11 | |
| pxFileTypes | 0.21 | 0.02 | 0.25 | |
| pxannounced | 0.00 | 0.01 | 0.00 | |