| Back to Multiple platform build/check report for BioC 3.17: simplified long |
|
This page was generated on 2023-10-16 11:35:41 -0400 (Mon, 16 Oct 2023).
| Hostname | OS | Arch (*) | R version | Installed pkgs |
|---|---|---|---|---|
| nebbiolo1 | Linux (Ubuntu 22.04.2 LTS) | x86_64 | 4.3.1 (2023-06-16) -- "Beagle Scouts" | 4626 |
| palomino3 | Windows Server 2022 Datacenter | x64 | 4.3.1 (2023-06-16 ucrt) -- "Beagle Scouts" | 4379 |
| merida1 | macOS 12.6.4 Monterey | x86_64 | 4.3.1 (2023-06-16) -- "Beagle Scouts" | 4395 |
| Click on any hostname to see more info about the system (e.g. compilers) (*) as reported by 'uname -p', except on Windows and Mac OS X | ||||
| Package 1679/2230 | Hostname | OS / Arch | INSTALL | BUILD | CHECK | BUILD BIN | ||||||||
| regioneR 1.32.0 (landing page) Bernat Gel
| nebbiolo1 | Linux (Ubuntu 22.04.2 LTS) / x86_64 | OK | OK | OK | |||||||||
| palomino3 | Windows Server 2022 Datacenter / x64 | OK | OK | OK | OK | |||||||||
| merida1 | macOS 12.6.4 Monterey / x86_64 | OK | OK | OK | OK | |||||||||
| kjohnson2 | macOS 12.6.1 Monterey / arm64 | see weekly results here | ||||||||||||
|
To the developers/maintainers of the regioneR package: - Allow up to 24 hours (and sometimes 48 hours) for your latest push to git@git.bioconductor.org:packages/regioneR.git to reflect on this report. See Troubleshooting Build Report for more information. - Use the following Renviron settings to reproduce errors and warnings. - If 'R CMD check' started to fail recently on the Linux builder(s) over a missing dependency, add the missing dependency to 'Suggests:' in your DESCRIPTION file. See Renviron.bioc for more information. |
| Package: regioneR |
| Version: 1.32.0 |
| Command: /home/biocbuild/bbs-3.17-bioc/R/bin/R CMD check --install=check:regioneR.install-out.txt --library=/home/biocbuild/bbs-3.17-bioc/R/site-library --timings regioneR_1.32.0.tar.gz |
| StartedAt: 2023-10-16 00:19:34 -0400 (Mon, 16 Oct 2023) |
| EndedAt: 2023-10-16 00:27:24 -0400 (Mon, 16 Oct 2023) |
| EllapsedTime: 470.2 seconds |
| RetCode: 0 |
| Status: OK |
| CheckDir: regioneR.Rcheck |
| Warnings: 0 |
##############################################################################
##############################################################################
###
### Running command:
###
### /home/biocbuild/bbs-3.17-bioc/R/bin/R CMD check --install=check:regioneR.install-out.txt --library=/home/biocbuild/bbs-3.17-bioc/R/site-library --timings regioneR_1.32.0.tar.gz
###
##############################################################################
##############################################################################
* using log directory ‘/home/biocbuild/bbs-3.17-bioc/meat/regioneR.Rcheck’
* using R version 4.3.1 (2023-06-16)
* using platform: x86_64-pc-linux-gnu (64-bit)
* R was compiled by
gcc (Ubuntu 11.3.0-1ubuntu1~22.04.1) 11.3.0
GNU Fortran (Ubuntu 11.3.0-1ubuntu1~22.04.1) 11.3.0
* running under: Ubuntu 22.04.3 LTS
* using session charset: UTF-8
* checking for file ‘regioneR/DESCRIPTION’ ... OK
* checking extension type ... Package
* this is package ‘regioneR’ version ‘1.32.0’
* package encoding: UTF-8
* checking package namespace information ... OK
* checking package dependencies ... OK
* checking if this is a source package ... OK
* checking if there is a namespace ... OK
* checking for hidden files and directories ... OK
* checking for portable file names ... OK
* checking for sufficient/correct file permissions ... OK
* checking whether package ‘regioneR’ can be installed ... OK
* checking installed package size ... OK
* checking package directory ... OK
* checking ‘build’ directory ... OK
* checking DESCRIPTION meta-information ... NOTE
Package listed in more than one of Depends, Imports, Suggests, Enhances:
‘GenomicRanges’
A package should be listed in only one of these fields.
* checking top-level files ... OK
* checking for left-over files ... OK
* checking index information ... OK
* checking package subdirectories ... OK
* checking R files for non-ASCII characters ... OK
* checking R files for syntax errors ... OK
* checking whether the package can be loaded ... OK
* checking whether the package can be loaded with stated dependencies ... OK
* checking whether the package can be unloaded cleanly ... OK
* checking whether the namespace can be loaded with stated dependencies ... OK
* checking whether the namespace can be unloaded cleanly ... OK
* checking loading without being on the library search path ... OK
* checking dependencies in R code ... OK
* checking S3 generic/method consistency ... OK
* checking replacement functions ... OK
* checking foreign function calls ... OK
* checking R code for possible problems ... OK
* checking Rd files ... OK
* checking Rd metadata ... OK
* checking Rd cross-references ... OK
* checking for missing documentation entries ... OK
* checking for code/documentation mismatches ... OK
* checking Rd \usage sections ... OK
* checking Rd contents ... OK
* checking for unstated dependencies in examples ... OK
* checking files in ‘vignettes’ ... OK
* checking examples ... OK
Examples with CPU (user + system) or elapsed time > 5s
user system elapsed
circularRandomizeRegions 28.679 6.195 34.939
maskFromBSGenome 27.846 6.939 32.896
filterChromosomes 25.900 5.235 31.141
getMask 24.749 5.335 30.084
resampleGenome 8.037 0.473 8.509
* checking for unstated dependencies in ‘tests’ ... OK
* checking tests ...
Running ‘testthat.R’
OK
* checking for unstated dependencies in vignettes ... OK
* checking package vignettes in ‘inst/doc’ ... OK
* checking running R code from vignettes ...
‘regioneR.Rmd’ using ‘UTF-8’... OK
NONE
* checking re-building of vignette outputs ... OK
* checking PDF version of manual ... OK
* DONE
Status: 1 NOTE
See
‘/home/biocbuild/bbs-3.17-bioc/meat/regioneR.Rcheck/00check.log’
for details.
regioneR.Rcheck/00install.out
############################################################################## ############################################################################## ### ### Running command: ### ### /home/biocbuild/bbs-3.17-bioc/R/bin/R CMD INSTALL regioneR ### ############################################################################## ############################################################################## * installing to library ‘/home/biocbuild/bbs-3.17-bioc/R/site-library’ * installing *source* package ‘regioneR’ ... ** using staged installation ** R ** inst ** byte-compile and prepare package for lazy loading ** help *** installing help indices ** building package indices ** installing vignettes ** testing if installed package can be loaded from temporary location ** testing if installed package can be loaded from final location ** testing if installed package keeps a record of temporary installation path * DONE (regioneR)
regioneR.Rcheck/tests/testthat.Rout
R version 4.3.1 (2023-06-16) -- "Beagle Scouts"
Copyright (C) 2023 The R Foundation for Statistical Computing
Platform: x86_64-pc-linux-gnu (64-bit)
R is free software and comes with ABSOLUTELY NO WARRANTY.
You are welcome to redistribute it under certain conditions.
Type 'license()' or 'licence()' for distribution details.
R is a collaborative project with many contributors.
Type 'contributors()' for more information and
'citation()' on how to cite R or R packages in publications.
Type 'demo()' for some demos, 'help()' for on-line help, or
'help.start()' for an HTML browser interface to help.
Type 'q()' to quit R.
> library(testthat)
> library(regioneR)
Loading required package: GenomicRanges
Loading required package: stats4
Loading required package: BiocGenerics
Attaching package: 'BiocGenerics'
The following objects are masked from 'package:stats':
IQR, mad, sd, var, xtabs
The following objects are masked from 'package:base':
Filter, Find, Map, Position, Reduce, anyDuplicated, aperm, append,
as.data.frame, basename, cbind, colnames, dirname, do.call,
duplicated, eval, evalq, get, grep, grepl, intersect, is.unsorted,
lapply, mapply, match, mget, order, paste, pmax, pmax.int, pmin,
pmin.int, rank, rbind, rownames, sapply, setdiff, sort, table,
tapply, union, unique, unsplit, which.max, which.min
Loading required package: S4Vectors
Attaching package: 'S4Vectors'
The following object is masked from 'package:utils':
findMatches
The following objects are masked from 'package:base':
I, expand.grid, unname
Loading required package: IRanges
Loading required package: GenomeInfoDb
>
> test_check("regioneR")
[ FAIL 0 | WARN 0 | SKIP 0 | PASS 89 ]
>
> proc.time()
user system elapsed
41.026 5.807 46.826
regioneR.Rcheck/regioneR-Ex.timings
| name | user | system | elapsed | |
| characterToBSGenome | 0.135 | 0.024 | 0.159 | |
| circularRandomizeRegions | 28.679 | 6.195 | 34.939 | |
| commonRegions | 0.239 | 0.000 | 0.239 | |
| createFunctionsList | 0.453 | 0.004 | 0.457 | |
| createRandomRegions | 0.194 | 0.000 | 0.194 | |
| emptyCacheRegioneR | 0.001 | 0.000 | 0.001 | |
| extendRegions | 0.129 | 0.000 | 0.129 | |
| filterChromosomes | 25.900 | 5.235 | 31.141 | |
| getChromosomesByOrganism | 0.000 | 0.002 | 0.002 | |
| getGenome | 0.167 | 0.012 | 0.179 | |
| getGenomeAndMask | 0.054 | 0.001 | 0.054 | |
| getMask | 24.749 | 5.335 | 30.084 | |
| joinRegions | 0.104 | 0.000 | 0.104 | |
| listChrTypes | 0.007 | 0.000 | 0.008 | |
| localZScore | 3.235 | 0.364 | 4.577 | |
| maskFromBSGenome | 27.846 | 6.939 | 32.896 | |
| meanDistance | 0.074 | 0.004 | 0.076 | |
| meanInRegions | 0.097 | 0.000 | 0.097 | |
| mergeRegions | 0.083 | 0.000 | 0.084 | |
| numOverlaps | 0.148 | 0.000 | 0.148 | |
| overlapGraphicalSummary | 0.081 | 0.004 | 0.085 | |
| overlapPermTest | 1.571 | 0.012 | 1.583 | |
| overlapRegions | 0.043 | 0.000 | 0.042 | |
| permTest | 1.145 | 0.012 | 1.157 | |
| plot.localZScoreResults | 1.175 | 0.016 | 1.191 | |
| plot.localZScoreResultsList | 2.401 | 0.084 | 2.485 | |
| plot.permTestResults | 1.791 | 0.008 | 1.799 | |
| plot.permTestResultsList | 1.949 | 0.024 | 1.974 | |
| plotRegions | 0.045 | 0.000 | 0.044 | |
| print.permTestResults | 1.214 | 0.004 | 1.218 | |
| randomizeRegions | 0.228 | 0.004 | 0.233 | |
| recomputePermTest | 0.846 | 0.008 | 0.855 | |
| resampleGenome | 8.037 | 0.473 | 8.509 | |
| resampleRegions | 0.038 | 0.000 | 0.038 | |
| splitRegions | 0.069 | 0.000 | 0.068 | |
| subtractRegions | 0.164 | 0.004 | 0.168 | |
| toDataframe | 0.009 | 0.007 | 0.015 | |
| toGRanges | 0.598 | 0.008 | 0.607 | |
| uniqueRegions | 0.309 | 0.003 | 0.313 | |