| Back to Multiple platform build/check report for BioC 3.17: simplified long |
|
This page was generated on 2023-10-16 11:36:28 -0400 (Mon, 16 Oct 2023).
| Hostname | OS | Arch (*) | R version | Installed pkgs |
|---|---|---|---|---|
| nebbiolo1 | Linux (Ubuntu 22.04.2 LTS) | x86_64 | 4.3.1 (2023-06-16) -- "Beagle Scouts" | 4626 |
| palomino3 | Windows Server 2022 Datacenter | x64 | 4.3.1 (2023-06-16 ucrt) -- "Beagle Scouts" | 4379 |
| merida1 | macOS 12.6.4 Monterey | x86_64 | 4.3.1 (2023-06-16) -- "Beagle Scouts" | 4395 |
| Click on any hostname to see more info about the system (e.g. compilers) (*) as reported by 'uname -p', except on Windows and Mac OS X | ||||
| Package 1547/2230 | Hostname | OS / Arch | INSTALL | BUILD | CHECK | BUILD BIN | ||||||||
| pqsfinder 2.16.0 (landing page) Jiri Hon
| nebbiolo1 | Linux (Ubuntu 22.04.2 LTS) / x86_64 | OK | OK | WARNINGS | |||||||||
| palomino3 | Windows Server 2022 Datacenter / x64 | OK | OK | OK | OK | |||||||||
| merida1 | macOS 12.6.4 Monterey / x86_64 | OK | OK | WARNINGS | OK | |||||||||
| kjohnson2 | macOS 12.6.1 Monterey / arm64 | see weekly results here | ||||||||||||
|
To the developers/maintainers of the pqsfinder package: - Allow up to 24 hours (and sometimes 48 hours) for your latest push to git@git.bioconductor.org:packages/pqsfinder.git to reflect on this report. See Troubleshooting Build Report for more information. - Use the following Renviron settings to reproduce errors and warnings. - If 'R CMD check' started to fail recently on the Linux builder(s) over a missing dependency, add the missing dependency to 'Suggests:' in your DESCRIPTION file. See Renviron.bioc for more information. |
| Package: pqsfinder |
| Version: 2.16.0 |
| Command: F:\biocbuild\bbs-3.17-bioc\R\bin\R.exe CMD check --no-multiarch --install=check:pqsfinder.install-out.txt --library=F:\biocbuild\bbs-3.17-bioc\R\library --no-vignettes --timings pqsfinder_2.16.0.tar.gz |
| StartedAt: 2023-10-16 05:25:29 -0400 (Mon, 16 Oct 2023) |
| EndedAt: 2023-10-16 05:28:24 -0400 (Mon, 16 Oct 2023) |
| EllapsedTime: 174.3 seconds |
| RetCode: 0 |
| Status: OK |
| CheckDir: pqsfinder.Rcheck |
| Warnings: 0 |
##############################################################################
##############################################################################
###
### Running command:
###
### F:\biocbuild\bbs-3.17-bioc\R\bin\R.exe CMD check --no-multiarch --install=check:pqsfinder.install-out.txt --library=F:\biocbuild\bbs-3.17-bioc\R\library --no-vignettes --timings pqsfinder_2.16.0.tar.gz
###
##############################################################################
##############################################################################
* using log directory 'F:/biocbuild/bbs-3.17-bioc/meat/pqsfinder.Rcheck'
* using R version 4.3.1 (2023-06-16 ucrt)
* using platform: x86_64-w64-mingw32 (64-bit)
* R was compiled by
gcc.exe (GCC) 12.2.0
GNU Fortran (GCC) 12.2.0
* running under: Windows Server 2022 x64 (build 20348)
* using session charset: UTF-8
* using option '--no-vignettes'
* checking for file 'pqsfinder/DESCRIPTION' ... OK
* checking extension type ... Package
* this is package 'pqsfinder' version '2.16.0'
* package encoding: UTF-8
* checking package namespace information ... OK
* checking package dependencies ... OK
* checking if this is a source package ... OK
* checking if there is a namespace ... OK
* checking for hidden files and directories ... OK
* checking for portable file names ... OK
* checking whether package 'pqsfinder' can be installed ... OK
* used C++ compiler: 'G__~1.EXE (GCC) 12.2.0'
* checking C++ specification ... NOTE
Specified C++11: please drop specification unless essential
* checking installed package size ... OK
* checking package directory ... OK
* checking 'build' directory ... OK
* checking DESCRIPTION meta-information ... OK
* checking top-level files ... OK
* checking for left-over files ... OK
* checking index information ... OK
* checking package subdirectories ... OK
* checking R files for non-ASCII characters ... OK
* checking R files for syntax errors ... OK
* checking whether the package can be loaded ... OK
* checking whether the package can be loaded with stated dependencies ... OK
* checking whether the package can be unloaded cleanly ... OK
* checking whether the namespace can be loaded with stated dependencies ... OK
* checking whether the namespace can be unloaded cleanly ... OK
* checking dependencies in R code ... OK
* checking S3 generic/method consistency ... OK
* checking replacement functions ... OK
* checking foreign function calls ... OK
* checking R code for possible problems ... OK
* checking Rd files ... OK
* checking Rd metadata ... OK
* checking Rd cross-references ... OK
* checking for missing documentation entries ... OK
* checking for code/documentation mismatches ... OK
* checking Rd \usage sections ... OK
* checking Rd contents ... OK
* checking for unstated dependencies in examples ... OK
* checking line endings in shell scripts ... OK
* checking line endings in C/C++/Fortran sources/headers ... OK
* checking line endings in Makefiles ... OK
* checking compilation flags in Makevars ... OK
* checking for GNU extensions in Makefiles ... NOTE
GNU make is a SystemRequirements.
* checking for portable use of $(BLAS_LIBS) and $(LAPACK_LIBS) ... OK
* checking use of PKG_*FLAGS in Makefiles ... OK
* checking compiled code ... NOTE
Note: information on .o files for x64 is not available
File 'F:/biocbuild/bbs-3.17-bioc/R/library/pqsfinder/libs/x64/pqsfinder.dll':
Found 'abort', possibly from 'abort' (C), 'runtime' (Fortran)
Found 'exit', possibly from 'exit' (C), 'stop' (Fortran)
Compiled code should not call entry points which might terminate R nor
write to stdout/stderr instead of to the console, nor use Fortran I/O
nor system RNGs nor [v]sprintf. The detected symbols are linked into
the code but might come from libraries and not actually be called.
See 'Writing portable packages' in the 'Writing R Extensions' manual.
* checking files in 'vignettes' ... OK
* checking examples ... OK
* checking for unstated dependencies in 'tests' ... OK
* checking tests ...
Running 'testthat.R'
OK
* checking for unstated dependencies in vignettes ... OK
* checking package vignettes in 'inst/doc' ... OK
* checking running R code from vignettes ... SKIPPED
* checking re-building of vignette outputs ... SKIPPED
* checking PDF version of manual ... OK
* DONE
Status: 3 NOTEs
See
'F:/biocbuild/bbs-3.17-bioc/meat/pqsfinder.Rcheck/00check.log'
for details.
pqsfinder.Rcheck/00install.out
##############################################################################
##############################################################################
###
### Running command:
###
### F:\biocbuild\bbs-3.17-bioc\R\bin\R.exe CMD INSTALL pqsfinder
###
##############################################################################
##############################################################################
* installing to library 'F:/biocbuild/bbs-3.17-bioc/R/library'
* installing *source* package 'pqsfinder' ...
** using staged installation
** libs
using C++ compiler: 'G__~1.EXE (GCC) 12.2.0'
using C++11
g++ -std=gnu++11 -I"F:/biocbuild/bbs-3.17-bioc/R/include" -DNDEBUG -I'F:/biocbuild/bbs-3.17-bioc/R/library/Rcpp/include' -I'F:/biocbuild/bbs-3.17-bioc/R/library/BH/include' -I"C:/rtools43/x86_64-w64-mingw32.static.posix/include" -O2 -Wall -mfpmath=sse -msse2 -mstackrealign -c RcppExports.cpp -o RcppExports.o
g++ -std=gnu++11 -I"F:/biocbuild/bbs-3.17-bioc/R/include" -DNDEBUG -I'F:/biocbuild/bbs-3.17-bioc/R/library/Rcpp/include' -I'F:/biocbuild/bbs-3.17-bioc/R/library/BH/include' -I"C:/rtools43/x86_64-w64-mingw32.static.posix/include" -O2 -Wall -mfpmath=sse -msse2 -mstackrealign -c pqsfinder.cpp -o pqsfinder.o
pqsfinder.cpp: In function 'void find_all_runs(SEXP, int, std::__cxx11::basic_string<char>::const_iterator, std::__cxx11::basic_string<char>::const_iterator, run_match*, const boost::regex&, const opts_t&, const scoring&, const std::__cxx11::basic_string<char>::const_iterator&, size_t, storage&, int&, results&, bool, std::chrono::_V2::system_clock::time_point, int, int, int, int&, bool)':
pqsfinder.cpp:584:53: warning: 'loop_len' may be used uninitialized [-Wmaybe-uninitialized]
584 | pqs_storage, int_cnt, res, (loop_len == 0 ? true : zero_loop),
| ~~~~~~~~~~~~~~~^~~~~~~~~~~~~~~~~~~
pqsfinder.cpp:489:14: note: 'loop_len' was declared here
489 | int score, loop_len;
| ^~~~~~~~
g++ -std=gnu++11 -I"F:/biocbuild/bbs-3.17-bioc/R/include" -DNDEBUG -I'F:/biocbuild/bbs-3.17-bioc/R/library/Rcpp/include' -I'F:/biocbuild/bbs-3.17-bioc/R/library/BH/include' -I"C:/rtools43/x86_64-w64-mingw32.static.posix/include" -O2 -Wall -mfpmath=sse -msse2 -mstackrealign -c boost_regex/posix_api.cpp -o boost_regex/posix_api.o
g++ -std=gnu++11 -I"F:/biocbuild/bbs-3.17-bioc/R/include" -DNDEBUG -I'F:/biocbuild/bbs-3.17-bioc/R/library/Rcpp/include' -I'F:/biocbuild/bbs-3.17-bioc/R/library/BH/include' -I"C:/rtools43/x86_64-w64-mingw32.static.posix/include" -O2 -Wall -mfpmath=sse -msse2 -mstackrealign -c boost_regex/regex.cpp -o boost_regex/regex.o
g++ -std=gnu++11 -I"F:/biocbuild/bbs-3.17-bioc/R/include" -DNDEBUG -I'F:/biocbuild/bbs-3.17-bioc/R/library/Rcpp/include' -I'F:/biocbuild/bbs-3.17-bioc/R/library/BH/include' -I"C:/rtools43/x86_64-w64-mingw32.static.posix/include" -O2 -Wall -mfpmath=sse -msse2 -mstackrealign -c boost_regex/regex_debug.cpp -o boost_regex/regex_debug.o
g++ -std=gnu++11 -I"F:/biocbuild/bbs-3.17-bioc/R/include" -DNDEBUG -I'F:/biocbuild/bbs-3.17-bioc/R/library/Rcpp/include' -I'F:/biocbuild/bbs-3.17-bioc/R/library/BH/include' -I"C:/rtools43/x86_64-w64-mingw32.static.posix/include" -O2 -Wall -mfpmath=sse -msse2 -mstackrealign -c boost_regex/static_mutex.cpp -o boost_regex/static_mutex.o
g++ -std=gnu++11 -I"F:/biocbuild/bbs-3.17-bioc/R/include" -DNDEBUG -I'F:/biocbuild/bbs-3.17-bioc/R/library/Rcpp/include' -I'F:/biocbuild/bbs-3.17-bioc/R/library/BH/include' -I"C:/rtools43/x86_64-w64-mingw32.static.posix/include" -O2 -Wall -mfpmath=sse -msse2 -mstackrealign -c boost_regex/wide_posix_api.cpp -o boost_regex/wide_posix_api.o
mkdir -p "F:/biocbuild/bbs-3.17-bioc/R/library/00LOCK-pqsfinder/00new/pqsfinder/lib/x64"
ar rs "F:/biocbuild/bbs-3.17-bioc/R/library/00LOCK-pqsfinder/00new/pqsfinder/lib/x64/libboost_regex.a" boost_regex/posix_api.o boost_regex/regex.o boost_regex/regex_debug.o boost_regex/static_mutex.o boost_regex/wide_posix_api.o
C:\rtools43\x86_64-w64-mingw32.static.posix\bin\ar.exe: creating F:/biocbuild/bbs-3.17-bioc/R/library/00LOCK-pqsfinder/00new/pqsfinder/lib/x64/libboost_regex.a
g++ -shared -s -static-libgcc -o pqsfinder.dll tmp.def RcppExports.o pqsfinder.o F:/biocbuild/bbs-3.17-bioc/R/library/00LOCK-pqsfinder/00new/pqsfinder/lib/x64/libboost_regex.a -LC:/rtools43/x86_64-w64-mingw32.static.posix/lib/x64 -LC:/rtools43/x86_64-w64-mingw32.static.posix/lib -LF:/biocbuild/bbs-3.17-bioc/R/bin/x64 -lR
installing to F:/biocbuild/bbs-3.17-bioc/R/library/00LOCK-pqsfinder/00new/pqsfinder/libs/x64
** R
** inst
** byte-compile and prepare package for lazy loading
** help
*** installing help indices
** building package indices
** installing vignettes
** testing if installed package can be loaded from temporary location
** testing if installed package can be loaded from final location
** testing if installed package keeps a record of temporary installation path
* DONE (pqsfinder)
pqsfinder.Rcheck/tests/testthat.Rout
R version 4.3.1 (2023-06-16 ucrt) -- "Beagle Scouts"
Copyright (C) 2023 The R Foundation for Statistical Computing
Platform: x86_64-w64-mingw32/x64 (64-bit)
R is free software and comes with ABSOLUTELY NO WARRANTY.
You are welcome to redistribute it under certain conditions.
Type 'license()' or 'licence()' for distribution details.
R is a collaborative project with many contributors.
Type 'contributors()' for more information and
'citation()' on how to cite R or R packages in publications.
Type 'demo()' for some demos, 'help()' for on-line help, or
'help.start()' for an HTML browser interface to help.
Type 'q()' to quit R.
> library(testthat)
> library(pqsfinder)
Loading required package: Biostrings
Loading required package: BiocGenerics
Attaching package: 'BiocGenerics'
The following objects are masked from 'package:stats':
IQR, mad, sd, var, xtabs
The following objects are masked from 'package:base':
Filter, Find, Map, Position, Reduce, anyDuplicated, aperm, append,
as.data.frame, basename, cbind, colnames, dirname, do.call,
duplicated, eval, evalq, get, grep, grepl, intersect, is.unsorted,
lapply, mapply, match, mget, order, paste, pmax, pmax.int, pmin,
pmin.int, rank, rbind, rownames, sapply, setdiff, sort, table,
tapply, union, unique, unsplit, which.max, which.min
Loading required package: S4Vectors
Loading required package: stats4
Attaching package: 'S4Vectors'
The following object is masked from 'package:utils':
findMatches
The following objects are masked from 'package:base':
I, expand.grid, unname
Loading required package: IRanges
Attaching package: 'IRanges'
The following object is masked from 'package:grDevices':
windows
Loading required package: XVector
Loading required package: GenomeInfoDb
Attaching package: 'Biostrings'
The following object is masked from 'package:base':
strsplit
>
> test_check("pqsfinder")
Searching on sense strand...
Search status: finished
Searching on antisense strand...
Search status: finished
Searching on sense strand...
Search status: finished
Searching on antisense strand...
Search status: finished
Searching on sense strand...
Search status: finished
Searching on antisense strand...
Search status: finished
compare pqsfinder_1_4_4_d, pqsfinder_1_4_4_r
run default pqsfinder
Searching on sense strand...
Search status: finished
run pqsfinder using boost regex engine
Searching on sense strand...
Search status: finished
compare pv_d, pv_r
compare pv_d, pqsfinder_1_4_4_d
Searching on sense strand...
Search status: finished
Searching on antisense strand...
Search status: finished
Searching on sense strand...
Search status: 30% ETTC 00:00:00
Search status: 43% ETTC 00:00:00
Search status: 46% ETTC 00:00:01
Search status: 47% ETTC 00:00:01
Search status: 48% ETTC 00:00:02
Search status: 49% ETTC 00:00:02
Search status: 55% ETTC 00:00:02
Search status: 59% ETTC 00:00:02
Search status: 78% ETTC 00:00:00
Search status: 99% ETTC 00:00:00
Search status: finished
Searching on antisense strand...
Search status: 23% ETTC 00:00:00
Search status: 42% ETTC 00:00:00
Search status: 46% ETTC 00:00:01
Search status: 51% ETTC 00:00:00
Search status: 57% ETTC 00:00:00
Search status: 83% ETTC 00:00:00
Search status: finished
Searching on sense strand...
Search status: finished
Searching on antisense strand...
Search status: finished
Searching on sense strand...
Search status: finished
Searching on antisense strand...
Search status: finished
Searching on sense strand...
Search status: 61% ETTC 00:00:00
Search status: 84% ETTC 00:00:00
Search status: finished
Searching on antisense strand...
Search status: 47% ETTC 00:00:00
Search status: 91% ETTC 00:00:00
Search status: finished
Searching on sense strand...
Search status: 61% ETTC 00:00:00
Search status: 84% ETTC 00:00:00
Search status: finished
Searching on antisense strand...
Search status: 47% ETTC 00:00:00
Search status: 91% ETTC 00:00:00
Search status: finished
Searching on sense strand...
Search status: 36% ETTC 00:00:00
Search status: 78% ETTC 00:00:00
Search status: finished
Searching on antisense strand...
Search status: 41% ETTC 00:00:00
Search status: 94% ETTC 00:00:00
Search status: finished
Searching on sense strand...
Search status: 36% ETTC 00:00:00
Search status: 78% ETTC 00:00:00
Search status: finished
Searching on antisense strand...
Search status: 41% ETTC 00:00:00
Search status: 94% ETTC 00:00:00
Search status: finished
Searching on sense strand...
Search status: finished
Searching on antisense strand...
Search status: finished
Searching on sense strand...
Search status: 5% ETTC 00:00:00
Search status: 7% ETTC 00:00:13
Search status: 8% ETTC 00:00:23
Search status: 11% ETTC 00:00:24
Search status: 13% ETTC 00:00:20
Search status: 16% ETTC 00:00:21
Search status: 18% ETTC 00:00:22
Search status: 19% ETTC 00:00:25
Search status: 19% ETTC 00:00:29
Search status: 23% ETTC 00:00:26
Search status: 26% ETTC 00:00:22
Search status: 29% ETTC 00:00:22
Search status: 33% ETTC 00:00:20
Search status: 35% ETTC 00:00:20
Search status: 38% ETTC 00:00:17
Search status: 41% ETTC 00:00:17
Search status: 44% ETTC 00:00:16
Search status: 46% ETTC 00:00:15
Search status: 50% ETTC 00:00:14
Search status: 52% ETTC 00:00:12
Search status: 54% ETTC 00:00:12
Search status: 57% ETTC 00:00:12
Search status: 60% ETTC 00:00:10
Search status: 62% ETTC 00:00:10
Search status: 63% ETTC 00:00:10
Search status: 65% ETTC 00:00:10
Search status: 65% ETTC 00:00:10
Search status: 67% ETTC 00:00:10
Search status: 70% ETTC 00:00:09
Search status: 74% ETTC 00:00:07
Search status: 76% ETTC 00:00:07
Search status: 79% ETTC 00:00:06
Search status: 80% ETTC 00:00:06
Search status: 81% ETTC 00:00:05
Search status: 81% ETTC 00:00:06
Search status: 82% ETTC 00:00:06
Search status: 84% ETTC 00:00:05
Search status: 84% ETTC 00:00:05
Search status: 86% ETTC 00:00:05
Search status: 87% ETTC 00:00:04
Search status: 92% ETTC 00:00:02
Search status: 93% ETTC 00:00:02
Search status: 95% ETTC 00:00:01
Search status: 96% ETTC 00:00:01
Search status: 97% ETTC 00:00:01
Search status: 98% ETTC 00:00:00
Search status: 99% ETTC 00:00:00
Search status: finished
Searching on antisense strand...
Search status: finished
Searching on sense strand...
Search status: finished
Searching on antisense strand...
Search status: finished
Searching on sense strand...
Search status: finished
Searching on antisense strand...
Search status: finished
Searching on sense strand...
Search status: finished
Searching on antisense strand...
Search status: finished
Searching on sense strand...
Search status: finished
Searching on antisense strand...
Search status: finished
Searching on sense strand...
Search status: finished
Searching on antisense strand...
Search status: finished
Searching on sense strand...
Search status: finished
Searching on antisense strand...
Search status: finished
Searching on sense strand...
Search status: finished
Searching on antisense strand...
Search status: finished
Searching on sense strand...
Search status: 92% ETTC 00:00:00
Search status: finished
Searching on antisense strand...
Search status: finished
Searching on sense strand...
Search status: finished
Searching on antisense strand...
Search status: finished
Searching on sense strand...
Search status: 49% ETTC 00:00:00
Search status: 93% ETTC 00:00:00
Search status: finished
Searching on antisense strand...
Search status: finished
Searching on sense strand...
Search status: finished
Searching on antisense strand...
Search status: finished
Searching on sense strand...
Search status: 74% ETTC 00:00:00
Search status: finished
Searching on antisense strand...
Search status: finished
Searching on sense strand...
Search status: finished
Searching on antisense strand...
Search status: finished
Searching on sense strand...
Search status: finished
Searching on antisense strand...
Search status: finished
Searching on sense strand...
Search status: finished
Searching on antisense strand...
Search status: finished
Searching on sense strand...
Search status: finished
Searching on antisense strand...
Search status: finished
Searching on sense strand...
Search status: finished
Searching on antisense strand...
Search status: finished
Searching on sense strand...
Search status: 98% ETTC 00:00:00
Search status: finished
Searching on antisense strand...
Search status: finished
Searching on sense strand...
Search status: finished
Searching on antisense strand...
Search status: finished
Searching on sense strand...
Search status: finished
Searching on antisense strand...
Search status: finished
Searching on sense strand...
Search status: finished
Searching on sense strand...
Search status: finished
Searching on antisense strand...
Search status: finished
Searching on sense strand...
Search status: finished
Searching on antisense strand...
Search status: finished
Searching on sense strand...
Search status: finished
Searching on antisense strand...
Search status: finished
Searching on sense strand...
Search status: finished
Searching on antisense strand...
Search status: finished
Searching on sense strand...
Search status: finished
Searching on antisense strand...
Search status: finished
Searching on sense strand...
Search status: finished
Searching on antisense strand...
Search status: finished
[ FAIL 0 | WARN 0 | SKIP 0 | PASS 83 ]
>
> proc.time()
user system elapsed
66.00 0.50 66.76
pqsfinder.Rcheck/pqsfinder-Ex.timings
| name | user | system | elapsed | |
| PQSViews | 0.07 | 0.00 | 0.06 | |
| density-PQSViews-method | 0.03 | 0.00 | 0.03 | |
| maxScores-PQSViews-method | 0.02 | 0.00 | 0.02 | |
| maxScores | 0 | 0 | 0 | |
| pqsfinder | 0.05 | 0.00 | 0.04 | |
| score-PQSViews-method | 0.01 | 0.00 | 0.02 | |
| strand-PQSViews-method | 0.03 | 0.00 | 0.03 | |