| Back to Multiple platform build/check report for BioC 3.17: simplified long |
|
This page was generated on 2023-10-16 11:36:24 -0400 (Mon, 16 Oct 2023).
| Hostname | OS | Arch (*) | R version | Installed pkgs |
|---|---|---|---|---|
| nebbiolo1 | Linux (Ubuntu 22.04.2 LTS) | x86_64 | 4.3.1 (2023-06-16) -- "Beagle Scouts" | 4626 |
| palomino3 | Windows Server 2022 Datacenter | x64 | 4.3.1 (2023-06-16 ucrt) -- "Beagle Scouts" | 4379 |
| merida1 | macOS 12.6.4 Monterey | x86_64 | 4.3.1 (2023-06-16) -- "Beagle Scouts" | 4395 |
| Click on any hostname to see more info about the system (e.g. compilers) (*) as reported by 'uname -p', except on Windows and Mac OS X | ||||
| Package 1385/2230 | Hostname | OS / Arch | INSTALL | BUILD | CHECK | BUILD BIN | ||||||||
| ngsReports 2.2.4 (landing page) Stevie Pederson
| nebbiolo1 | Linux (Ubuntu 22.04.2 LTS) / x86_64 | OK | OK | OK | |||||||||
| palomino3 | Windows Server 2022 Datacenter / x64 | OK | OK | OK | OK | |||||||||
| merida1 | macOS 12.6.4 Monterey / x86_64 | OK | OK | OK | OK | |||||||||
| kjohnson2 | macOS 12.6.1 Monterey / arm64 | see weekly results here | ||||||||||||
|
To the developers/maintainers of the ngsReports package: - Allow up to 24 hours (and sometimes 48 hours) for your latest push to git@git.bioconductor.org:packages/ngsReports.git to reflect on this report. See Troubleshooting Build Report for more information. - Use the following Renviron settings to reproduce errors and warnings. - If 'R CMD check' started to fail recently on the Linux builder(s) over a missing dependency, add the missing dependency to 'Suggests:' in your DESCRIPTION file. See Renviron.bioc for more information. |
| Package: ngsReports |
| Version: 2.2.4 |
| Command: F:\biocbuild\bbs-3.17-bioc\R\bin\R.exe CMD check --no-multiarch --install=check:ngsReports.install-out.txt --library=F:\biocbuild\bbs-3.17-bioc\R\library --no-vignettes --timings ngsReports_2.2.4.tar.gz |
| StartedAt: 2023-10-16 04:46:31 -0400 (Mon, 16 Oct 2023) |
| EndedAt: 2023-10-16 04:49:42 -0400 (Mon, 16 Oct 2023) |
| EllapsedTime: 190.8 seconds |
| RetCode: 0 |
| Status: OK |
| CheckDir: ngsReports.Rcheck |
| Warnings: 0 |
##############################################################################
##############################################################################
###
### Running command:
###
### F:\biocbuild\bbs-3.17-bioc\R\bin\R.exe CMD check --no-multiarch --install=check:ngsReports.install-out.txt --library=F:\biocbuild\bbs-3.17-bioc\R\library --no-vignettes --timings ngsReports_2.2.4.tar.gz
###
##############################################################################
##############################################################################
* using log directory 'F:/biocbuild/bbs-3.17-bioc/meat/ngsReports.Rcheck'
* using R version 4.3.1 (2023-06-16 ucrt)
* using platform: x86_64-w64-mingw32 (64-bit)
* R was compiled by
gcc.exe (GCC) 12.2.0
GNU Fortran (GCC) 12.2.0
* running under: Windows Server 2022 x64 (build 20348)
* using session charset: UTF-8
* using option '--no-vignettes'
* checking for file 'ngsReports/DESCRIPTION' ... OK
* this is package 'ngsReports' version '2.2.4'
* package encoding: UTF-8
* checking package namespace information ... OK
* checking package dependencies ... OK
* checking if this is a source package ... OK
* checking if there is a namespace ... OK
* checking for hidden files and directories ... OK
* checking for portable file names ... OK
* checking whether package 'ngsReports' can be installed ... OK
* checking installed package size ... OK
* checking package directory ... OK
* checking 'build' directory ... OK
* checking DESCRIPTION meta-information ... OK
* checking top-level files ... OK
* checking for left-over files ... OK
* checking index information ... OK
* checking package subdirectories ... OK
* checking R files for non-ASCII characters ... OK
* checking R files for syntax errors ... OK
* checking whether the package can be loaded ... OK
* checking whether the package can be loaded with stated dependencies ... OK
* checking whether the package can be unloaded cleanly ... OK
* checking whether the namespace can be loaded with stated dependencies ... OK
* checking whether the namespace can be unloaded cleanly ... OK
* checking dependencies in R code ... OK
* checking S3 generic/method consistency ... OK
* checking replacement functions ... OK
* checking foreign function calls ... OK
* checking R code for possible problems ... OK
* checking Rd files ... OK
* checking Rd metadata ... OK
* checking Rd cross-references ... OK
* checking for missing documentation entries ... OK
* checking for code/documentation mismatches ... OK
* checking Rd \usage sections ... OK
* checking Rd contents ... OK
* checking for unstated dependencies in examples ... OK
* checking contents of 'data' directory ... OK
* checking data for non-ASCII characters ... OK
* checking LazyData ... OK
* checking data for ASCII and uncompressed saves ... OK
* checking files in 'vignettes' ... OK
* checking examples ... OK
* checking for unstated dependencies in 'tests' ... OK
* checking tests ...
Running 'testthat.R'
OK
* checking for unstated dependencies in vignettes ... OK
* checking package vignettes in 'inst/doc' ... OK
* checking running R code from vignettes ... SKIPPED
* checking re-building of vignette outputs ... SKIPPED
* checking PDF version of manual ... OK
* DONE
Status: OK
ngsReports.Rcheck/00install.out
############################################################################## ############################################################################## ### ### Running command: ### ### F:\biocbuild\bbs-3.17-bioc\R\bin\R.exe CMD INSTALL ngsReports ### ############################################################################## ############################################################################## * installing to library 'F:/biocbuild/bbs-3.17-bioc/R/library' * installing *source* package 'ngsReports' ... ** using staged installation ** R ** data *** moving datasets to lazyload DB ** inst ** byte-compile and prepare package for lazy loading ** help *** installing help indices *** copying figures ** building package indices ** installing vignettes ** testing if installed package can be loaded from temporary location ** testing if installed package can be loaded from final location ** testing if installed package keeps a record of temporary installation path * DONE (ngsReports)
ngsReports.Rcheck/tests/testthat.Rout
R version 4.3.1 (2023-06-16 ucrt) -- "Beagle Scouts"
Copyright (C) 2023 The R Foundation for Statistical Computing
Platform: x86_64-w64-mingw32/x64 (64-bit)
R is free software and comes with ABSOLUTELY NO WARRANTY.
You are welcome to redistribute it under certain conditions.
Type 'license()' or 'licence()' for distribution details.
R is a collaborative project with many contributors.
Type 'contributors()' for more information and
'citation()' on how to cite R or R packages in publications.
Type 'demo()' for some demos, 'help()' for on-line help, or
'help.start()' for an HTML browser interface to help.
Type 'q()' to quit R.
> library(testthat)
> library(ngsReports)
Loading required package: BiocGenerics
Attaching package: 'BiocGenerics'
The following objects are masked from 'package:stats':
IQR, mad, sd, var, xtabs
The following objects are masked from 'package:base':
Filter, Find, Map, Position, Reduce, anyDuplicated, aperm, append,
as.data.frame, basename, cbind, colnames, dirname, do.call,
duplicated, eval, evalq, get, grep, grepl, intersect, is.unsorted,
lapply, mapply, match, mget, order, paste, pmax, pmax.int, pmin,
pmin.int, rank, rbind, rownames, sapply, setdiff, sort, table,
tapply, union, unique, unsplit, which.max, which.min
Loading required package: ggplot2
Loading required package: patchwork
Loading required package: tibble
>
> test_check("ngsReports")
[ FAIL 0 | WARN 0 | SKIP 0 | PASS 371 ]
>
> proc.time()
user system elapsed
45.75 2.57 50.71
ngsReports.Rcheck/ngsReports-Ex.timings
| name | user | system | elapsed | |
| FastqcData | 0.07 | 0.01 | 0.08 | |
| FastqcDataList | 0.31 | 0.06 | 0.38 | |
| TheoreticalGC-class | 0.06 | 0.00 | 0.07 | |
| dot-FastqcFile-class | 0.00 | 0.02 | 0.02 | |
| dot-addPercent | 0 | 0 | 0 | |
| dot-emptyPlot | 0.10 | 0.01 | 0.11 | |
| dot-makeDendro | 0.42 | 0.02 | 0.48 | |
| dot-makeLabels | 0 | 0 | 0 | |
| dot-splitByTab | 0 | 0 | 0 | |
| estGcDistn | 0.01 | 0.00 | 0.02 | |
| extract-methods | 0.32 | 0.04 | 0.41 | |
| fqName-methods | 0.29 | 0.02 | 0.37 | |
| fqcVersion | 0.35 | 0.05 | 0.39 | |
| gcAvail | 0.01 | 0.00 | 0.02 | |
| gcTheoretical | 0.05 | 0.00 | 0.04 | |
| getColours-methods | 0 | 0 | 0 | |
| getGC | 0.01 | 0.00 | 0.02 | |
| getModule | 0.39 | 0.01 | 0.42 | |
| getSummary | 0.27 | 0.05 | 0.38 | |
| importNgsLogs | 0.03 | 0.00 | 0.03 | |
| importSJ | 0.02 | 0.00 | 0.01 | |
| isCompressed | 0 | 0 | 0 | |
| mData | 0.03 | 0.00 | 0.03 | |
| maxAdapterContent | 0.44 | 0.01 | 0.54 | |
| overRep2Fasta-methods | 0.34 | 0.00 | 0.39 | |
| path | 0.30 | 0.05 | 0.37 | |
| plotAdapterContent-methods | 2.61 | 0.14 | 2.86 | |
| plotAlignmentSummary | 0.25 | 0.02 | 0.27 | |
| plotAssemblyStats | 0.50 | 0.01 | 0.51 | |
| plotBaseQuals-methods | 1.36 | 0.07 | 1.44 | |
| plotDupLevels-methods | 1.09 | 0.06 | 1.19 | |
| plotFastqcPCA-methods | 0.55 | 0.06 | 0.65 | |
| plotGcContent-methods | 0.84 | 0.02 | 0.91 | |
| plotInsertSize-methods | 0.53 | 0.00 | 0.53 | |
| plotKmers-methods | 1.42 | 0.04 | 1.50 | |
| plotNContent-methods | 0.75 | 0.00 | 0.75 | |
| plotOverrep-methods | 0.71 | 0.03 | 0.77 | |
| plotReadTotals-methods | 0.65 | 0.05 | 0.75 | |
| plotSeqContent-methods | 1.56 | 0.05 | 1.62 | |
| plotSeqLengthDistn-methods | 1.04 | 0.08 | 1.19 | |
| plotSeqQuals-methods | 1.17 | 0.03 | 1.20 | |
| plotSummary-methods | 0.53 | 0.03 | 0.58 | |
| pwf | 0.01 | 0.00 | 0.02 | |
| readTotals | 0.35 | 0.01 | 0.40 | |
| writeHtmlReport | 0 | 0 | 0 | |