| Back to Multiple platform build/check report for BioC 3.17: simplified long |
|
This page was generated on 2023-10-16 11:37:17 -0400 (Mon, 16 Oct 2023).
| Hostname | OS | Arch (*) | R version | Installed pkgs |
|---|---|---|---|---|
| nebbiolo1 | Linux (Ubuntu 22.04.2 LTS) | x86_64 | 4.3.1 (2023-06-16) -- "Beagle Scouts" | 4626 |
| palomino3 | Windows Server 2022 Datacenter | x64 | 4.3.1 (2023-06-16 ucrt) -- "Beagle Scouts" | 4379 |
| merida1 | macOS 12.6.4 Monterey | x86_64 | 4.3.1 (2023-06-16) -- "Beagle Scouts" | 4395 |
| Click on any hostname to see more info about the system (e.g. compilers) (*) as reported by 'uname -p', except on Windows and Mac OS X | ||||
| Package 1344/2230 | Hostname | OS / Arch | INSTALL | BUILD | CHECK | BUILD BIN | ||||||||
| musicatk 1.10.0 (landing page) Aaron Chevalier
| nebbiolo1 | Linux (Ubuntu 22.04.2 LTS) / x86_64 | OK | OK | OK | |||||||||
| palomino3 | Windows Server 2022 Datacenter / x64 | OK | OK | OK | OK | |||||||||
| merida1 | macOS 12.6.4 Monterey / x86_64 | OK | OK | OK | OK | |||||||||
| kjohnson2 | macOS 12.6.1 Monterey / arm64 | see weekly results here | ||||||||||||
|
To the developers/maintainers of the musicatk package: - Allow up to 24 hours (and sometimes 48 hours) for your latest push to git@git.bioconductor.org:packages/musicatk.git to reflect on this report. See Troubleshooting Build Report for more information. - Use the following Renviron settings to reproduce errors and warnings. - If 'R CMD check' started to fail recently on the Linux builder(s) over a missing dependency, add the missing dependency to 'Suggests:' in your DESCRIPTION file. See Renviron.bioc for more information. |
| Package: musicatk |
| Version: 1.10.0 |
| Command: /Library/Frameworks/R.framework/Resources/bin/R CMD check --install=check:musicatk.install-out.txt --library=/Library/Frameworks/R.framework/Resources/library --no-vignettes --timings musicatk_1.10.0.tar.gz |
| StartedAt: 2023-10-16 04:30:49 -0400 (Mon, 16 Oct 2023) |
| EndedAt: 2023-10-16 04:45:45 -0400 (Mon, 16 Oct 2023) |
| EllapsedTime: 896.4 seconds |
| RetCode: 0 |
| Status: OK |
| CheckDir: musicatk.Rcheck |
| Warnings: 0 |
##############################################################################
##############################################################################
###
### Running command:
###
### /Library/Frameworks/R.framework/Resources/bin/R CMD check --install=check:musicatk.install-out.txt --library=/Library/Frameworks/R.framework/Resources/library --no-vignettes --timings musicatk_1.10.0.tar.gz
###
##############################################################################
##############################################################################
* using log directory ‘/Users/biocbuild/bbs-3.17-bioc/meat/musicatk.Rcheck’
* using R version 4.3.1 (2023-06-16)
* using platform: x86_64-apple-darwin20 (64-bit)
* R was compiled by
Apple clang version 14.0.3 (clang-1403.0.22.14.1)
GNU Fortran (GCC) 12.2.0
* running under: macOS Monterey 12.6.4
* using session charset: UTF-8
* using option ‘--no-vignettes’
* checking for file ‘musicatk/DESCRIPTION’ ... OK
* checking extension type ... Package
* this is package ‘musicatk’ version ‘1.10.0’
* package encoding: UTF-8
* checking package namespace information ... OK
* checking package dependencies ... OK
* checking if this is a source package ... OK
* checking if there is a namespace ... OK
* checking for hidden files and directories ... OK
* checking for portable file names ... OK
* checking for sufficient/correct file permissions ... OK
* checking whether package ‘musicatk’ can be installed ... OK
* checking installed package size ... OK
* checking package directory ... OK
* checking ‘build’ directory ... OK
* checking DESCRIPTION meta-information ... OK
* checking top-level files ... OK
* checking for left-over files ... OK
* checking index information ... OK
* checking package subdirectories ... OK
* checking R files for non-ASCII characters ... OK
* checking R files for syntax errors ... OK
* checking whether the package can be loaded ... OK
* checking whether the package can be loaded with stated dependencies ... OK
* checking whether the package can be unloaded cleanly ... OK
* checking whether the namespace can be loaded with stated dependencies ... OK
* checking whether the namespace can be unloaded cleanly ... OK
* checking dependencies in R code ... OK
* checking S3 generic/method consistency ... OK
* checking replacement functions ... OK
* checking foreign function calls ... OK
* checking R code for possible problems ... OK
* checking Rd files ... OK
* checking Rd metadata ... OK
* checking Rd cross-references ... OK
* checking for missing documentation entries ... OK
* checking for code/documentation mismatches ... OK
* checking Rd \usage sections ... OK
* checking Rd contents ... OK
* checking for unstated dependencies in examples ... OK
* checking contents of ‘data’ directory ... OK
* checking data for non-ASCII characters ... OK
* checking LazyData ... OK
* checking data for ASCII and uncompressed saves ... OK
* checking files in ‘vignettes’ ... OK
* checking examples ... OK
Examples with CPU (user + system) or elapsed time > 5s
user system elapsed
build_standard_table 17.411 1.432 24.295
extract_variants 9.781 0.113 12.217
plot_cluster 6.213 0.293 8.262
create_umap 6.168 0.101 7.609
compare_cosmic_v2 6.211 0.057 8.014
add_flank_to_variants 5.457 0.542 7.746
combine_count_tables 5.159 0.379 7.217
plot_umap 5.073 0.068 6.578
compare_results 4.162 0.022 5.347
combine_predict_grid 3.968 0.084 5.145
* checking for unstated dependencies in ‘tests’ ... OK
* checking tests ...
Running ‘testthat.R’
OK
* checking for unstated dependencies in vignettes ... OK
* checking package vignettes in ‘inst/doc’ ... OK
* checking running R code from vignettes ... SKIPPED
* checking re-building of vignette outputs ... SKIPPED
* checking PDF version of manual ... OK
* DONE
Status: OK
musicatk.Rcheck/00install.out
############################################################################## ############################################################################## ### ### Running command: ### ### /Library/Frameworks/R.framework/Resources/bin/R CMD INSTALL musicatk ### ############################################################################## ############################################################################## * installing to library ‘/Library/Frameworks/R.framework/Versions/4.3-x86_64/Resources/library’ * installing *source* package ‘musicatk’ ... ** using staged installation ** R ** data *** moving datasets to lazyload DB ** inst ** byte-compile and prepare package for lazy loading ** help *** installing help indices ** building package indices ** installing vignettes ** testing if installed package can be loaded from temporary location ** testing if installed package can be loaded from final location ** testing if installed package keeps a record of temporary installation path * DONE (musicatk)
musicatk.Rcheck/tests/testthat.Rout
R version 4.3.1 (2023-06-16) -- "Beagle Scouts"
Copyright (C) 2023 The R Foundation for Statistical Computing
Platform: x86_64-apple-darwin20 (64-bit)
R is free software and comes with ABSOLUTELY NO WARRANTY.
You are welcome to redistribute it under certain conditions.
Type 'license()' or 'licence()' for distribution details.
R is a collaborative project with many contributors.
Type 'contributors()' for more information and
'citation()' on how to cite R or R packages in publications.
Type 'demo()' for some demos, 'help()' for on-line help, or
'help.start()' for an HTML browser interface to help.
Type 'q()' to quit R.
> library("testthat")
> library("musicatk")
Loading required package: NMF
Loading required package: registry
Loading required package: rngtools
Loading required package: cluster
NMF - BioConductor layer [OK] | Shared memory capabilities [NO: synchronicity] | Cores 2/2
To enable shared memory capabilities, try: install.extras('
NMF
')
Attaching package: 'NMF'
The following object is masked from 'package:testthat':
compare
>
> test_check("musicatk")
[ FAIL 0 | WARN 5 | SKIP 0 | PASS 42 ]
[ FAIL 0 | WARN 5 | SKIP 0 | PASS 42 ]
>
> proc.time()
user system elapsed
37.841 1.947 50.852
musicatk.Rcheck/musicatk-Ex.timings
| name | user | system | elapsed | |
| add_flank_to_variants | 5.457 | 0.542 | 7.746 | |
| add_variant_type | 0.027 | 0.009 | 0.045 | |
| annotate_replication_strand | 0.379 | 0.022 | 0.515 | |
| annotate_transcript_strand | 3.303 | 0.142 | 4.441 | |
| annotate_variant_length | 0.021 | 0.006 | 0.031 | |
| annotate_variant_type | 0.004 | 0.003 | 0.011 | |
| auto_predict_grid | 3.612 | 0.121 | 4.575 | |
| build_custom_table | 1.935 | 0.031 | 2.399 | |
| build_standard_table | 17.411 | 1.432 | 24.295 | |
| built_tables | 0.003 | 0.004 | 0.007 | |
| cluster_exposure | 0.026 | 0.007 | 0.041 | |
| combine_count_tables | 5.159 | 0.379 | 7.217 | |
| combine_predict_grid | 3.968 | 0.084 | 5.145 | |
| compare_cosmic_v2 | 6.211 | 0.057 | 8.014 | |
| compare_cosmic_v3 | 3.578 | 0.019 | 4.588 | |
| compare_results | 4.162 | 0.022 | 5.347 | |
| cosmic_v2_subtype_map | 0.003 | 0.000 | 0.005 | |
| create_musica | 1.673 | 0.297 | 2.589 | |
| create_umap | 6.168 | 0.101 | 7.609 | |
| discover_signatures | 1.491 | 0.154 | 1.943 | |
| drop_annotation | 0.004 | 0.003 | 0.010 | |
| exposure_differential_analysis | 0.019 | 0.004 | 0.032 | |
| exposures | 0.007 | 0.007 | 0.017 | |
| extract_count_tables | 0.008 | 0.005 | 0.015 | |
| extract_variants | 9.781 | 0.113 | 12.217 | |
| extract_variants_from_maf | 0.227 | 0.006 | 0.293 | |
| extract_variants_from_maf_file | 0.203 | 0.003 | 0.258 | |
| extract_variants_from_matrix | 0.230 | 0.006 | 0.299 | |
| extract_variants_from_vcf | 1.508 | 0.037 | 1.972 | |
| extract_variants_from_vcf_file | 1.107 | 0.008 | 1.426 | |
| generate_result_grid | 0.294 | 0.005 | 0.381 | |
| get_musica | 0.013 | 0.007 | 0.023 | |
| k_select | 1.881 | 0.027 | 2.427 | |
| musicatk | 0.001 | 0.000 | 0.001 | |
| name_signatures | 0.004 | 0.003 | 0.007 | |
| pipe | 0.004 | 0.001 | 0.009 | |
| plot_cluster | 6.213 | 0.293 | 8.262 | |
| plot_differential_analysis | 0.416 | 0.007 | 0.533 | |
| plot_exposures | 0.427 | 0.007 | 0.546 | |
| plot_heatmap | 1.751 | 0.024 | 2.259 | |
| plot_sample_counts | 1.277 | 0.012 | 1.693 | |
| plot_sample_reconstruction_error | 1.781 | 0.013 | 2.313 | |
| plot_signatures | 1.796 | 0.017 | 2.305 | |
| plot_umap | 5.073 | 0.068 | 6.578 | |
| predict_exposure | 2.414 | 0.215 | 3.398 | |
| rc | 0.003 | 0.000 | 0.004 | |
| samp_annot | 0.013 | 0.008 | 0.029 | |
| sample_names | 0.005 | 0.003 | 0.012 | |
| select_genome | 0.000 | 0.000 | 0.001 | |
| signatures | 0.008 | 0.009 | 0.022 | |
| subset_musica_by_annotation | 0.009 | 0.004 | 0.016 | |
| subset_musica_by_counts | 0.014 | 0.005 | 0.025 | |
| subset_variant_by_type | 0.008 | 0.005 | 0.019 | |
| subset_variants_by_samples | 0.008 | 0.005 | 0.017 | |
| table_selected | 0.003 | 0.003 | 0.009 | |
| tables | 0.015 | 0.007 | 0.024 | |
| umap | 0.007 | 0.006 | 0.017 | |
| variants | 0.014 | 0.009 | 0.028 | |