| Back to Multiple platform build/check report for BioC 3.17: simplified long |
|
This page was generated on 2023-10-16 11:36:21 -0400 (Mon, 16 Oct 2023).
| Hostname | OS | Arch (*) | R version | Installed pkgs |
|---|---|---|---|---|
| nebbiolo1 | Linux (Ubuntu 22.04.2 LTS) | x86_64 | 4.3.1 (2023-06-16) -- "Beagle Scouts" | 4626 |
| palomino3 | Windows Server 2022 Datacenter | x64 | 4.3.1 (2023-06-16 ucrt) -- "Beagle Scouts" | 4379 |
| merida1 | macOS 12.6.4 Monterey | x86_64 | 4.3.1 (2023-06-16) -- "Beagle Scouts" | 4395 |
| Click on any hostname to see more info about the system (e.g. compilers) (*) as reported by 'uname -p', except on Windows and Mac OS X | ||||
| Package 1257/2230 | Hostname | OS / Arch | INSTALL | BUILD | CHECK | BUILD BIN | ||||||||
| mixOmics 6.24.0 (landing page) Max Bladen
| nebbiolo1 | Linux (Ubuntu 22.04.2 LTS) / x86_64 | OK | OK | ERROR | |||||||||
| palomino3 | Windows Server 2022 Datacenter / x64 | OK | OK | OK | OK | |||||||||
| merida1 | macOS 12.6.4 Monterey / x86_64 | OK | OK | OK | OK | |||||||||
| kjohnson2 | macOS 12.6.1 Monterey / arm64 | see weekly results here | ||||||||||||
|
To the developers/maintainers of the mixOmics package: - Allow up to 24 hours (and sometimes 48 hours) for your latest push to git@git.bioconductor.org:packages/mixOmics.git to reflect on this report. See Troubleshooting Build Report for more information. - Use the following Renviron settings to reproduce errors and warnings. - If 'R CMD check' started to fail recently on the Linux builder(s) over a missing dependency, add the missing dependency to 'Suggests:' in your DESCRIPTION file. See Renviron.bioc for more information. |
| Package: mixOmics |
| Version: 6.24.0 |
| Command: F:\biocbuild\bbs-3.17-bioc\R\bin\R.exe CMD check --no-multiarch --install=check:mixOmics.install-out.txt --library=F:\biocbuild\bbs-3.17-bioc\R\library --no-vignettes --timings mixOmics_6.24.0.tar.gz |
| StartedAt: 2023-10-16 04:12:51 -0400 (Mon, 16 Oct 2023) |
| EndedAt: 2023-10-16 04:18:57 -0400 (Mon, 16 Oct 2023) |
| EllapsedTime: 365.5 seconds |
| RetCode: 0 |
| Status: OK |
| CheckDir: mixOmics.Rcheck |
| Warnings: 0 |
##############################################################################
##############################################################################
###
### Running command:
###
### F:\biocbuild\bbs-3.17-bioc\R\bin\R.exe CMD check --no-multiarch --install=check:mixOmics.install-out.txt --library=F:\biocbuild\bbs-3.17-bioc\R\library --no-vignettes --timings mixOmics_6.24.0.tar.gz
###
##############################################################################
##############################################################################
* using log directory 'F:/biocbuild/bbs-3.17-bioc/meat/mixOmics.Rcheck'
* using R version 4.3.1 (2023-06-16 ucrt)
* using platform: x86_64-w64-mingw32 (64-bit)
* R was compiled by
gcc.exe (GCC) 12.2.0
GNU Fortran (GCC) 12.2.0
* running under: Windows Server 2022 x64 (build 20348)
* using session charset: UTF-8
* using option '--no-vignettes'
* checking for file 'mixOmics/DESCRIPTION' ... OK
* checking extension type ... Package
* this is package 'mixOmics' version '6.24.0'
* package encoding: UTF-8
* checking package namespace information ... OK
* checking package dependencies ... OK
* checking if this is a source package ... OK
* checking if there is a namespace ... OK
* checking for hidden files and directories ... OK
* checking for portable file names ... OK
* checking whether package 'mixOmics' can be installed ... OK
* checking installed package size ... NOTE
installed size is 8.1Mb
sub-directories of 1Mb or more:
R 1.4Mb
data 3.3Mb
doc 1.9Mb
* checking package directory ... OK
* checking DESCRIPTION meta-information ... OK
* checking top-level files ... OK
* checking for left-over files ... OK
* checking index information ... OK
* checking package subdirectories ... OK
* checking R files for non-ASCII characters ... OK
* checking R files for syntax errors ... OK
* checking whether the package can be loaded ... OK
* checking whether the package can be loaded with stated dependencies ... OK
* checking whether the package can be unloaded cleanly ... OK
* checking whether the namespace can be loaded with stated dependencies ... OK
* checking whether the namespace can be unloaded cleanly ... OK
* checking startup messages can be suppressed ... OK
* checking dependencies in R code ... OK
* checking S3 generic/method consistency ... OK
* checking replacement functions ... OK
* checking foreign function calls ... OK
* checking R code for possible problems ... OK
* checking Rd files ... OK
* checking Rd metadata ... OK
* checking Rd cross-references ... OK
* checking for missing documentation entries ... OK
* checking for code/documentation mismatches ... OK
* checking Rd \usage sections ... OK
* checking Rd contents ... OK
* checking for unstated dependencies in examples ... OK
* checking contents of 'data' directory ... OK
* checking data for non-ASCII characters ... OK
* checking data for ASCII and uncompressed saves ... OK
* checking installed files from 'inst/doc' ... OK
* checking files in 'vignettes' ... OK
* checking examples ... OK
Examples with CPU (user + system) or elapsed time > 5s
user system elapsed
biplot 11.33 0.16 11.48
background.predict 7.67 0.98 8.66
circosPlot 7.41 0.52 7.92
block.splsda 6.25 0.13 6.37
block.spls 5.05 0.14 5.19
* checking for unstated dependencies in 'tests' ... OK
* checking tests ...
Running 'testthat.R'
OK
* checking for unstated dependencies in vignettes ... OK
* checking package vignettes in 'inst/doc' ... OK
* checking running R code from vignettes ... SKIPPED
* checking re-building of vignette outputs ... SKIPPED
* checking PDF version of manual ... OK
* DONE
Status: 1 NOTE
See
'F:/biocbuild/bbs-3.17-bioc/meat/mixOmics.Rcheck/00check.log'
for details.
mixOmics.Rcheck/00install.out
############################################################################## ############################################################################## ### ### Running command: ### ### F:\biocbuild\bbs-3.17-bioc\R\bin\R.exe CMD INSTALL mixOmics ### ############################################################################## ############################################################################## * installing to library 'F:/biocbuild/bbs-3.17-bioc/R/library' * installing *source* package 'mixOmics' ... ** using staged installation ** R ** data ** inst ** byte-compile and prepare package for lazy loading ** help *** installing help indices ** building package indices ** installing vignettes ** testing if installed package can be loaded from temporary location ** testing if installed package can be loaded from final location ** testing if installed package keeps a record of temporary installation path * DONE (mixOmics)
mixOmics.Rcheck/tests/testthat.Rout
R version 4.3.1 (2023-06-16 ucrt) -- "Beagle Scouts"
Copyright (C) 2023 The R Foundation for Statistical Computing
Platform: x86_64-w64-mingw32/x64 (64-bit)
R is free software and comes with ABSOLUTELY NO WARRANTY.
You are welcome to redistribute it under certain conditions.
Type 'license()' or 'licence()' for distribution details.
R is a collaborative project with many contributors.
Type 'contributors()' for more information and
'citation()' on how to cite R or R packages in publications.
Type 'demo()' for some demos, 'help()' for on-line help, or
'help.start()' for an HTML browser interface to help.
Type 'q()' to quit R.
> library(testthat)
> library(mixOmics)
Loading required package: MASS
Loading required package: lattice
Loading required package: ggplot2
Loaded mixOmics 6.24.0
Thank you for using mixOmics!
Tutorials: http://mixomics.org
Bookdown vignette: https://mixomicsteam.github.io/Bookdown
Questions, issues: Follow the prompts at http://mixomics.org/contact-us
Cite us: citation('mixOmics')
>
> test_check("mixOmics")
[ FAIL 0 | WARN 2 | SKIP 0 | PASS 236 ]
[ FAIL 0 | WARN 2 | SKIP 0 | PASS 236 ]
Warning messages:
1: closing unused connection 6 (<-palomino3:11149)
2: closing unused connection 5 (<-palomino3:11149)
>
> proc.time()
user system elapsed
96.81 3.64 137.39
mixOmics.Rcheck/mixOmics-Ex.timings
| name | user | system | elapsed | |
| S3methods-print | 0.01 | 0.00 | 0.01 | |
| auroc | 0.83 | 0.10 | 0.93 | |
| background.predict | 7.67 | 0.98 | 8.66 | |
| biplot | 11.33 | 0.16 | 11.48 | |
| block.pls | 0.56 | 0.04 | 0.61 | |
| block.plsda | 0.73 | 0.02 | 0.75 | |
| block.spls | 5.05 | 0.14 | 5.19 | |
| block.splsda | 6.25 | 0.13 | 6.37 | |
| cim | 0.03 | 0.01 | 0.05 | |
| cimDiablo | 0.22 | 0.03 | 0.25 | |
| circosPlot | 7.41 | 0.52 | 7.92 | |
| colors | 0.01 | 0.00 | 0.02 | |
| explained_variance | 0.06 | 0.03 | 0.10 | |
| get.confusion_matrix | 0.14 | 0.00 | 0.14 | |
| image.tune.rcc | 2.02 | 0.02 | 2.03 | |
| imgCor | 0.11 | 0.00 | 0.16 | |
| impute.nipals | 0.01 | 0.02 | 0.03 | |
| ipca | 0.75 | 0.00 | 0.75 | |
| logratio-transformations | 0.10 | 0.00 | 0.09 | |
| map | 0.01 | 0.00 | 0.02 | |
| mat.rank | 0 | 0 | 0 | |
| mint.block.pls | 0.13 | 0.00 | 0.12 | |
| mint.block.plsda | 0.11 | 0.01 | 0.13 | |
| mint.block.spls | 0.12 | 0.02 | 0.14 | |
| mint.block.splsda | 0.14 | 0.00 | 0.14 | |
| mint.pca | 0.46 | 0.03 | 0.49 | |
| mint.pls | 0.58 | 0.03 | 0.61 | |
| mint.plsda | 0.62 | 0.02 | 0.64 | |
| mint.spls | 0.48 | 0.03 | 0.51 | |
| mint.splsda | 0.66 | 0.01 | 0.67 | |
| mixOmics | 0.58 | 0.02 | 0.60 | |
| nearZeroVar | 0.67 | 0.03 | 0.70 | |
| network | 0.02 | 0.00 | 0.02 | |
| pca | 4.39 | 0.12 | 4.51 | |
| perf | 2.28 | 0.10 | 2.39 | |
| plot.rcc | 0.03 | 0.00 | 0.03 | |
| plot.tune | 0 | 0 | 0 | |
| plotArrow | 3.61 | 0.12 | 3.74 | |
| plotDiablo | 0.16 | 0.00 | 0.16 | |
| plotIndiv | 0.26 | 0.00 | 0.27 | |
| plotLoadings | 0.13 | 0.00 | 0.12 | |
| plotMarkers | 0 | 0 | 0 | |
| plotVar | 0.54 | 0.01 | 0.56 | |
| pls | 0.02 | 0.00 | 0.02 | |
| plsda | 0.31 | 0.04 | 0.34 | |
| predict | 0.14 | 0.03 | 0.18 | |
| rcc | 0 | 0 | 0 | |
| selectVar | 0.38 | 0.03 | 0.40 | |
| sipca | 0.40 | 0.01 | 0.42 | |
| spca | 3.05 | 0.11 | 3.16 | |
| spls | 0.23 | 0.02 | 0.25 | |
| splsda | 0.43 | 0.01 | 0.44 | |
| study_split | 0.01 | 0.00 | 0.01 | |
| summary | 0.03 | 0.00 | 0.03 | |
| tune | 4.28 | 0.13 | 4.41 | |
| tune.block.splsda | 0 | 0 | 0 | |
| tune.mint.splsda | 2.60 | 0.11 | 2.70 | |
| tune.pca | 0.15 | 0.00 | 0.27 | |
| tune.rcc | 1.97 | 0.03 | 2.00 | |
| tune.spca | 0.58 | 0.02 | 0.61 | |
| tune.spls | 0 | 0 | 0 | |
| tune.splsda | 4.19 | 0.14 | 4.33 | |
| tune.splslevel | 0.84 | 0.03 | 0.87 | |
| unmap | 0 | 0 | 0 | |
| vip | 0.00 | 0.01 | 0.02 | |
| withinVariation | 0.80 | 0.00 | 0.79 | |
| wrapper.rgcca | 0.06 | 0.00 | 0.07 | |
| wrapper.sgcca | 0.10 | 0.02 | 0.11 | |