| Back to Multiple platform build/check report for BioC 3.17: simplified long |
|
This page was generated on 2023-10-16 11:35:30 -0400 (Mon, 16 Oct 2023).
| Hostname | OS | Arch (*) | R version | Installed pkgs |
|---|---|---|---|---|
| nebbiolo1 | Linux (Ubuntu 22.04.2 LTS) | x86_64 | 4.3.1 (2023-06-16) -- "Beagle Scouts" | 4626 |
| palomino3 | Windows Server 2022 Datacenter | x64 | 4.3.1 (2023-06-16 ucrt) -- "Beagle Scouts" | 4379 |
| merida1 | macOS 12.6.4 Monterey | x86_64 | 4.3.1 (2023-06-16) -- "Beagle Scouts" | 4395 |
| Click on any hostname to see more info about the system (e.g. compilers) (*) as reported by 'uname -p', except on Windows and Mac OS X | ||||
| Package 1184/2230 | Hostname | OS / Arch | INSTALL | BUILD | CHECK | BUILD BIN | ||||||||
| metaseqR2 1.12.0 (landing page) Panagiotis Moulos
| nebbiolo1 | Linux (Ubuntu 22.04.2 LTS) / x86_64 | OK | OK | OK | |||||||||
| palomino3 | Windows Server 2022 Datacenter / x64 | OK | OK | OK | OK | |||||||||
| merida1 | macOS 12.6.4 Monterey / x86_64 | OK | OK | OK | OK | |||||||||
| kjohnson2 | macOS 12.6.1 Monterey / arm64 | see weekly results here | ||||||||||||
|
To the developers/maintainers of the metaseqR2 package: - Allow up to 24 hours (and sometimes 48 hours) for your latest push to git@git.bioconductor.org:packages/metaseqR2.git to reflect on this report. See Troubleshooting Build Report for more information. - Use the following Renviron settings to reproduce errors and warnings. - If 'R CMD check' started to fail recently on the Linux builder(s) over a missing dependency, add the missing dependency to 'Suggests:' in your DESCRIPTION file. See Renviron.bioc for more information. |
| Package: metaseqR2 |
| Version: 1.12.0 |
| Command: /home/biocbuild/bbs-3.17-bioc/R/bin/R CMD check --install=check:metaseqR2.install-out.txt --library=/home/biocbuild/bbs-3.17-bioc/R/site-library --timings metaseqR2_1.12.0.tar.gz |
| StartedAt: 2023-10-15 22:39:49 -0400 (Sun, 15 Oct 2023) |
| EndedAt: 2023-10-15 22:55:52 -0400 (Sun, 15 Oct 2023) |
| EllapsedTime: 963.1 seconds |
| RetCode: 0 |
| Status: OK |
| CheckDir: metaseqR2.Rcheck |
| Warnings: 0 |
##############################################################################
##############################################################################
###
### Running command:
###
### /home/biocbuild/bbs-3.17-bioc/R/bin/R CMD check --install=check:metaseqR2.install-out.txt --library=/home/biocbuild/bbs-3.17-bioc/R/site-library --timings metaseqR2_1.12.0.tar.gz
###
##############################################################################
##############################################################################
* using log directory ‘/home/biocbuild/bbs-3.17-bioc/meat/metaseqR2.Rcheck’
* using R version 4.3.1 (2023-06-16)
* using platform: x86_64-pc-linux-gnu (64-bit)
* R was compiled by
gcc (Ubuntu 11.3.0-1ubuntu1~22.04.1) 11.3.0
GNU Fortran (Ubuntu 11.3.0-1ubuntu1~22.04.1) 11.3.0
* running under: Ubuntu 22.04.3 LTS
* using session charset: UTF-8
* checking for file ‘metaseqR2/DESCRIPTION’ ... OK
* checking extension type ... Package
* this is package ‘metaseqR2’ version ‘1.12.0’
* package encoding: UTF-8
* checking package namespace information ... OK
* checking package dependencies ... OK
* checking if this is a source package ... OK
* checking if there is a namespace ... OK
* checking for hidden files and directories ... OK
* checking for portable file names ... OK
* checking for sufficient/correct file permissions ... OK
* checking whether package ‘metaseqR2’ can be installed ... OK
* used C compiler: ‘gcc (Ubuntu 11.4.0-1ubuntu1~22.04) 11.4.0’
* checking installed package size ... OK
* checking package directory ... OK
* checking ‘build’ directory ... OK
* checking DESCRIPTION meta-information ... OK
* checking top-level files ... OK
* checking for left-over files ... OK
* checking index information ... OK
* checking package subdirectories ... OK
* checking R files for non-ASCII characters ... OK
* checking R files for syntax errors ... OK
* checking whether the package can be loaded ... OK
* checking whether the package can be loaded with stated dependencies ... OK
* checking whether the package can be unloaded cleanly ... OK
* checking whether the namespace can be loaded with stated dependencies ... OK
* checking whether the namespace can be unloaded cleanly ... OK
* checking loading without being on the library search path ... OK
* checking dependencies in R code ... OK
* checking S3 generic/method consistency ... OK
* checking replacement functions ... OK
* checking foreign function calls ... OK
* checking R code for possible problems ... OK
* checking Rd files ... OK
* checking Rd metadata ... OK
* checking Rd cross-references ... OK
* checking for missing documentation entries ... OK
* checking for code/documentation mismatches ... OK
* checking Rd \usage sections ... OK
* checking Rd contents ... OK
* checking for unstated dependencies in examples ... OK
* checking contents of ‘data’ directory ... OK
* checking data for non-ASCII characters ... OK
* checking data for ASCII and uncompressed saves ... OK
* checking line endings in C/C++/Fortran sources/headers ... OK
* checking compiled code ... NOTE
Note: information on .o files is not available
* checking files in ‘vignettes’ ... OK
* checking examples ... OK
Examples with CPU (user + system) or elapsed time > 5s
user system elapsed
read2count 9.376 2.017 14.236
statNoiseq 6.645 0.504 7.149
metaseqr2 5.141 0.660 13.005
getAnnotation 1.095 0.040 5.154
* checking for unstated dependencies in ‘tests’ ... OK
* checking tests ...
Running ‘runTests.R’
OK
* checking for unstated dependencies in vignettes ... OK
* checking package vignettes in ‘inst/doc’ ... OK
* checking running R code from vignettes ...
‘metaseqr2-annotation.Rmd’ using ‘UTF-8’... OK
‘metaseqr2-statistics.Rmd’ using ‘UTF-8’... OK
NONE
* checking re-building of vignette outputs ... OK
* checking PDF version of manual ... OK
* DONE
Status: 1 NOTE
See
‘/home/biocbuild/bbs-3.17-bioc/meat/metaseqR2.Rcheck/00check.log’
for details.
metaseqR2.Rcheck/00install.out
##############################################################################
##############################################################################
###
### Running command:
###
### /home/biocbuild/bbs-3.17-bioc/R/bin/R CMD INSTALL metaseqR2
###
##############################################################################
##############################################################################
* installing to library ‘/home/biocbuild/bbs-3.17-bioc/R/site-library’
* installing *source* package ‘metaseqR2’ ...
** using staged installation
** libs
using C compiler: ‘gcc (Ubuntu 11.4.0-1ubuntu1~22.04) 11.4.0’
gcc -I"/home/biocbuild/bbs-3.17-bioc/R/include" -DNDEBUG -I/usr/local/include -fpic -g -O2 -Wall -c pval.c -o pval.o
pval.c: In function ‘add_from_both_sides’:
pval.c:26:11: warning: unused variable ‘esttotalperlength’ [-Wunused-variable]
26 | double esttotalperlength = total/2;
| ^~~~~~~~~~~~~~~~~
gcc -shared -L/home/biocbuild/bbs-3.17-bioc/R/lib -L/usr/local/lib -o metaseqR2.so pval.o -L/home/biocbuild/bbs-3.17-bioc/R/lib -lR
installing to /home/biocbuild/bbs-3.17-bioc/R/site-library/00LOCK-metaseqR2/00new/metaseqR2/libs
** R
** data
** inst
** byte-compile and prepare package for lazy loading
** help
*** installing help indices
** building package indices
** installing vignettes
** testing if installed package can be loaded from temporary location
** checking absolute paths in shared objects and dynamic libraries
** testing if installed package can be loaded from final location
** testing if installed package keeps a record of temporary installation path
* DONE (metaseqR2)
metaseqR2.Rcheck/tests/runTests.Rout
R version 4.3.1 (2023-06-16) -- "Beagle Scouts"
Copyright (C) 2023 The R Foundation for Statistical Computing
Platform: x86_64-pc-linux-gnu (64-bit)
R is free software and comes with ABSOLUTELY NO WARRANTY.
You are welcome to redistribute it under certain conditions.
Type 'license()' or 'licence()' for distribution details.
R is a collaborative project with many contributors.
Type 'contributors()' for more information and
'citation()' on how to cite R or R packages in publications.
Type 'demo()' for some demos, 'help()' for on-line help, or
'help.start()' for an HTML browser interface to help.
Type 'q()' to quit R.
> BiocGenerics:::testPackage("metaseqR2")
Attaching package: 'BiocGenerics'
The following objects are masked from 'package:stats':
IQR, mad, sd, var, xtabs
The following objects are masked from 'package:base':
Filter, Find, Map, Position, Reduce, anyDuplicated, aperm, append,
as.data.frame, basename, cbind, colnames, dirname, do.call,
duplicated, eval, evalq, get, grep, grepl, intersect, is.unsorted,
lapply, mapply, match, mget, order, paste, pmax, pmax.int, pmin,
pmin.int, rank, rbind, rownames, sapply, setdiff, sort, table,
tapply, union, unique, unsplit, which.max, which.min
Attaching package: 'S4Vectors'
The following object is masked from 'package:utils':
findMatches
The following objects are masked from 'package:base':
I, expand.grid, unname
Attaching package: 'MatrixGenerics'
The following objects are masked from 'package:matrixStats':
colAlls, colAnyNAs, colAnys, colAvgsPerRowSet, colCollapse,
colCounts, colCummaxs, colCummins, colCumprods, colCumsums,
colDiffs, colIQRDiffs, colIQRs, colLogSumExps, colMadDiffs,
colMads, colMaxs, colMeans2, colMedians, colMins, colOrderStats,
colProds, colQuantiles, colRanges, colRanks, colSdDiffs, colSds,
colSums2, colTabulates, colVarDiffs, colVars, colWeightedMads,
colWeightedMeans, colWeightedMedians, colWeightedSds,
colWeightedVars, rowAlls, rowAnyNAs, rowAnys, rowAvgsPerColSet,
rowCollapse, rowCounts, rowCummaxs, rowCummins, rowCumprods,
rowCumsums, rowDiffs, rowIQRDiffs, rowIQRs, rowLogSumExps,
rowMadDiffs, rowMads, rowMaxs, rowMeans2, rowMedians, rowMins,
rowOrderStats, rowProds, rowQuantiles, rowRanges, rowRanks,
rowSdDiffs, rowSds, rowSums2, rowTabulates, rowVarDiffs, rowVars,
rowWeightedMads, rowWeightedMeans, rowWeightedMedians,
rowWeightedSds, rowWeightedVars
Welcome to Bioconductor
Vignettes contain introductory material; view with
'browseVignettes()'. To cite Bioconductor, see
'citation("Biobase")', and for packages 'citation("pkgname")'.
Attaching package: 'Biobase'
The following object is masked from 'package:MatrixGenerics':
rowMedians
The following objects are masked from 'package:matrixStats':
anyMissing, rowMedians
Attaching package: 'limma'
The following object is masked from 'package:DESeq2':
plotMA
The following object is masked from 'package:BiocGenerics':
plotMA
locfit 1.5-9.8 2023-06-11
Attaching package: 'metaseqR2'
The following object is masked from 'package:limma':
readTargets
Downsampling counts...
Estimating initial dispersion population...
Estimating dispersions using log-likelihood...
Running simulations... This procedure requires time... Please wait...Using Ensembl host https://nov2020.archive.ensembl.org
2023-10-15 22:47:47: Data processing started...
Read counts file: imported custom data frame
Conditions: G1, G2
Samples to include: G1_rep1, G1_rep2, G1_rep3, G2_rep1, G2_rep2, G2_rep3
Samples to exclude: none
Requested contrasts: G1_vs_G2
Annotation: embedded
Organism: mm10
Reference source: ensembl
Count type: gene
Analysis preset: all_basic
Transcriptional level: gene
Exon filters: none applied
Gene filters: none applied
Filter application: postnorm
Normalization algorithm: edaseq
Normalization arguments:
within.which: loess
between.which: full
Statistical algorithm(s): edger, limma
Statistical arguments:
edger: classic, 5, 10, movingave, NULL, grid, 11, c(-6, 6), NULL, CoxReid, 10000, NULL, auto, NULL, NULL, NULL, NULL, 0.125, NULL, auto, chisq, TRUE, FALSE, c(0.05, 0.1)
limma: none
Meta-analysis method: simes
Multiple testing correction: BH
Logarithmic transformation offset: 1
Analysis preset: all_basic
Quality control plots:
Figure format: png
Output directory: /tmp/RtmpHxVVdu
Output data: annotation, p_value, adj_p_value, meta_p_value, adj_meta_p_value, fold_change
Output scale(s): natural, log2
Output values: normalized
Loading gene annotation...
Saving gene model to /tmp/RtmpHxVVdu/data/gene_model.RData
Removing genes with zero counts in all samples...
Normalizing with: edaseq
Running statistical tests with: edger
Contrast: G1_vs_G2
Running statistical tests with: limma
Contrast: G1_vs_G2
Performing meta-analysis with simes
Building output files...
Contrast: G1_vs_G2
Adding non-filtered data...
binding annotation...
binding p-values...
binding FDRs...
binding meta p-values...
binding adjusted meta p-values...
binding natural normalized fold changes...
binding log2 normalized fold changes...
Writing output...
2023-10-15 22:47:48: Data processing finished!
Total processing time: 00 seconds
Estimating AUFC weights... Please wait...
Processing edger
Processing limma
Retrieving edger
Retrieving limma
2023-10-15 22:47:50: Data processing started...
Read counts file: imported custom data frame
Conditions: e14.5, adult_8_weeks
Samples to include: e14.5_1, e14.5_2, a8w_1, a8w_2
Samples to exclude: none
Requested contrasts: adult_8_weeks_vs_e14.5
Library sizes:
e14.5_1: 3102907
e14.5_2: 2067905
a8w_1: 3742059
a8w_2: 4403954
Annotation: embedded
Organism: mm9
Reference source: ensembl
Count type: gene
Analysis preset: medium_basic
Transcriptional level: gene
Exon filters: minActiveExons
minActiveExons:
exonsPerGene: 5
minExons: 2
frac: 0.2
Gene filters: length, avgReads, expression, biotype
length:
length: 500
avgReads:
averagePerBp: 100
quantile: 0.25
expression:
median: TRUE
mean: FALSE
quantile: NA
known: NA
custom: NA
biotype:
pseudogene: FALSE
snRNA: FALSE
protein_coding: FALSE
antisense: FALSE
miRNA: FALSE
lincRNA: FALSE
snoRNA: FALSE
processed_transcript: FALSE
misc_RNA: FALSE
rRNA: TRUE
sense_overlapping: FALSE
sense_intronic: FALSE
polymorphic_pseudogene: FALSE
non_coding: FALSE
three_prime_overlapping_ncrna: FALSE
IG_C_gene: FALSE
IG_J_gene: FALSE
IG_D_gene: FALSE
IG_V_gene: FALSE
ncrna_host: FALSE
Filter application: postnorm
Normalization algorithm: edger
Normalization arguments:
method: TMM
logratioTrim: 0.3
sumTrim: 0.05
doWeighting: TRUE
Acutoff: -1e+10
p: 0.75
Statistical algorithm(s): edger, limma
Statistical arguments:
edger: classic, 5, 10, movingave, NULL, grid, 11, c(-6, 6), NULL, CoxReid, 10000, NULL, auto, NULL, NULL, NULL, NULL, 0.125, NULL, auto, chisq, TRUE, FALSE, c(0.05, 0.1)
limma: none
Meta-analysis method: simes
Multiple testing correction: BH
p-value threshold: 0.05
Logarithmic transformation offset: 1
Analysis preset: medium_basic
Quality control plots: mds
Figure format: png
Output directory: /tmp/RtmpHxVVdu
Output data: annotation, p_value, adj_p_value, meta_p_value, adj_meta_p_value, fold_change
Output scale(s): natural, log2
Output values: normalized
Loading gene annotation...
Saving gene model to /tmp/RtmpHxVVdu/data/gene_model.RData
Removing genes with zero counts in all samples...
Normalizing with: edger
Applying gene filter length...
Threshold below which ignored: 500
Applying gene filter avgReads...
Threshold below which ignored: 0.0659629215631332
Applying gene filter expression...
Threshold below which ignored: 68
Applying gene filter biotype...
Biotypes ignored: rRNA
2106 genes filtered out
1681 genes remain after filtering
Running statistical tests with: edger
Contrast: adult_8_weeks_vs_e14.5
Contrast adult_8_weeks_vs_e14.5: found 906 genes
Running statistical tests with: limma
Contrast: adult_8_weeks_vs_e14.5
Contrast adult_8_weeks_vs_e14.5: found 911 genes
Performing meta-analysis with simes
Building output files...
Contrast: adult_8_weeks_vs_e14.5
Adding non-filtered data...
binding annotation...
binding p-values...
binding FDRs...
binding meta p-values...
binding adjusted meta p-values...
binding natural normalized fold changes...
binding log2 normalized fold changes...
Writing output...
Adding filtered data...
binding annotation...
binding p-values...
binding FDRs...
binding meta p-values...
binding adjusted meta p-values...
binding natural normalized fold changes...
binding log2 normalized fold changes...
Writing output...
Adding report data...
binding annotation...
binding meta p-values...
binding adjusted meta p-values...
binding log2 normalized fold changes...
binding normalized mean counts...
binding normalized mean counts...
Creating quality control graphs...
Plotting in png format...
Plotting mds...
Importing mds...
Writing plot database in /tmp/RtmpHxVVdu/data/reportdb.js
Creating HTML report...
Compressing figures... adding: tmp/RtmpHxVVdu/plots/qc/mds.png (deflated 52%)
Downloading required JavaScript libraries...trying URL 'https://raw.github.com/HubSpot/pace/v1.0.0/pace.min.js'
Content type 'text/plain; charset=utf-8' length 12363 bytes (12 KB)
==================================================
downloaded 12 KB
trying URL 'https://code.highcharts.com/highcharts.js'
downloaded 281 KB
trying URL 'https://code.highcharts.com/highcharts-more.js'
downloaded 93 KB
trying URL 'https://code.highcharts.com/modules/exporting.js'
downloaded 19 KB
trying URL 'https://code.highcharts.com/modules/offline-exporting.js'
downloaded 9659 bytes
trying URL 'https://code.highcharts.com/modules/export-data.js'
downloaded 14 KB
trying URL 'http://jvenn.toulouse.inra.fr/app/js/canvas2svg.js'
Content type 'text/javascript' length 35122 bytes (34 KB)
==================================================
downloaded 34 KB
trying URL 'http://jvenn.toulouse.inra.fr/app/js/jvenn.min.js'
Content type 'text/javascript' length 100524 bytes (98 KB)
==================================================
downloaded 98 KB
trying URL 'https://unpkg.com/dexie@2.0.4/dist/dexie.min.js'
downloaded 55 KB
processing file: metaseqr2_report.Rmd
output file: metaseqr2_report.knit.md
/usr/bin/pandoc +RTS -K512m -RTS metaseqr2_report.knit.md --to html4 --from markdown+autolink_bare_uris+tex_math_single_backslash --output /tmp/RtmpHxVVdu/index.html --lua-filter /home/biocbuild/bbs-3.17-bioc/R/site-library/rmarkdown/rmarkdown/lua/pagebreak.lua --lua-filter /home/biocbuild/bbs-3.17-bioc/R/site-library/rmarkdown/rmarkdown/lua/latex-div.lua +RTS -K2048m -RTS --variable 'material:true' --variable 'lightbox:true' --variable 'thumbnails:true' --variable 'gallery:true' --variable 'cards:true' --variable bs3=TRUE --standalone --section-divs --table-of-contents --toc-depth 1 --template /home/biocbuild/bbs-3.17-bioc/R/site-library/rmdformats/templates/material/material.html --highlight-style kate --variable theme=bootstrap --include-in-header /tmp/RtmpHxVVdu/rmarkdown-str14ae516d24c206.html
Output created: /tmp/RtmpHxVVdu/index.html
2023-10-15 22:48:00: Data processing finished!
Total processing time: 09 seconds
RUNIT TEST PROTOCOL -- Sun Oct 15 22:48:00 2023
***********************************************
Number of test functions: 2
Number of errors: 0
Number of failures: 0
1 Test Suite :
metaseqR2 RUnit Tests - 2 test functions, 0 errors, 0 failures
Number of test functions: 2
Number of errors: 0
Number of failures: 0
There were 50 or more warnings (use warnings() to see the first 50)
>
> proc.time()
user system elapsed
25.856 2.014 35.352
metaseqR2.Rcheck/metaseqR2-Ex.timings
| name | user | system | elapsed | |
| buildAnnotationDatabase | 0.001 | 0.000 | 0.000 | |
| buildCustomAnnotation | 2.970 | 0.224 | 3.194 | |
| combineBonferroni | 0 | 0 | 0 | |
| combineHarmonic | 0.001 | 0.000 | 0.002 | |
| combineMaxp | 0.000 | 0.000 | 0.001 | |
| combineMinp | 0.000 | 0.000 | 0.001 | |
| combineSimes | 0.001 | 0.000 | 0.001 | |
| combineWeight | 0.001 | 0.000 | 0.000 | |
| createSignalTracks | 2.151 | 0.097 | 2.291 | |
| diagplotAvgFtd | 0.043 | 0.004 | 0.047 | |
| diagplotBoxplot | 0.634 | 0.004 | 0.638 | |
| diagplotCor | 0.152 | 0.015 | 0.168 | |
| diagplotDeHeatmap | 0.825 | 0.004 | 0.829 | |
| diagplotEdaseq | 0.414 | 0.028 | 0.442 | |
| diagplotFiltered | 0.025 | 0.000 | 0.025 | |
| diagplotFtd | 0.016 | 0.000 | 0.016 | |
| diagplotMds | 0.237 | 0.000 | 0.237 | |
| diagplotNoiseq | 0.439 | 0.012 | 0.451 | |
| diagplotPairs | 0.852 | 0.020 | 0.872 | |
| diagplotRoc | 0.02 | 0.00 | 0.02 | |
| diagplotVenn | 0.162 | 0.016 | 0.178 | |
| diagplotVolcano | 2.543 | 0.144 | 2.687 | |
| downsampleCounts | 0.202 | 0.004 | 0.206 | |
| estimateAufcWeights | 0.946 | 0.107 | 1.196 | |
| estimateSimParams | 0.712 | 0.032 | 0.761 | |
| getAnnotation | 1.095 | 0.040 | 5.154 | |
| getDefaults | 0.000 | 0.000 | 0.001 | |
| getInstalledAnnotations | 0.001 | 0.000 | 0.001 | |
| getWeights | 0 | 0 | 0 | |
| importCustomAnnotation | 0.779 | 0.112 | 0.891 | |
| loadAnnotation | 0.000 | 0.001 | 0.002 | |
| makeSimDataSd | 0.838 | 0.144 | 1.021 | |
| makeSimDataTcc | 0.002 | 0.000 | 0.001 | |
| metaTest | 0.006 | 0.004 | 0.032 | |
| metaseqr2 | 5.141 | 0.660 | 13.005 | |
| metaseqrPlot | 0.509 | 0.020 | 0.529 | |
| normalizeAbsseq | 0.607 | 0.040 | 0.647 | |
| normalizeDeseq | 0.146 | 0.004 | 0.150 | |
| normalizeDeseq2 | 0.527 | 0.024 | 0.552 | |
| normalizeDss | 0.230 | 0.012 | 0.242 | |
| normalizeEdaseq | 0.374 | 0.024 | 0.398 | |
| normalizeEdger | 0.140 | 0.020 | 0.161 | |
| normalizeNbpseq | 0.102 | 0.016 | 0.118 | |
| normalizeNoiseq | 0.151 | 0.008 | 0.159 | |
| read2count | 9.376 | 2.017 | 14.236 | |
| readTargets | 0.010 | 0.015 | 0.026 | |
| statAbsseq | 1.235 | 0.120 | 1.355 | |
| statBayseq | 0.578 | 0.108 | 0.685 | |
| statDeseq | 0.997 | 0.048 | 1.045 | |
| statDeseq2 | 3.271 | 0.312 | 3.583 | |
| statDss | 0.699 | 0.076 | 0.774 | |
| statEdger | 0.505 | 0.012 | 0.517 | |
| statLimma | 0.281 | 0.008 | 0.288 | |
| statNbpseq | 0.961 | 0.040 | 1.001 | |
| statNoiseq | 6.645 | 0.504 | 7.149 | |