| Back to Multiple platform build/check report for BioC 3.17: simplified long |
|
This page was generated on 2023-10-16 11:37:04 -0400 (Mon, 16 Oct 2023).
| Hostname | OS | Arch (*) | R version | Installed pkgs |
|---|---|---|---|---|
| nebbiolo1 | Linux (Ubuntu 22.04.2 LTS) | x86_64 | 4.3.1 (2023-06-16) -- "Beagle Scouts" | 4626 |
| palomino3 | Windows Server 2022 Datacenter | x64 | 4.3.1 (2023-06-16 ucrt) -- "Beagle Scouts" | 4379 |
| merida1 | macOS 12.6.4 Monterey | x86_64 | 4.3.1 (2023-06-16) -- "Beagle Scouts" | 4395 |
| Click on any hostname to see more info about the system (e.g. compilers) (*) as reported by 'uname -p', except on Windows and Mac OS X | ||||
| Package 778/2230 | Hostname | OS / Arch | INSTALL | BUILD | CHECK | BUILD BIN | ||||||||
| genefu 2.32.0 (landing page) Benjamin Haibe-Kains
| nebbiolo1 | Linux (Ubuntu 22.04.2 LTS) / x86_64 | OK | OK | OK | |||||||||
| palomino3 | Windows Server 2022 Datacenter / x64 | OK | OK | OK | OK | |||||||||
| merida1 | macOS 12.6.4 Monterey / x86_64 | OK | OK | OK | OK | |||||||||
| kjohnson2 | macOS 12.6.1 Monterey / arm64 | see weekly results here | ||||||||||||
|
To the developers/maintainers of the genefu package: - Allow up to 24 hours (and sometimes 48 hours) for your latest push to git@git.bioconductor.org:packages/genefu.git to reflect on this report. See Troubleshooting Build Report for more information. - Use the following Renviron settings to reproduce errors and warnings. - If 'R CMD check' started to fail recently on the Linux builder(s) over a missing dependency, add the missing dependency to 'Suggests:' in your DESCRIPTION file. See Renviron.bioc for more information. |
| Package: genefu |
| Version: 2.32.0 |
| Command: /Library/Frameworks/R.framework/Resources/bin/R CMD check --install=check:genefu.install-out.txt --library=/Library/Frameworks/R.framework/Resources/library --no-vignettes --timings genefu_2.32.0.tar.gz |
| StartedAt: 2023-10-16 01:57:42 -0400 (Mon, 16 Oct 2023) |
| EndedAt: 2023-10-16 02:03:42 -0400 (Mon, 16 Oct 2023) |
| EllapsedTime: 360.8 seconds |
| RetCode: 0 |
| Status: OK |
| CheckDir: genefu.Rcheck |
| Warnings: 0 |
##############################################################################
##############################################################################
###
### Running command:
###
### /Library/Frameworks/R.framework/Resources/bin/R CMD check --install=check:genefu.install-out.txt --library=/Library/Frameworks/R.framework/Resources/library --no-vignettes --timings genefu_2.32.0.tar.gz
###
##############################################################################
##############################################################################
* using log directory ‘/Users/biocbuild/bbs-3.17-bioc/meat/genefu.Rcheck’
* using R version 4.3.1 (2023-06-16)
* using platform: x86_64-apple-darwin20 (64-bit)
* R was compiled by
Apple clang version 14.0.3 (clang-1403.0.22.14.1)
GNU Fortran (GCC) 12.2.0
* running under: macOS Monterey 12.6.4
* using session charset: UTF-8
* using option ‘--no-vignettes’
* checking for file ‘genefu/DESCRIPTION’ ... OK
* checking extension type ... Package
* this is package ‘genefu’ version ‘2.32.0’
* package encoding: UTF-8
* checking package namespace information ... OK
* checking package dependencies ... OK
* checking if this is a source package ... OK
* checking if there is a namespace ... OK
* checking for hidden files and directories ... OK
* checking for portable file names ... OK
* checking for sufficient/correct file permissions ... OK
* checking whether package ‘genefu’ can be installed ... OK
* checking installed package size ... NOTE
installed size is 5.2Mb
sub-directories of 1Mb or more:
data 4.0Mb
* checking package directory ... OK
* checking ‘build’ directory ... OK
* checking DESCRIPTION meta-information ... OK
* checking top-level files ... OK
* checking for left-over files ... OK
* checking index information ... OK
* checking package subdirectories ... OK
* checking R files for non-ASCII characters ... OK
* checking R files for syntax errors ... OK
* checking whether the package can be loaded ... OK
* checking whether the package can be loaded with stated dependencies ... OK
* checking whether the package can be unloaded cleanly ... OK
* checking whether the namespace can be loaded with stated dependencies ... OK
* checking whether the namespace can be unloaded cleanly ... OK
* checking dependencies in R code ... NOTE
Packages in Depends field not imported from:
‘AIMS’ ‘biomaRt’ ‘iC10’
These packages need to be imported from (in the NAMESPACE file)
for when this namespace is loaded but not attached.
Unexported objects imported by ':::' calls:
‘mclust:::grid1’ ‘mclust:::grid2’
See the note in ?`:::` about the use of this operator.
* checking S3 generic/method consistency ... OK
* checking replacement functions ... OK
* checking foreign function calls ... OK
* checking R code for possible problems ... OK
* checking Rd files ... OK
* checking Rd metadata ... OK
* checking Rd cross-references ... OK
* checking for missing documentation entries ... OK
* checking for code/documentation mismatches ... OK
* checking Rd \usage sections ... OK
* checking Rd contents ... OK
* checking for unstated dependencies in examples ... OK
* checking contents of ‘data’ directory ... OK
* checking data for non-ASCII characters ... OK
* checking data for ASCII and uncompressed saves ... OK
* checking files in ‘vignettes’ ... OK
* checking examples ... OK
Examples with CPU (user + system) or elapsed time > 5s
user system elapsed
molecular.subtyping 4.106 0.164 5.72
* checking for unstated dependencies in vignettes ... OK
* checking package vignettes in ‘inst/doc’ ... OK
* checking running R code from vignettes ... SKIPPED
* checking re-building of vignette outputs ... SKIPPED
* checking PDF version of manual ... OK
* DONE
Status: 2 NOTEs
See
‘/Users/biocbuild/bbs-3.17-bioc/meat/genefu.Rcheck/00check.log’
for details.
genefu.Rcheck/00install.out
############################################################################## ############################################################################## ### ### Running command: ### ### /Library/Frameworks/R.framework/Resources/bin/R CMD INSTALL genefu ### ############################################################################## ############################################################################## * installing to library ‘/Library/Frameworks/R.framework/Versions/4.3-x86_64/Resources/library’ * installing *source* package ‘genefu’ ... ** using staged installation ** R ** data ** inst ** byte-compile and prepare package for lazy loading ** help *** installing help indices ** building package indices ** installing vignettes ** testing if installed package can be loaded from temporary location ** testing if installed package can be loaded from final location ** testing if installed package keeps a record of temporary installation path * DONE (genefu)
genefu.Rcheck/genefu-Ex.timings
| name | user | system | elapsed | |
| bimod | 0.386 | 0.026 | 0.534 | |
| boxplotplus2 | 0.014 | 0.002 | 0.021 | |
| claudinLow | 2.025 | 0.050 | 2.643 | |
| compareProtoCor | 1.673 | 0.036 | 2.176 | |
| compute.pairw.cor.meta | 2.278 | 0.053 | 3.000 | |
| compute.proto.cor.meta | 1.565 | 0.026 | 2.070 | |
| cordiff.dep | 0.185 | 0.008 | 0.240 | |
| endoPredict | 0.194 | 0.012 | 0.260 | |
| fuzzy.ttest | 0.276 | 0.022 | 0.390 | |
| gene70 | 0.478 | 0.023 | 0.688 | |
| gene76 | 0.218 | 0.012 | 0.386 | |
| geneid.map | 0.246 | 0.028 | 0.373 | |
| genius | 0.383 | 0.032 | 0.639 | |
| ggi | 0.202 | 0.013 | 0.379 | |
| ihc4 | 0.178 | 0.017 | 0.327 | |
| intrinsic.cluster | 0.755 | 0.027 | 0.978 | |
| intrinsic.cluster.predict | 0.357 | 0.014 | 0.460 | |
| map.datasets | 1.492 | 0.027 | 1.938 | |
| molecular.subtyping | 4.106 | 0.164 | 5.720 | |
| npi | 0.184 | 0.016 | 0.259 | |
| oncotypedx | 0.248 | 0.015 | 0.377 | |
| ovcAngiogenic | 0.222 | 0.016 | 0.317 | |
| ovcCrijns | 0.214 | 0.011 | 0.264 | |
| ovcTCGA | 0.471 | 0.012 | 0.603 | |
| ovcYoshihara | 0.242 | 0.014 | 0.337 | |
| pik3cags | 0.207 | 0.011 | 0.288 | |
| power.cor | 0.001 | 0.000 | 0.001 | |
| ps.cluster | 0.799 | 0.022 | 0.995 | |
| read.m.file | 0.040 | 0.005 | 0.057 | |
| rename.duplicate | 0.002 | 0.002 | 0.005 | |
| rescale | 0.415 | 0.015 | 0.547 | |
| rorS | 0.391 | 0.013 | 0.515 | |
| setcolclass.df | 0.003 | 0.001 | 0.003 | |
| sig.score | 0.224 | 0.012 | 0.306 | |
| spearmanCI | 0.000 | 0.000 | 0.001 | |
| st.gallen | 0.186 | 0.011 | 0.253 | |
| stab.fs | 0.290 | 0.015 | 0.376 | |
| stab.fs.ranking | 1.678 | 0.108 | 2.704 | |
| strescR | 0.002 | 0.001 | 0.008 | |
| subtype.cluster | 1.180 | 0.094 | 1.696 | |
| subtype.cluster.predict | 0.473 | 0.031 | 0.630 | |
| tamr13 | 0.234 | 0.011 | 0.282 | |
| tbrm | 0.001 | 0.001 | 0.002 | |
| weighted.meanvar | 0.001 | 0.001 | 0.002 | |
| write.m.file | 0.005 | 0.005 | 0.012 | |