| Back to Multiple platform build/check report for BioC 3.17: simplified long |
|
This page was generated on 2023-10-16 11:36:53 -0400 (Mon, 16 Oct 2023).
| Hostname | OS | Arch (*) | R version | Installed pkgs |
|---|---|---|---|---|
| nebbiolo1 | Linux (Ubuntu 22.04.2 LTS) | x86_64 | 4.3.1 (2023-06-16) -- "Beagle Scouts" | 4626 |
| palomino3 | Windows Server 2022 Datacenter | x64 | 4.3.1 (2023-06-16 ucrt) -- "Beagle Scouts" | 4379 |
| merida1 | macOS 12.6.4 Monterey | x86_64 | 4.3.1 (2023-06-16) -- "Beagle Scouts" | 4395 |
| Click on any hostname to see more info about the system (e.g. compilers) (*) as reported by 'uname -p', except on Windows and Mac OS X | ||||
| Package 266/2230 | Hostname | OS / Arch | INSTALL | BUILD | CHECK | BUILD BIN | ||||||||
| cardelino 1.2.0 (landing page) Davis McCarthy
| nebbiolo1 | Linux (Ubuntu 22.04.2 LTS) / x86_64 | OK | OK | OK | |||||||||
| palomino3 | Windows Server 2022 Datacenter / x64 | OK | OK | OK | OK | |||||||||
| merida1 | macOS 12.6.4 Monterey / x86_64 | OK | OK | OK | OK | |||||||||
| kjohnson2 | macOS 12.6.1 Monterey / arm64 | see weekly results here | ||||||||||||
|
To the developers/maintainers of the cardelino package: - Allow up to 24 hours (and sometimes 48 hours) for your latest push to git@git.bioconductor.org:packages/cardelino.git to reflect on this report. See Troubleshooting Build Report for more information. - Use the following Renviron settings to reproduce errors and warnings. - If 'R CMD check' started to fail recently on the Linux builder(s) over a missing dependency, add the missing dependency to 'Suggests:' in your DESCRIPTION file. See Renviron.bioc for more information. |
| Package: cardelino |
| Version: 1.2.0 |
| Command: /Library/Frameworks/R.framework/Resources/bin/R CMD check --install=check:cardelino.install-out.txt --library=/Library/Frameworks/R.framework/Resources/library --no-vignettes --timings cardelino_1.2.0.tar.gz |
| StartedAt: 2023-10-15 23:27:18 -0400 (Sun, 15 Oct 2023) |
| EndedAt: 2023-10-15 23:44:36 -0400 (Sun, 15 Oct 2023) |
| EllapsedTime: 1037.7 seconds |
| RetCode: 0 |
| Status: OK |
| CheckDir: cardelino.Rcheck |
| Warnings: 0 |
##############################################################################
##############################################################################
###
### Running command:
###
### /Library/Frameworks/R.framework/Resources/bin/R CMD check --install=check:cardelino.install-out.txt --library=/Library/Frameworks/R.framework/Resources/library --no-vignettes --timings cardelino_1.2.0.tar.gz
###
##############################################################################
##############################################################################
* using log directory ‘/Users/biocbuild/bbs-3.17-bioc/meat/cardelino.Rcheck’
* using R version 4.3.1 (2023-06-16)
* using platform: x86_64-apple-darwin20 (64-bit)
* R was compiled by
Apple clang version 14.0.3 (clang-1403.0.22.14.1)
GNU Fortran (GCC) 12.2.0
* running under: macOS Monterey 12.6.4
* using session charset: UTF-8
* using option ‘--no-vignettes’
* checking for file ‘cardelino/DESCRIPTION’ ... OK
* checking extension type ... Package
* this is package ‘cardelino’ version ‘1.2.0’
* package encoding: UTF-8
* checking package namespace information ... OK
* checking package dependencies ... OK
* checking if this is a source package ... OK
* checking if there is a namespace ... OK
* checking for hidden files and directories ... OK
* checking for portable file names ... OK
* checking for sufficient/correct file permissions ... OK
* checking whether package ‘cardelino’ can be installed ... OK
* checking installed package size ... OK
* checking package directory ... OK
* checking ‘build’ directory ... OK
* checking DESCRIPTION meta-information ... OK
* checking top-level files ... OK
* checking for left-over files ... OK
* checking index information ... OK
* checking package subdirectories ... OK
* checking R files for non-ASCII characters ... OK
* checking R files for syntax errors ... OK
* checking whether the package can be loaded ... OK
* checking whether the package can be loaded with stated dependencies ... OK
* checking whether the package can be unloaded cleanly ... OK
* checking whether the namespace can be loaded with stated dependencies ... OK
* checking whether the namespace can be unloaded cleanly ... OK
* checking dependencies in R code ... OK
* checking S3 generic/method consistency ... OK
* checking replacement functions ... OK
* checking foreign function calls ... OK
* checking R code for possible problems ... OK
* checking Rd files ... OK
* checking Rd metadata ... OK
* checking Rd cross-references ... OK
* checking for missing documentation entries ... OK
* checking for code/documentation mismatches ... OK
* checking Rd \usage sections ... OK
* checking Rd contents ... OK
* checking for unstated dependencies in examples ... OK
* checking contents of ‘data’ directory ... OK
* checking data for non-ASCII characters ... OK
* checking data for ASCII and uncompressed saves ... OK
* checking files in ‘vignettes’ ... OK
* checking examples ... OK
Examples with CPU (user + system) or elapsed time > 5s
user system elapsed
vc_heatmap 136.124 8.678 191.047
get_snp_matrices 32.203 1.835 44.921
clone_id 25.438 1.142 34.258
sim_read_count 5.458 0.237 7.338
read_vcf 4.678 0.345 6.785
* checking for unstated dependencies in ‘tests’ ... OK
* checking tests ...
Running ‘testthat.R’
OK
* checking for unstated dependencies in vignettes ... OK
* checking package vignettes in ‘inst/doc’ ... OK
* checking running R code from vignettes ... SKIPPED
* checking re-building of vignette outputs ... SKIPPED
* checking PDF version of manual ... OK
* DONE
Status: OK
cardelino.Rcheck/00install.out
############################################################################## ############################################################################## ### ### Running command: ### ### /Library/Frameworks/R.framework/Resources/bin/R CMD INSTALL cardelino ### ############################################################################## ############################################################################## * installing to library ‘/Library/Frameworks/R.framework/Versions/4.3-x86_64/Resources/library’ * installing *source* package ‘cardelino’ ... ** using staged installation ** R ** data ** inst ** byte-compile and prepare package for lazy loading ** help *** installing help indices ** building package indices ** installing vignettes ** testing if installed package can be loaded from temporary location ** testing if installed package can be loaded from final location ** testing if installed package keeps a record of temporary installation path * DONE (cardelino)
cardelino.Rcheck/tests/testthat.Rout
R version 4.3.1 (2023-06-16) -- "Beagle Scouts"
Copyright (C) 2023 The R Foundation for Statistical Computing
Platform: x86_64-apple-darwin20 (64-bit)
R is free software and comes with ABSOLUTELY NO WARRANTY.
You are welcome to redistribute it under certain conditions.
Type 'license()' or 'licence()' for distribution details.
R is a collaborative project with many contributors.
Type 'contributors()' for more information and
'citation()' on how to cite R or R packages in publications.
Type 'demo()' for some demos, 'help()' for on-line help, or
'help.start()' for an HTML browser interface to help.
Type 'q()' to quit R.
> Sys.setenv("R_TESTS" = "")
> library(testthat)
> library(cardelino)
>
> test_check("cardelino")
[1] "Total iterations: 11"
94.7% converged.
94.5% converged.
100% converged.
[1] "Converged in 400 iterations."
DIC: 2962.93 D_mean: 2454.18 D_post: 2365.91 logLik_var: 149.26
[,1] [,2] [,3] [,4]
[1,] 1 2 3 4
[1] "65 samples have multiple labels."
Scanning file to determine attributes.
File attributes:
meta lines: 37
header_line: 38
variant count: 112
column count: 86
Meta line 37 read in.
All meta lines processed.
gt matrix initialized.
Character matrix gt created.
Character matrix gt rows: 112
Character matrix gt cols: 86
skip: 0
nrows: 112
row_num: 0
Processed variant: 112
All variants processed
[1] "112 out of 112 SNPs passed."
Scanning file to determine attributes.
File attributes:
meta lines: 37
header_line: 38
variant count: 112
column count: 86
Meta line 37 read in.
All meta lines processed.
gt matrix initialized.
Character matrix gt created.
Character matrix gt rows: 112
Character matrix gt cols: 86
skip: 0
nrows: 112
row_num: 0
Processed variant: 112
All variants processed
[ FAIL 0 | WARN 2 | SKIP 0 | PASS 20 ]
[ FAIL 0 | WARN 2 | SKIP 0 | PASS 20 ]
>
> # check test coverage with covr in Rstudio
> # covr::package_coverage()
>
> proc.time()
user system elapsed
47.619 2.418 66.303
cardelino.Rcheck/cardelino-Ex.timings
| name | user | system | elapsed | |
| assign_cells_to_clones | 0.174 | 0.007 | 0.233 | |
| binaryPRC | 0.016 | 0.005 | 0.029 | |
| binaryROC | 0.018 | 0.005 | 0.030 | |
| clone_id | 25.438 | 1.142 | 34.258 | |
| colMatch | 0.002 | 0.001 | 0.005 | |
| get_snp_matrices | 32.203 | 1.835 | 44.921 | |
| get_tree | 0.702 | 0.009 | 1.007 | |
| heat_matrix | 1.381 | 0.018 | 1.828 | |
| load_GT_vcf | 0.481 | 0.061 | 0.746 | |
| load_cellSNP_vcf | 0.037 | 0.002 | 0.051 | |
| mixBinom | 0.028 | 0.001 | 0.039 | |
| mtx_to_df | 0.003 | 0.001 | 0.004 | |
| plot_config_diffs | 0.313 | 0.004 | 0.404 | |
| plot_tree | 0.527 | 0.009 | 0.700 | |
| predMixBinom | 0.030 | 0.001 | 0.038 | |
| prob_heatmap | 0.177 | 0.007 | 0.235 | |
| pub.theme | 0.055 | 0.002 | 0.081 | |
| read_vcf | 4.678 | 0.345 | 6.785 | |
| rowArgmax | 0.001 | 0.001 | 0.001 | |
| rowMax | 0.001 | 0.000 | 0.005 | |
| sample_seq_depth | 0.020 | 0.003 | 0.029 | |
| sample_tree_SNV | 0.007 | 0.002 | 0.014 | |
| sim_read_count | 5.458 | 0.237 | 7.338 | |
| vc_heatmap | 136.124 | 8.678 | 191.047 | |