| Back to Multiple platform build/check report for BioC 3.17: simplified long | |
This page was generated on 2023-03-16 11:07:24 -0400 (Thu, 16 Mar 2023).
| Hostname | OS | Arch (*) | R version | Installed pkgs |
| nebbiolo1 | Linux (Ubuntu 22.04.1 LTS) | x86_64 | R Under development (unstable) (2023-01-10 r83596) -- "Unsuffered Consequences"
| 4540 |
| palomino3 | Windows Server 2022 Datacenter | x64 | R Under development (unstable) (2023-01-10 r83596 ucrt) -- "Unsuffered Consequences"
| 4302 |
| merida1 | macOS 10.14.6 Mojave | x86_64 | R Under development (unstable) (2023-01-10 r83596) -- "Unsuffered Consequences"
| 4330 |
| Click on any hostname to see more info about the system (e.g. compilers) (*) as reported by 'uname -p', except on Windows and Mac OS X |
BUILD BIN results for RNAdecay on merida1
raw results
| RNAdecay 1.19.0 (landing page) Reed Sorenson
| Snapshot Date: 2023-03-15 14:00:15 -0400 (Wed, 15 Mar 2023) |
| git_url: https://git.bioconductor.org/packages/RNAdecay |
| git_branch: master |
| git_last_commit: d17fd6f |
| git_last_commit_date: 2022-11-01 11:17:45 -0400 (Tue, 01 Nov 2022) |
| nebbiolo1 | Linux (Ubuntu 22.04.1 LTS) / x86_64 | OK | OK | OK | |  | |
| palomino3 | Windows Server 2022 Datacenter / x64 | OK | OK | OK | OK |  | |
| merida1 | macOS 10.14.6 Mojave / x86_64 | OK | OK | OK | OK |  | |
Summary
Command output
##############################################################################
##############################################################################
###
### Running command:
###
### rm -rf RNAdecay.buildbin-libdir && mkdir RNAdecay.buildbin-libdir && /Users/biocbuild/BBS/utils/build-universal.sh RNAdecay_1.19.0.tar.gz /Library/Frameworks/R.framework/Resources/bin/R RNAdecay.buildbin-libdir
###
##############################################################################
##############################################################################
>>>>>>>
>>>>>>> INSTALLATION WITH 'R CMD INSTALL --preclean --no-multiarch --library=RNAdecay.buildbin-libdir RNAdecay_1.19.0.tar.gz'
>>>>>>>
* installing *source* package ‘RNAdecay’ ...
** using staged installation
rm -rf *o
** libs
/Library/Frameworks/R.framework/Resources/bin/Rscript --vanilla -e "TMB::compile('general_dExp_1sse.cpp',safebounds=FALSE,safeunload=FALSE)"
using C++ compiler: ‘Apple clang version 11.0.0 (clang-1100.0.33.17)’
using SDK: ‘’
clang++ -mmacosx-version-min=10.13 -std=gnu++14 -I"/Library/Frameworks/R.framework/Resources/include" -DNDEBUG -I"/Library/Frameworks/R.framework/Versions/4.3/Resources/library/TMB/include" -I"/Library/Frameworks/R.framework/Versions/4.3/Resources/library/RcppEigen/include" -DTMB_EIGEN_DISABLE_WARNINGS -DTMB_LIB_INIT=R_init_general_dExp_1sse -DCPPAD_FRAMEWORK -I/usr/local/include -fPIC -Wall -g -O2 -c general_dExp_1sse.cpp -o general_dExp_1sse.o
clang++ -mmacosx-version-min=10.13 -std=gnu++14 -dynamiclib -Wl,-headerpad_max_install_names -undefined dynamic_lookup -single_module -multiply_defined suppress -L/Library/Frameworks/R.framework/Resources/lib -L/usr/local/lib -o general_dExp_1sse.so general_dExp_1sse.o -F/Library/Frameworks/R.framework/.. -framework R -Wl,-framework -Wl,CoreFoundation
[1] 0
/Library/Frameworks/R.framework/Resources/bin/Rscript --vanilla -e "TMB::compile('general_Exp_1sse.cpp',safebounds=FALSE,safeunload=FALSE)"
using C++ compiler: ‘Apple clang version 11.0.0 (clang-1100.0.33.17)’
using SDK: ‘’
clang++ -mmacosx-version-min=10.13 -std=gnu++14 -I"/Library/Frameworks/R.framework/Resources/include" -DNDEBUG -I"/Library/Frameworks/R.framework/Versions/4.3/Resources/library/TMB/include" -I"/Library/Frameworks/R.framework/Versions/4.3/Resources/library/RcppEigen/include" -DTMB_EIGEN_DISABLE_WARNINGS -DTMB_LIB_INIT=R_init_general_Exp_1sse -DCPPAD_FRAMEWORK -I/usr/local/include -fPIC -Wall -g -O2 -c general_Exp_1sse.cpp -o general_Exp_1sse.o
clang++ -mmacosx-version-min=10.13 -std=gnu++14 -dynamiclib -Wl,-headerpad_max_install_names -undefined dynamic_lookup -single_module -multiply_defined suppress -L/Library/Frameworks/R.framework/Resources/lib -L/usr/local/lib -o general_Exp_1sse.so general_Exp_1sse.o -F/Library/Frameworks/R.framework/.. -framework R -Wl,-framework -Wl,CoreFoundation
[1] 0
/Library/Frameworks/R.framework/Resources/bin/Rscript --vanilla -e "TMB::compile('general_dExp_2sse.cpp',safebounds=FALSE,safeunload=FALSE)"
using C++ compiler: ‘Apple clang version 11.0.0 (clang-1100.0.33.17)’
using SDK: ‘’
clang++ -mmacosx-version-min=10.13 -std=gnu++14 -I"/Library/Frameworks/R.framework/Resources/include" -DNDEBUG -I"/Library/Frameworks/R.framework/Versions/4.3/Resources/library/TMB/include" -I"/Library/Frameworks/R.framework/Versions/4.3/Resources/library/RcppEigen/include" -DTMB_EIGEN_DISABLE_WARNINGS -DTMB_LIB_INIT=R_init_general_dExp_2sse -DCPPAD_FRAMEWORK -I/usr/local/include -fPIC -Wall -g -O2 -c general_dExp_2sse.cpp -o general_dExp_2sse.o
clang++ -mmacosx-version-min=10.13 -std=gnu++14 -dynamiclib -Wl,-headerpad_max_install_names -undefined dynamic_lookup -single_module -multiply_defined suppress -L/Library/Frameworks/R.framework/Resources/lib -L/usr/local/lib -o general_dExp_2sse.so general_dExp_2sse.o -F/Library/Frameworks/R.framework/.. -framework R -Wl,-framework -Wl,CoreFoundation
[1] 0
/Library/Frameworks/R.framework/Resources/bin/Rscript --vanilla -e "TMB::compile('general_Exp_2sse.cpp',safebounds=FALSE,safeunload=FALSE)"
using C++ compiler: ‘Apple clang version 11.0.0 (clang-1100.0.33.17)’
using SDK: ‘’
clang++ -mmacosx-version-min=10.13 -std=gnu++14 -I"/Library/Frameworks/R.framework/Resources/include" -DNDEBUG -I"/Library/Frameworks/R.framework/Versions/4.3/Resources/library/TMB/include" -I"/Library/Frameworks/R.framework/Versions/4.3/Resources/library/RcppEigen/include" -DTMB_EIGEN_DISABLE_WARNINGS -DTMB_LIB_INIT=R_init_general_Exp_2sse -DCPPAD_FRAMEWORK -I/usr/local/include -fPIC -Wall -g -O2 -c general_Exp_2sse.cpp -o general_Exp_2sse.o
clang++ -mmacosx-version-min=10.13 -std=gnu++14 -dynamiclib -Wl,-headerpad_max_install_names -undefined dynamic_lookup -single_module -multiply_defined suppress -L/Library/Frameworks/R.framework/Resources/lib -L/usr/local/lib -o general_Exp_2sse.so general_Exp_2sse.o -F/Library/Frameworks/R.framework/.. -framework R -Wl,-framework -Wl,CoreFoundation
[1] 0
/Library/Frameworks/R.framework/Resources/bin/Rscript --vanilla -e "TMB::compile('general_dExp_3sse.cpp',safebounds=FALSE,safeunload=FALSE)"
using C++ compiler: ‘Apple clang version 11.0.0 (clang-1100.0.33.17)’
using SDK: ‘’
clang++ -mmacosx-version-min=10.13 -std=gnu++14 -I"/Library/Frameworks/R.framework/Resources/include" -DNDEBUG -I"/Library/Frameworks/R.framework/Versions/4.3/Resources/library/TMB/include" -I"/Library/Frameworks/R.framework/Versions/4.3/Resources/library/RcppEigen/include" -DTMB_EIGEN_DISABLE_WARNINGS -DTMB_LIB_INIT=R_init_general_dExp_3sse -DCPPAD_FRAMEWORK -I/usr/local/include -fPIC -Wall -g -O2 -c general_dExp_3sse.cpp -o general_dExp_3sse.o
clang++ -mmacosx-version-min=10.13 -std=gnu++14 -dynamiclib -Wl,-headerpad_max_install_names -undefined dynamic_lookup -single_module -multiply_defined suppress -L/Library/Frameworks/R.framework/Resources/lib -L/usr/local/lib -o general_dExp_3sse.so general_dExp_3sse.o -F/Library/Frameworks/R.framework/.. -framework R -Wl,-framework -Wl,CoreFoundation
[1] 0
/Library/Frameworks/R.framework/Resources/bin/Rscript --vanilla -e "TMB::compile('general_Exp_3sse.cpp',safebounds=FALSE,safeunload=FALSE)"
using C++ compiler: ‘Apple clang version 11.0.0 (clang-1100.0.33.17)’
using SDK: ‘’
clang++ -mmacosx-version-min=10.13 -std=gnu++14 -I"/Library/Frameworks/R.framework/Resources/include" -DNDEBUG -I"/Library/Frameworks/R.framework/Versions/4.3/Resources/library/TMB/include" -I"/Library/Frameworks/R.framework/Versions/4.3/Resources/library/RcppEigen/include" -DTMB_EIGEN_DISABLE_WARNINGS -DTMB_LIB_INIT=R_init_general_Exp_3sse -DCPPAD_FRAMEWORK -I/usr/local/include -fPIC -Wall -g -O2 -c general_Exp_3sse.cpp -o general_Exp_3sse.o
clang++ -mmacosx-version-min=10.13 -std=gnu++14 -dynamiclib -Wl,-headerpad_max_install_names -undefined dynamic_lookup -single_module -multiply_defined suppress -L/Library/Frameworks/R.framework/Resources/lib -L/usr/local/lib -o general_Exp_3sse.so general_Exp_3sse.o -F/Library/Frameworks/R.framework/.. -framework R -Wl,-framework -Wl,CoreFoundation
[1] 0
/Library/Frameworks/R.framework/Resources/bin/Rscript --vanilla -e "TMB::compile('general_dExp_4sse.cpp',safebounds=FALSE,safeunload=FALSE)"
using C++ compiler: ‘Apple clang version 11.0.0 (clang-1100.0.33.17)’
using SDK: ‘’
clang++ -mmacosx-version-min=10.13 -std=gnu++14 -I"/Library/Frameworks/R.framework/Resources/include" -DNDEBUG -I"/Library/Frameworks/R.framework/Versions/4.3/Resources/library/TMB/include" -I"/Library/Frameworks/R.framework/Versions/4.3/Resources/library/RcppEigen/include" -DTMB_EIGEN_DISABLE_WARNINGS -DTMB_LIB_INIT=R_init_general_dExp_4sse -DCPPAD_FRAMEWORK -I/usr/local/include -fPIC -Wall -g -O2 -c general_dExp_4sse.cpp -o general_dExp_4sse.o
clang++ -mmacosx-version-min=10.13 -std=gnu++14 -dynamiclib -Wl,-headerpad_max_install_names -undefined dynamic_lookup -single_module -multiply_defined suppress -L/Library/Frameworks/R.framework/Resources/lib -L/usr/local/lib -o general_dExp_4sse.so general_dExp_4sse.o -F/Library/Frameworks/R.framework/.. -framework R -Wl,-framework -Wl,CoreFoundation
[1] 0
/Library/Frameworks/R.framework/Resources/bin/Rscript --vanilla -e "TMB::compile('general_Exp_4sse.cpp',safebounds=FALSE,safeunload=FALSE)"
using C++ compiler: ‘Apple clang version 11.0.0 (clang-1100.0.33.17)’
using SDK: ‘’
clang++ -mmacosx-version-min=10.13 -std=gnu++14 -I"/Library/Frameworks/R.framework/Resources/include" -DNDEBUG -I"/Library/Frameworks/R.framework/Versions/4.3/Resources/library/TMB/include" -I"/Library/Frameworks/R.framework/Versions/4.3/Resources/library/RcppEigen/include" -DTMB_EIGEN_DISABLE_WARNINGS -DTMB_LIB_INIT=R_init_general_Exp_4sse -DCPPAD_FRAMEWORK -I/usr/local/include -fPIC -Wall -g -O2 -c general_Exp_4sse.cpp -o general_Exp_4sse.o
clang++ -mmacosx-version-min=10.13 -std=gnu++14 -dynamiclib -Wl,-headerpad_max_install_names -undefined dynamic_lookup -single_module -multiply_defined suppress -L/Library/Frameworks/R.framework/Resources/lib -L/usr/local/lib -o general_Exp_4sse.so general_Exp_4sse.o -F/Library/Frameworks/R.framework/.. -framework R -Wl,-framework -Wl,CoreFoundation
[1] 0
installing to /Users/biocbuild/bbs-3.17-bioc/meat/RNAdecay.buildbin-libdir/00LOCK-RNAdecay/00new/RNAdecay/libs
** R
** data
*** moving datasets to lazyload DB
** inst
** byte-compile and prepare package for lazy loading
** help
*** installing help indices
** building package indices
** installing vignettes
** testing if installed package can be loaded from temporary location
** checking absolute paths in shared objects and dynamic libraries
** testing if installed package can be loaded from final location
** testing if installed package keeps a record of temporary installation path
* DONE (RNAdecay)
>>>>>>>
>>>>>>> FIXING LINKS FOR RNAdecay.buildbin-libdir/RNAdecay/libs/general_Exp_1sse.so
>>>>>>>
install_name_tool -change "/usr/local/lib/libgcc_s.1.dylib" "/Library/Frameworks/R.framework/Versions/4.3/Resources/lib/libgcc_s.1.dylib" "RNAdecay.buildbin-libdir/RNAdecay/libs/general_Exp_1sse.so"
install_name_tool -change "/usr/local/lib/libgfortran.5.dylib" "/Library/Frameworks/R.framework/Versions/4.3/Resources/lib/libgfortran.5.dylib" "RNAdecay.buildbin-libdir/RNAdecay/libs/general_Exp_1sse.so"
install_name_tool -change "/usr/local/lib/libquadmath.0.dylib" "/Library/Frameworks/R.framework/Versions/4.3/Resources/lib/libquadmath.0.dylib" "RNAdecay.buildbin-libdir/RNAdecay/libs/general_Exp_1sse.so"
>>>>>>>
>>>>>>> FIXING LINKS FOR RNAdecay.buildbin-libdir/RNAdecay/libs/general_Exp_2sse.so
>>>>>>>
install_name_tool -change "/usr/local/lib/libgcc_s.1.dylib" "/Library/Frameworks/R.framework/Versions/4.3/Resources/lib/libgcc_s.1.dylib" "RNAdecay.buildbin-libdir/RNAdecay/libs/general_Exp_2sse.so"
install_name_tool -change "/usr/local/lib/libgfortran.5.dylib" "/Library/Frameworks/R.framework/Versions/4.3/Resources/lib/libgfortran.5.dylib" "RNAdecay.buildbin-libdir/RNAdecay/libs/general_Exp_2sse.so"
install_name_tool -change "/usr/local/lib/libquadmath.0.dylib" "/Library/Frameworks/R.framework/Versions/4.3/Resources/lib/libquadmath.0.dylib" "RNAdecay.buildbin-libdir/RNAdecay/libs/general_Exp_2sse.so"
>>>>>>>
>>>>>>> FIXING LINKS FOR RNAdecay.buildbin-libdir/RNAdecay/libs/general_Exp_3sse.so
>>>>>>>
install_name_tool -change "/usr/local/lib/libgcc_s.1.dylib" "/Library/Frameworks/R.framework/Versions/4.3/Resources/lib/libgcc_s.1.dylib" "RNAdecay.buildbin-libdir/RNAdecay/libs/general_Exp_3sse.so"
install_name_tool -change "/usr/local/lib/libgfortran.5.dylib" "/Library/Frameworks/R.framework/Versions/4.3/Resources/lib/libgfortran.5.dylib" "RNAdecay.buildbin-libdir/RNAdecay/libs/general_Exp_3sse.so"
install_name_tool -change "/usr/local/lib/libquadmath.0.dylib" "/Library/Frameworks/R.framework/Versions/4.3/Resources/lib/libquadmath.0.dylib" "RNAdecay.buildbin-libdir/RNAdecay/libs/general_Exp_3sse.so"
>>>>>>>
>>>>>>> FIXING LINKS FOR RNAdecay.buildbin-libdir/RNAdecay/libs/general_Exp_4sse.so
>>>>>>>
install_name_tool -change "/usr/local/lib/libgcc_s.1.dylib" "/Library/Frameworks/R.framework/Versions/4.3/Resources/lib/libgcc_s.1.dylib" "RNAdecay.buildbin-libdir/RNAdecay/libs/general_Exp_4sse.so"
install_name_tool -change "/usr/local/lib/libgfortran.5.dylib" "/Library/Frameworks/R.framework/Versions/4.3/Resources/lib/libgfortran.5.dylib" "RNAdecay.buildbin-libdir/RNAdecay/libs/general_Exp_4sse.so"
install_name_tool -change "/usr/local/lib/libquadmath.0.dylib" "/Library/Frameworks/R.framework/Versions/4.3/Resources/lib/libquadmath.0.dylib" "RNAdecay.buildbin-libdir/RNAdecay/libs/general_Exp_4sse.so"
>>>>>>>
>>>>>>> FIXING LINKS FOR RNAdecay.buildbin-libdir/RNAdecay/libs/general_dExp_1sse.so
>>>>>>>
install_name_tool -change "/usr/local/lib/libgcc_s.1.dylib" "/Library/Frameworks/R.framework/Versions/4.3/Resources/lib/libgcc_s.1.dylib" "RNAdecay.buildbin-libdir/RNAdecay/libs/general_dExp_1sse.so"
install_name_tool -change "/usr/local/lib/libgfortran.5.dylib" "/Library/Frameworks/R.framework/Versions/4.3/Resources/lib/libgfortran.5.dylib" "RNAdecay.buildbin-libdir/RNAdecay/libs/general_dExp_1sse.so"
install_name_tool -change "/usr/local/lib/libquadmath.0.dylib" "/Library/Frameworks/R.framework/Versions/4.3/Resources/lib/libquadmath.0.dylib" "RNAdecay.buildbin-libdir/RNAdecay/libs/general_dExp_1sse.so"
>>>>>>>
>>>>>>> FIXING LINKS FOR RNAdecay.buildbin-libdir/RNAdecay/libs/general_dExp_2sse.so
>>>>>>>
install_name_tool -change "/usr/local/lib/libgcc_s.1.dylib" "/Library/Frameworks/R.framework/Versions/4.3/Resources/lib/libgcc_s.1.dylib" "RNAdecay.buildbin-libdir/RNAdecay/libs/general_dExp_2sse.so"
install_name_tool -change "/usr/local/lib/libgfortran.5.dylib" "/Library/Frameworks/R.framework/Versions/4.3/Resources/lib/libgfortran.5.dylib" "RNAdecay.buildbin-libdir/RNAdecay/libs/general_dExp_2sse.so"
install_name_tool -change "/usr/local/lib/libquadmath.0.dylib" "/Library/Frameworks/R.framework/Versions/4.3/Resources/lib/libquadmath.0.dylib" "RNAdecay.buildbin-libdir/RNAdecay/libs/general_dExp_2sse.so"
>>>>>>>
>>>>>>> FIXING LINKS FOR RNAdecay.buildbin-libdir/RNAdecay/libs/general_dExp_3sse.so
>>>>>>>
install_name_tool -change "/usr/local/lib/libgcc_s.1.dylib" "/Library/Frameworks/R.framework/Versions/4.3/Resources/lib/libgcc_s.1.dylib" "RNAdecay.buildbin-libdir/RNAdecay/libs/general_dExp_3sse.so"
install_name_tool -change "/usr/local/lib/libgfortran.5.dylib" "/Library/Frameworks/R.framework/Versions/4.3/Resources/lib/libgfortran.5.dylib" "RNAdecay.buildbin-libdir/RNAdecay/libs/general_dExp_3sse.so"
install_name_tool -change "/usr/local/lib/libquadmath.0.dylib" "/Library/Frameworks/R.framework/Versions/4.3/Resources/lib/libquadmath.0.dylib" "RNAdecay.buildbin-libdir/RNAdecay/libs/general_dExp_3sse.so"
>>>>>>>
>>>>>>> FIXING LINKS FOR RNAdecay.buildbin-libdir/RNAdecay/libs/general_dExp_4sse.so
>>>>>>>
install_name_tool -change "/usr/local/lib/libgcc_s.1.dylib" "/Library/Frameworks/R.framework/Versions/4.3/Resources/lib/libgcc_s.1.dylib" "RNAdecay.buildbin-libdir/RNAdecay/libs/general_dExp_4sse.so"
install_name_tool -change "/usr/local/lib/libgfortran.5.dylib" "/Library/Frameworks/R.framework/Versions/4.3/Resources/lib/libgfortran.5.dylib" "RNAdecay.buildbin-libdir/RNAdecay/libs/general_dExp_4sse.so"
install_name_tool -change "/usr/local/lib/libquadmath.0.dylib" "/Library/Frameworks/R.framework/Versions/4.3/Resources/lib/libquadmath.0.dylib" "RNAdecay.buildbin-libdir/RNAdecay/libs/general_dExp_4sse.so"