| Back to Multiple platform build/check report for BioC 3.17: simplified long |
|
This page was generated on 2023-10-16 11:35:38 -0400 (Mon, 16 Oct 2023).
| Hostname | OS | Arch (*) | R version | Installed pkgs |
|---|---|---|---|---|
| nebbiolo1 | Linux (Ubuntu 22.04.2 LTS) | x86_64 | 4.3.1 (2023-06-16) -- "Beagle Scouts" | 4626 |
| palomino3 | Windows Server 2022 Datacenter | x64 | 4.3.1 (2023-06-16 ucrt) -- "Beagle Scouts" | 4379 |
| merida1 | macOS 12.6.4 Monterey | x86_64 | 4.3.1 (2023-06-16) -- "Beagle Scouts" | 4395 |
| Click on any hostname to see more info about the system (e.g. compilers) (*) as reported by 'uname -p', except on Windows and Mac OS X | ||||
| Package 1576/2230 | Hostname | OS / Arch | INSTALL | BUILD | CHECK | BUILD BIN | ||||||||
| ProteoMM 1.18.0 (landing page) Yuliya V Karpievitch
| nebbiolo1 | Linux (Ubuntu 22.04.2 LTS) / x86_64 | OK | OK | OK | |||||||||
| palomino3 | Windows Server 2022 Datacenter / x64 | OK | OK | OK | OK | |||||||||
| merida1 | macOS 12.6.4 Monterey / x86_64 | OK | OK | OK | OK | |||||||||
| kjohnson2 | macOS 12.6.1 Monterey / arm64 | see weekly results here | ||||||||||||
|
To the developers/maintainers of the ProteoMM package: - Allow up to 24 hours (and sometimes 48 hours) for your latest push to git@git.bioconductor.org:packages/ProteoMM.git to reflect on this report. See Troubleshooting Build Report for more information. - Use the following Renviron settings to reproduce errors and warnings. - If 'R CMD check' started to fail recently on the Linux builder(s) over a missing dependency, add the missing dependency to 'Suggests:' in your DESCRIPTION file. See Renviron.bioc for more information. |
| Package: ProteoMM |
| Version: 1.18.0 |
| Command: /home/biocbuild/bbs-3.17-bioc/R/bin/R CMD check --install=check:ProteoMM.install-out.txt --library=/home/biocbuild/bbs-3.17-bioc/R/site-library --timings ProteoMM_1.18.0.tar.gz |
| StartedAt: 2023-10-16 00:04:04 -0400 (Mon, 16 Oct 2023) |
| EndedAt: 2023-10-16 00:05:51 -0400 (Mon, 16 Oct 2023) |
| EllapsedTime: 106.3 seconds |
| RetCode: 0 |
| Status: OK |
| CheckDir: ProteoMM.Rcheck |
| Warnings: 0 |
##############################################################################
##############################################################################
###
### Running command:
###
### /home/biocbuild/bbs-3.17-bioc/R/bin/R CMD check --install=check:ProteoMM.install-out.txt --library=/home/biocbuild/bbs-3.17-bioc/R/site-library --timings ProteoMM_1.18.0.tar.gz
###
##############################################################################
##############################################################################
* using log directory ‘/home/biocbuild/bbs-3.17-bioc/meat/ProteoMM.Rcheck’
* using R version 4.3.1 (2023-06-16)
* using platform: x86_64-pc-linux-gnu (64-bit)
* R was compiled by
gcc (Ubuntu 11.3.0-1ubuntu1~22.04.1) 11.3.0
GNU Fortran (Ubuntu 11.3.0-1ubuntu1~22.04.1) 11.3.0
* running under: Ubuntu 22.04.3 LTS
* using session charset: UTF-8
* checking for file ‘ProteoMM/DESCRIPTION’ ... OK
* this is package ‘ProteoMM’ version ‘1.18.0’
* package encoding: UTF-8
* checking package namespace information ... OK
* checking package dependencies ... OK
* checking if this is a source package ... OK
* checking if there is a namespace ... OK
* checking for hidden files and directories ... OK
* checking for portable file names ... OK
* checking for sufficient/correct file permissions ... OK
* checking whether package ‘ProteoMM’ can be installed ... OK
* checking installed package size ... OK
* checking package directory ... OK
* checking ‘build’ directory ... OK
* checking DESCRIPTION meta-information ... NOTE
License components which are templates and need '+ file LICENSE':
MIT
* checking top-level files ... OK
* checking for left-over files ... OK
* checking index information ... OK
* checking package subdirectories ... OK
* checking R files for non-ASCII characters ... OK
* checking R files for syntax errors ... OK
* checking whether the package can be loaded ... OK
* checking whether the package can be loaded with stated dependencies ... OK
* checking whether the package can be unloaded cleanly ... OK
* checking whether the namespace can be loaded with stated dependencies ... OK
* checking whether the namespace can be unloaded cleanly ... OK
* checking loading without being on the library search path ... OK
* checking dependencies in R code ... OK
* checking S3 generic/method consistency ... OK
* checking replacement functions ... OK
* checking foreign function calls ... OK
* checking R code for possible problems ... OK
* checking Rd files ... OK
* checking Rd metadata ... OK
* checking Rd cross-references ... OK
* checking for missing documentation entries ... OK
* checking for code/documentation mismatches ... OK
* checking Rd \usage sections ... OK
* checking Rd contents ... OK
* checking for unstated dependencies in examples ... OK
* checking contents of ‘data’ directory ... OK
* checking data for non-ASCII characters ... OK
* checking LazyData ... OK
* checking data for ASCII and uncompressed saves ... OK
* checking files in ‘vignettes’ ... OK
* checking examples ... OK
Examples with CPU (user + system) or elapsed time > 5s
user system elapsed
prot_level_multi_part 19.750 0.072 19.821
subset_proteins 6.988 0.028 7.016
prot_level_multiMat_PresAbs 6.929 0.053 6.981
peptideLevel_PresAbsDE 5.567 0.027 5.595
get_presAbs_prots 5.507 0.036 5.543
* checking for unstated dependencies in vignettes ... OK
* checking package vignettes in ‘inst/doc’ ... OK
* checking running R code from vignettes ...
‘ProteoMM_vignette.Rmd’ using ‘UTF-8’... OK
NONE
* checking re-building of vignette outputs ... OK
* checking PDF version of manual ... OK
* DONE
Status: 1 NOTE
See
‘/home/biocbuild/bbs-3.17-bioc/meat/ProteoMM.Rcheck/00check.log’
for details.
ProteoMM.Rcheck/00install.out
############################################################################## ############################################################################## ### ### Running command: ### ### /home/biocbuild/bbs-3.17-bioc/R/bin/R CMD INSTALL ProteoMM ### ############################################################################## ############################################################################## * installing to library ‘/home/biocbuild/bbs-3.17-bioc/R/site-library’ * installing *source* package ‘ProteoMM’ ... ** using staged installation ** R ** data *** moving datasets to lazyload DB ** byte-compile and prepare package for lazy loading ** help *** installing help indices ** building package indices ** installing vignettes ** testing if installed package can be loaded from temporary location ** testing if installed package can be loaded from final location ** testing if installed package keeps a record of temporary installation path * DONE (ProteoMM)
ProteoMM.Rcheck/ProteoMM-Ex.timings
| name | user | system | elapsed | |
| MBimpute | 4.121 | 0.032 | 4.153 | |
| convert_log2 | 0.006 | 0.000 | 0.006 | |
| eig_norm1 | 3.266 | 0.024 | 3.291 | |
| eig_norm2 | 3.193 | 0.016 | 3.209 | |
| eigen_pi | 0.023 | 0.000 | 0.023 | |
| g.test | 0.003 | 0.000 | 0.003 | |
| get_presAbs_prots | 5.507 | 0.036 | 5.543 | |
| makeLMFormula | 0.001 | 0.000 | 0.001 | |
| make_intencities | 0.000 | 0.004 | 0.005 | |
| make_meta | 0.002 | 0.002 | 0.004 | |
| peptideLevel_DE | 4.238 | 0.009 | 4.246 | |
| peptideLevel_PresAbsDE | 5.567 | 0.027 | 5.595 | |
| plot_3_pep_trends_NOfile | 2.982 | 0.013 | 2.994 | |
| plot_volcano | 4.155 | 0.008 | 4.163 | |
| plot_volcano_wLab | 4.573 | 0.027 | 4.601 | |
| prot_level_multiMat_PresAbs | 6.929 | 0.053 | 6.981 | |
| prot_level_multi_part | 19.750 | 0.072 | 19.821 | |
| subset_proteins | 6.988 | 0.028 | 7.016 | |