| Back to Multiple platform build/check report for BioC 3.17: simplified long |
|
This page was generated on 2023-03-16 11:06:24 -0400 (Thu, 16 Mar 2023).
| Hostname | OS | Arch (*) | R version | Installed pkgs |
|---|---|---|---|---|
| nebbiolo1 | Linux (Ubuntu 22.04.1 LTS) | x86_64 | R Under development (unstable) (2023-01-10 r83596) -- "Unsuffered Consequences" | 4540 |
| palomino3 | Windows Server 2022 Datacenter | x64 | R Under development (unstable) (2023-01-10 r83596 ucrt) -- "Unsuffered Consequences" | 4302 |
| merida1 | macOS 10.14.6 Mojave | x86_64 | R Under development (unstable) (2023-01-10 r83596) -- "Unsuffered Consequences" | 4330 |
| Click on any hostname to see more info about the system (e.g. compilers) (*) as reported by 'uname -p', except on Windows and Mac OS X | ||||
|
To the developers/maintainers of the PFP package: - Please allow up to 24 hours (and sometimes 48 hours) for your latest push to git@git.bioconductor.org:packages/PFP.git to reflect on this report. See How and When does the builder pull? When will my changes propagate? for more information. - Make sure to use the following settings in order to reproduce any error or warning you see on this page. |
| Package 1475/2189 | Hostname | OS / Arch | INSTALL | BUILD | CHECK | BUILD BIN | ||||||||
| PFP 1.7.0 (landing page) XC Zhang
| nebbiolo1 | Linux (Ubuntu 22.04.1 LTS) / x86_64 | OK | OK | OK | |||||||||
| palomino3 | Windows Server 2022 Datacenter / x64 | OK | OK | OK | OK | |||||||||
| merida1 | macOS 10.14.6 Mojave / x86_64 | OK | OK | OK | OK | |||||||||
| Package: PFP |
| Version: 1.7.0 |
| Command: F:\biocbuild\bbs-3.17-bioc\R\bin\R.exe CMD check --no-multiarch --install=check:PFP.install-out.txt --library=F:\biocbuild\bbs-3.17-bioc\R\library --no-vignettes --timings PFP_1.7.0.tar.gz |
| StartedAt: 2023-03-16 04:40:25 -0400 (Thu, 16 Mar 2023) |
| EndedAt: 2023-03-16 04:44:04 -0400 (Thu, 16 Mar 2023) |
| EllapsedTime: 219.4 seconds |
| RetCode: 0 |
| Status: OK |
| CheckDir: PFP.Rcheck |
| Warnings: 0 |
##############################################################################
##############################################################################
###
### Running command:
###
### F:\biocbuild\bbs-3.17-bioc\R\bin\R.exe CMD check --no-multiarch --install=check:PFP.install-out.txt --library=F:\biocbuild\bbs-3.17-bioc\R\library --no-vignettes --timings PFP_1.7.0.tar.gz
###
##############################################################################
##############################################################################
* using log directory 'F:/biocbuild/bbs-3.17-bioc/meat/PFP.Rcheck'
* using R Under development (unstable) (2023-01-10 r83596 ucrt)
* using platform: x86_64-w64-mingw32 (64-bit)
* R was compiled by
gcc.exe (GCC) 12.2.0
GNU Fortran (GCC) 12.2.0
* running under: Windows Server x64 (build 20348)
* using session charset: UTF-8
* using option '--no-vignettes'
* checking for file 'PFP/DESCRIPTION' ... OK
* checking extension type ... Package
* this is package 'PFP' version '1.7.0'
* package encoding: UTF-8
* checking package namespace information ... OK
* checking package dependencies ... OK
* checking if this is a source package ... OK
* checking if there is a namespace ... OK
* checking for hidden files and directories ... OK
* checking for portable file names ... OK
* checking whether package 'PFP' can be installed ... OK
* checking installed package size ... OK
* checking package directory ... OK
* checking 'build' directory ... OK
* checking DESCRIPTION meta-information ... OK
* checking top-level files ... OK
* checking for left-over files ... OK
* checking index information ... OK
* checking package subdirectories ... OK
* checking R files for non-ASCII characters ... OK
* checking R files for syntax errors ... OK
* checking whether the package can be loaded ... OK
* checking whether the package can be loaded with stated dependencies ... OK
* checking whether the package can be unloaded cleanly ... OK
* checking whether the namespace can be loaded with stated dependencies ... OK
* checking whether the namespace can be unloaded cleanly ... OK
* checking dependencies in R code ... OK
* checking S3 generic/method consistency ... OK
* checking replacement functions ... OK
* checking foreign function calls ... OK
* checking R code for possible problems ... OK
* checking Rd files ... OK
* checking Rd metadata ... OK
* checking Rd cross-references ... OK
* checking for missing documentation entries ... OK
* checking for code/documentation mismatches ... OK
* checking Rd \usage sections ... OK
* checking Rd contents ... OK
* checking for unstated dependencies in examples ... OK
* checking contents of 'data' directory ... OK
* checking data for non-ASCII characters ... OK
* checking data for ASCII and uncompressed saves ... OK
* checking files in 'vignettes' ... OK
* checking examples ... OK
Examples with CPU (user + system) or elapsed time > 5s
user system elapsed
calc_PFP_score 10.17 0.3 10.47
* checking for unstated dependencies in 'tests' ... OK
* checking tests ...
Running 'testthat.R'
OK
* checking for unstated dependencies in vignettes ... OK
* checking package vignettes in 'inst/doc' ... OK
* checking running R code from vignettes ... SKIPPED
* checking re-building of vignette outputs ... SKIPPED
* checking PDF version of manual ... OK
* DONE
Status: OK
PFP.Rcheck/00install.out
############################################################################## ############################################################################## ### ### Running command: ### ### F:\biocbuild\bbs-3.17-bioc\R\bin\R.exe CMD INSTALL PFP ### ############################################################################## ############################################################################## * installing to library 'F:/biocbuild/bbs-3.17-bioc/R/library' * installing *source* package 'PFP' ... ** using staged installation ** R ** data ** byte-compile and prepare package for lazy loading ** help *** installing help indices ** building package indices ** installing vignettes ** testing if installed package can be loaded from temporary location ** testing if installed package can be loaded from final location ** testing if installed package keeps a record of temporary installation path * DONE (PFP)
PFP.Rcheck/tests/testthat.Rout
R Under development (unstable) (2023-01-10 r83596 ucrt) -- "Unsuffered Consequences"
Copyright (C) 2023 The R Foundation for Statistical Computing
Platform: x86_64-w64-mingw32/x64 (64-bit)
R is free software and comes with ABSOLUTELY NO WARRANTY.
You are welcome to redistribute it under certain conditions.
Type 'license()' or 'licence()' for distribution details.
R is a collaborative project with many contributors.
Type 'contributors()' for more information and
'citation()' on how to cite R or R packages in publications.
Type 'demo()' for some demos, 'help()' for on-line help, or
'help.start()' for an HTML browser interface to help.
Type 'q()' to quit R.
> library(testthat)
> library(PFP)
> test_check('PFP')
[ FAIL 0 | WARN 6 | SKIP 0 | PASS 31 ]
[ FAIL 0 | WARN 6 | SKIP 0 | PASS 31 ]
>
> proc.time()
user system elapsed
8.15 0.67 8.78
PFP.Rcheck/PFP-Ex.timings
| name | user | system | elapsed | |
| PFP-class | 0.14 | 0.00 | 0.14 | |
| PFPRefnet-class | 0.43 | 0.03 | 0.45 | |
| PFPRefnet_hsa | 0.22 | 0.00 | 0.22 | |
| PFPRefnet_mmu | 0.37 | 0.00 | 0.37 | |
| PFP_score-methods | 0 | 0 | 0 | |
| PFP_test1 | 0.02 | 0.00 | 0.02 | |
| PFP_test2 | 0 | 0 | 0 | |
| calc_PFP_score | 10.17 | 0.30 | 10.47 | |
| data_std | 0.00 | 0.01 | 0.01 | |
| gene_list_hsa | 0.00 | 0.02 | 0.02 | |
| genes_score-methods | 0 | 0 | 0 | |
| get_PFPRefnet | 0 | 0 | 0 | |
| get_asso_net | 2.47 | 0.00 | 2.47 | |
| get_bg_related_kegg | 1.26 | 0.01 | 1.28 | |
| get_exp_cor_edges | 0.13 | 0.00 | 0.13 | |
| get_pathway_info | 0.08 | 0.00 | 1.51 | |
| group-methods | 0.23 | 0.00 | 0.23 | |
| kegg_download | 0 | 0 | 0 | |
| net_info-methods | 0.23 | 0.00 | 0.24 | |
| net_names-methods | 0.24 | 0.00 | 0.23 | |
| network-methods | 0.23 | 0.00 | 0.24 | |
| pathway_info | 0 | 0 | 0 | |
| pathway_info_hsa | 0 | 0 | 0 | |
| pathways_score-methods | 0 | 0 | 0 | |
| plot_PFP-methods | 0.28 | 0.00 | 0.29 | |
| plot_PFPlist | 0.19 | 0.01 | 0.20 | |
| rank_PFP-methods | 0.16 | 0.00 | 0.16 | |
| refnet_info-methods | 0 | 0 | 0 | |
| refnet_names-methods | 0.01 | 0.00 | 0.01 | |
| result_PFP-methods | 0 | 0 | 0 | |
| show_PFP-methods | 0.02 | 0.00 | 0.02 | |
| show_net-methods | 0.23 | 0.00 | 0.23 | |
| stats_test-methods | 0.00 | 0.02 | 0.02 | |
| sub_PFP-methods | 0.10 | 0.04 | 0.14 | |
| subnet-methods | 0.25 | 0.00 | 0.25 | |
| trans_edges_id | 1.47 | 0.02 | 1.48 | |
| trans_graph2PFPRefnet | 0.61 | 0.03 | 0.64 | |
| trans_xml2graph | 0 | 0 | 0 | |