| Back to Multiple platform build/check report for BioC 3.17: simplified long |
|
This page was generated on 2023-10-16 11:36:25 -0400 (Mon, 16 Oct 2023).
| Hostname | OS | Arch (*) | R version | Installed pkgs |
|---|---|---|---|---|
| nebbiolo1 | Linux (Ubuntu 22.04.2 LTS) | x86_64 | 4.3.1 (2023-06-16) -- "Beagle Scouts" | 4626 |
| palomino3 | Windows Server 2022 Datacenter | x64 | 4.3.1 (2023-06-16 ucrt) -- "Beagle Scouts" | 4379 |
| merida1 | macOS 12.6.4 Monterey | x86_64 | 4.3.1 (2023-06-16) -- "Beagle Scouts" | 4395 |
| Click on any hostname to see more info about the system (e.g. compilers) (*) as reported by 'uname -p', except on Windows and Mac OS X | ||||
| Package 1430/2230 | Hostname | OS / Arch | INSTALL | BUILD | CHECK | BUILD BIN | ||||||||
| OncoSimulR 4.2.0 (landing page) Ramon Diaz-Uriarte
| nebbiolo1 | Linux (Ubuntu 22.04.2 LTS) / x86_64 | OK | OK | OK | |||||||||
| palomino3 | Windows Server 2022 Datacenter / x64 | OK | OK | OK | OK | |||||||||
| merida1 | macOS 12.6.4 Monterey / x86_64 | OK | OK | OK | OK | |||||||||
| kjohnson2 | macOS 12.6.1 Monterey / arm64 | see weekly results here | ||||||||||||
|
To the developers/maintainers of the OncoSimulR package: - Allow up to 24 hours (and sometimes 48 hours) for your latest push to git@git.bioconductor.org:packages/OncoSimulR.git to reflect on this report. See Troubleshooting Build Report for more information. - Use the following Renviron settings to reproduce errors and warnings. - If 'R CMD check' started to fail recently on the Linux builder(s) over a missing dependency, add the missing dependency to 'Suggests:' in your DESCRIPTION file. See Renviron.bioc for more information. |
| Package: OncoSimulR |
| Version: 4.2.0 |
| Command: F:\biocbuild\bbs-3.17-bioc\R\bin\R.exe CMD check --no-multiarch --install=check:OncoSimulR.install-out.txt --library=F:\biocbuild\bbs-3.17-bioc\R\library --no-vignettes --timings OncoSimulR_4.2.0.tar.gz |
| StartedAt: 2023-10-16 04:56:44 -0400 (Mon, 16 Oct 2023) |
| EndedAt: 2023-10-16 05:05:09 -0400 (Mon, 16 Oct 2023) |
| EllapsedTime: 504.9 seconds |
| RetCode: 0 |
| Status: OK |
| CheckDir: OncoSimulR.Rcheck |
| Warnings: 0 |
##############################################################################
##############################################################################
###
### Running command:
###
### F:\biocbuild\bbs-3.17-bioc\R\bin\R.exe CMD check --no-multiarch --install=check:OncoSimulR.install-out.txt --library=F:\biocbuild\bbs-3.17-bioc\R\library --no-vignettes --timings OncoSimulR_4.2.0.tar.gz
###
##############################################################################
##############################################################################
* using log directory 'F:/biocbuild/bbs-3.17-bioc/meat/OncoSimulR.Rcheck'
* using R version 4.3.1 (2023-06-16 ucrt)
* using platform: x86_64-w64-mingw32 (64-bit)
* R was compiled by
gcc.exe (GCC) 12.2.0
GNU Fortran (GCC) 12.2.0
* running under: Windows Server 2022 x64 (build 20348)
* using session charset: UTF-8
* using option '--no-vignettes'
* checking for file 'OncoSimulR/DESCRIPTION' ... OK
* checking extension type ... Package
* this is package 'OncoSimulR' version '4.2.0'
* checking package namespace information ... OK
* checking package dependencies ... OK
* checking if this is a source package ... OK
* checking if there is a namespace ... OK
* checking for hidden files and directories ... OK
* checking for portable file names ... OK
* checking whether package 'OncoSimulR' can be installed ... OK
* used C compiler: 'gcc.exe (GCC) 12.2.0'
* used C++ compiler: 'G__~1.EXE (GCC) 12.2.0'
* checking installed package size ... NOTE
installed size is 8.3Mb
sub-directories of 1Mb or more:
libs 6.6Mb
* checking package directory ... OK
* checking 'build' directory ... OK
* checking DESCRIPTION meta-information ... OK
* checking top-level files ... OK
* checking for left-over files ... OK
* checking index information ... OK
* checking package subdirectories ... OK
* checking R files for non-ASCII characters ... OK
* checking R files for syntax errors ... OK
* checking whether the package can be loaded ... OK
* checking whether the package can be loaded with stated dependencies ... OK
* checking whether the package can be unloaded cleanly ... OK
* checking whether the namespace can be loaded with stated dependencies ... OK
* checking whether the namespace can be unloaded cleanly ... OK
* checking dependencies in R code ... OK
* checking S3 generic/method consistency ... OK
* checking replacement functions ... OK
* checking foreign function calls ... OK
* checking R code for possible problems ... OK
* checking Rd files ... OK
* checking Rd metadata ... OK
* checking Rd cross-references ... OK
* checking for missing documentation entries ... OK
* checking for code/documentation mismatches ... OK
* checking Rd \usage sections ... OK
* checking Rd contents ... OK
* checking for unstated dependencies in examples ... OK
* checking contents of 'data' directory ... OK
* checking data for non-ASCII characters ... OK
* checking data for ASCII and uncompressed saves ... OK
* checking line endings in C/C++/Fortran sources/headers ... OK
* checking line endings in Makefiles ... OK
* checking compilation flags in Makevars ... OK
* checking for GNU extensions in Makefiles ... OK
* checking for portable use of $(BLAS_LIBS) and $(LAPACK_LIBS) ... OK
* checking use of PKG_*FLAGS in Makefiles ... OK
* checking include directives in Makefiles ... OK
* checking compiled code ... NOTE
Note: information on .o files for x64 is not available
File 'F:/biocbuild/bbs-3.17-bioc/R/library/OncoSimulR/libs/x64/OncoSimulR.dll':
Found 'abort', possibly from 'abort' (C), 'runtime' (Fortran)
Found 'exit', possibly from 'exit' (C), 'stop' (Fortran)
Compiled code should not call entry points which might terminate R nor
write to stdout/stderr instead of to the console, nor use Fortran I/O
nor system RNGs nor [v]sprintf. The detected symbols are linked into
the code but might come from libraries and not actually be called.
See 'Writing portable packages' in the 'Writing R Extensions' manual.
* checking files in 'vignettes' ... OK
* checking examples ... OK
* checking for unstated dependencies in 'tests' ... OK
* checking tests ...
Running 'testthat.R'
OK
* checking for unstated dependencies in vignettes ... OK
* checking package vignettes in 'inst/doc' ... OK
* checking running R code from vignettes ... SKIPPED
* checking re-building of vignette outputs ... SKIPPED
* checking PDF version of manual ... OK
* DONE
Status: 2 NOTEs
See
'F:/biocbuild/bbs-3.17-bioc/meat/OncoSimulR.Rcheck/00check.log'
for details.
OncoSimulR.Rcheck/00install.out
##############################################################################
##############################################################################
###
### Running command:
###
### F:\biocbuild\bbs-3.17-bioc\R\bin\R.exe CMD INSTALL OncoSimulR
###
##############################################################################
##############################################################################
* installing to library 'F:/biocbuild/bbs-3.17-bioc/R/library'
* installing *source* package 'OncoSimulR' ...
** using staged installation
** libs
using C compiler: 'gcc.exe (GCC) 12.2.0'
using C++ compiler: 'G__~1.EXE (GCC) 12.2.0'
gcc -I"F:/biocbuild/bbs-3.17-bioc/R/include" -DNDEBUG -I'F:/biocbuild/bbs-3.17-bioc/R/library/Rcpp/include' -I"C:/rtools43/x86_64-w64-mingw32.static.posix/include" -O2 -Wall -mfpmath=sse -msse2 -mstackrealign -c FitnessLandscape/gamma.c -o FitnessLandscape/gamma.o
gcc -I"F:/biocbuild/bbs-3.17-bioc/R/include" -DNDEBUG -I'F:/biocbuild/bbs-3.17-bioc/R/library/Rcpp/include' -I"C:/rtools43/x86_64-w64-mingw32.static.posix/include" -O2 -Wall -mfpmath=sse -msse2 -mstackrealign -c FitnessLandscape/landscape.c -o FitnessLandscape/landscape.o
gcc -I"F:/biocbuild/bbs-3.17-bioc/R/include" -DNDEBUG -I'F:/biocbuild/bbs-3.17-bioc/R/library/Rcpp/include' -I"C:/rtools43/x86_64-w64-mingw32.static.posix/include" -O2 -Wall -mfpmath=sse -msse2 -mstackrealign -c FitnessLandscape/random.c -o FitnessLandscape/random.o
gcc -I"F:/biocbuild/bbs-3.17-bioc/R/include" -DNDEBUG -I'F:/biocbuild/bbs-3.17-bioc/R/library/Rcpp/include' -I"C:/rtools43/x86_64-w64-mingw32.static.posix/include" -O2 -Wall -mfpmath=sse -msse2 -mstackrealign -c FitnessLandscape/sort.c -o FitnessLandscape/sort.o
gcc -I"F:/biocbuild/bbs-3.17-bioc/R/include" -DNDEBUG -I'F:/biocbuild/bbs-3.17-bioc/R/library/Rcpp/include' -I"C:/rtools43/x86_64-w64-mingw32.static.posix/include" -O2 -Wall -mfpmath=sse -msse2 -mstackrealign -c FitnessLandscape/chain.c -o FitnessLandscape/chain.o
gcc -I"F:/biocbuild/bbs-3.17-bioc/R/include" -DNDEBUG -I'F:/biocbuild/bbs-3.17-bioc/R/library/Rcpp/include' -I"C:/rtools43/x86_64-w64-mingw32.static.posix/include" -O2 -Wall -mfpmath=sse -msse2 -mstackrealign -c FitnessLandscape/input.c -o FitnessLandscape/input.o
gcc -I"F:/biocbuild/bbs-3.17-bioc/R/include" -DNDEBUG -I'F:/biocbuild/bbs-3.17-bioc/R/library/Rcpp/include' -I"C:/rtools43/x86_64-w64-mingw32.static.posix/include" -O2 -Wall -mfpmath=sse -msse2 -mstackrealign -c FitnessLandscape/genotypes.c -o FitnessLandscape/genotypes.o
gcc -I"F:/biocbuild/bbs-3.17-bioc/R/include" -DNDEBUG -I'F:/biocbuild/bbs-3.17-bioc/R/library/Rcpp/include' -I"C:/rtools43/x86_64-w64-mingw32.static.posix/include" -O2 -Wall -mfpmath=sse -msse2 -mstackrealign -c FitnessLandscape/ordered_pairs.c -o FitnessLandscape/ordered_pairs.o
gcc -I"F:/biocbuild/bbs-3.17-bioc/R/include" -DNDEBUG -I'F:/biocbuild/bbs-3.17-bioc/R/library/Rcpp/include' -I"C:/rtools43/x86_64-w64-mingw32.static.posix/include" -O2 -Wall -mfpmath=sse -msse2 -mstackrealign -c FitnessLandscape/calculus.c -o FitnessLandscape/calculus.o
gcc -I"F:/biocbuild/bbs-3.17-bioc/R/include" -DNDEBUG -I'F:/biocbuild/bbs-3.17-bioc/R/library/Rcpp/include' -I"C:/rtools43/x86_64-w64-mingw32.static.posix/include" -O2 -Wall -mfpmath=sse -msse2 -mstackrealign -c FitnessLandscape/vector.c -o FitnessLandscape/vector.o
gcc -I"F:/biocbuild/bbs-3.17-bioc/R/include" -DNDEBUG -I'F:/biocbuild/bbs-3.17-bioc/R/library/Rcpp/include' -I"C:/rtools43/x86_64-w64-mingw32.static.posix/include" -O2 -Wall -mfpmath=sse -msse2 -mstackrealign -c FitnessLandscape/generalized_chain.c -o FitnessLandscape/generalized_chain.o
gcc -I"F:/biocbuild/bbs-3.17-bioc/R/include" -DNDEBUG -I'F:/biocbuild/bbs-3.17-bioc/R/library/Rcpp/include' -I"C:/rtools43/x86_64-w64-mingw32.static.posix/include" -O2 -Wall -mfpmath=sse -msse2 -mstackrealign -c FitnessLandscape/LinearAlgebra.c -o FitnessLandscape/LinearAlgebra.o
gcc -I"F:/biocbuild/bbs-3.17-bioc/R/include" -DNDEBUG -I'F:/biocbuild/bbs-3.17-bioc/R/library/Rcpp/include' -I"C:/rtools43/x86_64-w64-mingw32.static.posix/include" -O2 -Wall -mfpmath=sse -msse2 -mstackrealign -c FitnessLandscape/summary_statistics.c -o FitnessLandscape/summary_statistics.o
gcc -I"F:/biocbuild/bbs-3.17-bioc/R/include" -DNDEBUG -I'F:/biocbuild/bbs-3.17-bioc/R/library/Rcpp/include' -I"C:/rtools43/x86_64-w64-mingw32.static.posix/include" -O2 -Wall -mfpmath=sse -msse2 -mstackrealign -c FitnessLandscape/epistasis_type.c -o FitnessLandscape/epistasis_type.o
gcc -I"F:/biocbuild/bbs-3.17-bioc/R/include" -DNDEBUG -I'F:/biocbuild/bbs-3.17-bioc/R/library/Rcpp/include' -I"C:/rtools43/x86_64-w64-mingw32.static.posix/include" -O2 -Wall -mfpmath=sse -msse2 -mstackrealign -c FitnessLandscape/decomposition.c -o FitnessLandscape/decomposition.o
gcc -I"F:/biocbuild/bbs-3.17-bioc/R/include" -DNDEBUG -I'F:/biocbuild/bbs-3.17-bioc/R/library/Rcpp/include' -I"C:/rtools43/x86_64-w64-mingw32.static.posix/include" -O2 -Wall -mfpmath=sse -msse2 -mstackrealign -c FitnessLandscape/models.c -o FitnessLandscape/models.o
gcc -I"F:/biocbuild/bbs-3.17-bioc/R/include" -DNDEBUG -I'F:/biocbuild/bbs-3.17-bioc/R/library/Rcpp/include' -I"C:/rtools43/x86_64-w64-mingw32.static.posix/include" -O2 -Wall -mfpmath=sse -msse2 -mstackrealign -c FitnessLandscape/verbose.c -o FitnessLandscape/verbose.o
ar -r liblandscape.a FitnessLandscape/gamma.o FitnessLandscape/landscape.o FitnessLandscape/random.o FitnessLandscape/sort.o FitnessLandscape/chain.o FitnessLandscape/input.o FitnessLandscape/genotypes.o FitnessLandscape/ordered_pairs.o FitnessLandscape/calculus.o FitnessLandscape/vector.o FitnessLandscape/generalized_chain.o FitnessLandscape/LinearAlgebra.o FitnessLandscape/summary_statistics.o FitnessLandscape/epistasis_type.o FitnessLandscape/decomposition.o FitnessLandscape/models.o FitnessLandscape/verbose.o ;
C:\rtools43\x86_64-w64-mingw32.static.posix\bin\ar.exe: creating liblandscape.a
ranlib liblandscape.a;
gcc -O -Wall -o fl_statistics -I/FitnessLandscape/. -L. FitnessLandscape/main_fl_statistics.c -llandscape -lm;
gcc -O -Wall -o fl_generate -I/FitnessLandscape/. -L. FitnessLandscape/main_fl_generate.c -llandscape -lm;
gcc -I"F:/biocbuild/bbs-3.17-bioc/R/include" -DNDEBUG -I'F:/biocbuild/bbs-3.17-bioc/R/library/Rcpp/include' -I"C:/rtools43/x86_64-w64-mingw32.static.posix/include" -O2 -Wall -mfpmath=sse -msse2 -mstackrealign -c OncoSimulR_init.c -o OncoSimulR_init.o
g++ -std=gnu++17 -I"F:/biocbuild/bbs-3.17-bioc/R/include" -DNDEBUG -I'F:/biocbuild/bbs-3.17-bioc/R/library/Rcpp/include' -I"C:/rtools43/x86_64-w64-mingw32.static.posix/include" -O2 -Wall -mfpmath=sse -msse2 -mstackrealign -Wa,-mbig-obj -c RcppExports.cpp -o RcppExports.o
g++ -std=gnu++17 -I"F:/biocbuild/bbs-3.17-bioc/R/include" -DNDEBUG -I'F:/biocbuild/bbs-3.17-bioc/R/library/Rcpp/include' -I"C:/rtools43/x86_64-w64-mingw32.static.posix/include" -O2 -Wall -mfpmath=sse -msse2 -mstackrealign -Wa,-mbig-obj -c unity_osimul.cpp -o unity_osimul.o
In file included from unity_osimul.cpp:4:
UnityOncoSimul/BNB_nr.cpp: In function 'void nr_innerBNB(const fitnessEffectsAll&, const std::vector<double>&, const double&, TypeModel, const int&, const std::vector<double>&, const double&, const double&, const double&, const std::vector<std::vector<int> >&, const time_t&, const double&, const double&, const double&, const int&, const double&, const double&, const int&, double&, double&, double&, double&, double&, int&, int&, int&, std::vector<Genotype>&, std::vector<double>&, std::vector<int>&, std::vector<double>&, std::vector<Intervention>&, std::vector<double>&, std::vector<double>&, std::vector<int>&, std::vector<int>&, bool&, std::mt19937&, double&, bool&, const std::map<int, std::__cxx11::basic_string<char> >&, const fitness_as_genes&, PhylogName&, bool, const fitnessEffectsAll&, const std::vector<int>&, const double&, const double&, const double&, const bool&, const std::vector<std::vector<int> >&, const double&, const int&, const double&, int&, int&, std::map<std::__cxx11::basic_string<char>, std::__cxx11::basic_string<char> >&, POM&, Rcpp::List, Rcpp::List, Rcpp::List)':
UnityOncoSimul/BNB_nr.cpp:860:10: warning: 'minNextMutationTime' may be used uninitialized [-Wmaybe-uninitialized]
860 | double minNextMutationTime;
| ^~~~~~~~~~~~~~~~~~~
g++ -std=gnu++17 -shared -s -static-libgcc -o OncoSimulR.dll tmp.def OncoSimulR_init.o RcppExports.o unity_osimul.o -LC:/rtools43/x86_64-w64-mingw32.static.posix/lib/x64 -LC:/rtools43/x86_64-w64-mingw32.static.posix/lib -LF:/biocbuild/bbs-3.17-bioc/R/bin/x64 -lR
installing via 'install.libs.R' to F:/biocbuild/bbs-3.17-bioc/R/library/00LOCK-OncoSimulR/00new/OncoSimulR
[1] "/x64"
Installing fl_statistics.exe fl_generate.exe to F:/biocbuild/bbs-3.17-bioc/R/library/00LOCK-OncoSimulR/00new/OncoSimulR/exec/x64
Installing library OncoSimulR.dll to F:/biocbuild/bbs-3.17-bioc/R/library/00LOCK-OncoSimulR/00new/OncoSimulR/libs/x64
** R
** data
** inst
** byte-compile and prepare package for lazy loading
** help
*** installing help indices
** building package indices
** installing vignettes
** testing if installed package can be loaded from temporary location
** testing if installed package can be loaded from final location
** testing if installed package keeps a record of temporary installation path
* DONE (OncoSimulR)
OncoSimulR.Rcheck/tests/testthat.Rout
R version 4.3.1 (2023-06-16 ucrt) -- "Beagle Scouts"
Copyright (C) 2023 The R Foundation for Statistical Computing
Platform: x86_64-w64-mingw32/x64 (64-bit)
R is free software and comes with ABSOLUTELY NO WARRANTY.
You are welcome to redistribute it under certain conditions.
Type 'license()' or 'licence()' for distribution details.
R is a collaborative project with many contributors.
Type 'contributors()' for more information and
'citation()' on how to cite R or R packages in publications.
Type 'demo()' for some demos, 'help()' for on-line help, or
'help.start()' for an HTML browser interface to help.
Type 'q()' to quit R.
> library(testthat)
> library(OncoSimulR)
>
> test_check("OncoSimulR")
Starting FDF-letter-fitness-order Mon Oct 16 05:00:11 2023
exprtk parser error:
Error[00] Position: 00 Type: [ Syntax Error] Msg: ERR202 - Undefined symbol: 'n_2_3' Expression: n_2_3
exprtk parser error:
Error[00] Position: 00 Type: [ Syntax Error] Msg: ERR202 - Undefined symbol: 'f_2_3' Expression: f_2_3
Ending FDF-small-fitness-specs Mon Oct 16 05:00:11 2023
Took 0.45
Starting LOD_POM at Mon Oct 16 05:00:11 2023
Ending LOD_POM at Mon Oct 16 05:00:27 2023
Took 15.95
Starting test.Z-all-fitness at Mon Oct 16 05:00:27 2023
Ending test.Z-all-fitness at Mon Oct 16 05:00:28 2023
Took 0.12
Starting test.Z-driver-counts at Mon Oct 16 05:00:28 2023
Ending test.Z-driver-counts at Mon Oct 16 05:00:28 2023
Took 0.23
Starting test.Z-fixation at Mon Oct 16 05:00:28 2023
Ending test.Z-fixation at Mon Oct 16 05:00:28 2023
Took 0.55
Starting test.Z-magellan at Mon Oct 16 05:00:28 2023
Ended test.Z-magellan at Mon Oct 16 05:00:30 2023
Starting test.Z-mutator at Mon Oct 16 05:00:30 2023
Ending test.Z-mutator at Mon Oct 16 05:00:30 2023
Took 0.35
Starting test.Z-mutatorFDF at Mon Oct 16 05:00:30 2023
Ending test.Z-mutatorFDF at Mon Oct 16 05:00:30 2023
Took 0.13
Starting test.Z-oncoSimulIndiv at Mon Oct 16 05:00:30 2023
Ending test.Z-oncoSimulIndiv at Mon Oct 16 05:00:31 2023
Took 1.07
Starting test.Z-oncoSimulIndivConstant at Mon Oct 16 05:00:31 2023
Ending test.Z-oncoSimulIndivConstant at Mon Oct 16 05:00:35 2023
Took 3.82
Starting test.Z-oncoSimulIndivDeath at Mon Oct 16 05:00:35 2023
Ending test.Z-oncoSimulIndivDeath at Mon Oct 16 05:00:37 2023
Took 1.41
Starting test.Z-oncoSimulIndivFDF at Mon Oct 16 05:00:37 2023
Hitted wall time. Exiting.
Hitting wall time is regarded as an error.
Ending test.Z-oncoSimulIndivFDF at Mon Oct 16 05:00:38 2023
Took 0.96
Starting test.Z-rfitness-landscape at Mon Oct 16 05:00:38 2023
Ending test.Z-rfitness-landscape at Mon Oct 16 05:00:38 2023
Took 0.19
Starting Z-sample-only-last tests Mon Oct 16 05:00:38 2023
Ending Z-sample-only-last tests Mon Oct 16 05:00:38 2023
Took 0
Starting Z-total-present-drivers tests Mon Oct 16 05:00:38 2023
Ending Z-total-present-drivers tests Mon Oct 16 05:00:39 2023
Took 1.03
Dummy empty test Mon Oct 16 05:00:39 2023
Starting accessible_genotypes at Mon Oct 16 05:00:39 2023
Ending accessible_genotypes at Mon Oct 16 05:00:46 2023
Took 7.49
Starting all fitness at Mon Oct 16 05:00:46 2023
Ending all-fitness at Mon Oct 16 05:00:51 2023
Took 4.58
Starting test.allFitnessEffectsFDF at Mon Oct 16 05:00:51 2023
Ending test.allFitnessEffectsFDF at Mon Oct 16 05:00:51 2023
Took 0.13
Starting test.allFitnessEffectsDeath at Mon Oct 16 05:00:51 2023
Ending test.allFitnessEffectsDeath at Mon Oct 16 05:00:51 2023
Took 0.41
Starting test.allFitnessEffectsFDF at Mon Oct 16 05:00:51 2023
Ending test.allFitnessEffectsFDF at Mon Oct 16 05:00:52 2023
Took 0.44
Starting driverCounts at Mon Oct 16 05:00:52 2023
Ending driverCounts at Mon Oct 16 05:01:00 2023
Took 8.06
Starting epist-order-modules at Mon Oct 16 05:01:00 2023
Ending epist-order-modules at Mon Oct 16 05:01:00 2023
Took 0.09
Starting test.evaluatingGenotypesDeath at Mon Oct 16 05:01:00 2023
Ending test.evaluatingGenotypesDeath at Mon Oct 16 05:01:00 2023
Took 0.23
Starting test.evaluatingGenotypesFDF at Mon Oct 16 05:01:00 2023
Ending test.evaluatingGenotypesFDF at Mon Oct 16 05:01:01 2023
Took 0.29
Starting exercise-plotting-code at Mon Oct 16 05:01:01 2023
Ending exercise-plotting-code at Mon Oct 16 05:01:06 2023
Took 5.36
Starting exercise-rfitness at Mon Oct 16 05:01:06 2023
Ending exercise-rfitness at Mon Oct 16 05:01:20 2023
Took 13.99
Starting to_Magella at Mon Oct 16 05:01:20 2023
Ending to_Magella at Mon Oct 16 05:01:20 2023
Took 0.06
Starting fitness preds at Mon Oct 16 05:01:20 2023
Observed vs expected, case III
done tries 1
Ending fitness preds long at Mon Oct 16 05:01:30 2023
Took 9.94
Starting fixation at Mon Oct 16 05:01:30 2023
Ending fixation at Mon Oct 16 05:02:11 2023
Took 41.15
Starting test.flfast-additional.R test at Mon Oct 16 05:02:11 2023
Ending test.flfast-additional.R test at Mon Oct 16 05:02:12 2023
Took 0.97
Starting test.flfast-mutator.R test at Mon Oct 16 05:02:12 2023
Finished test.flfast-mutator.R test at Mon Oct 16 05:02:14 2023
Took 1.52
Starting genotFitness at Mon Oct 16 05:02:14 2023
Ending genotFitness at Mon Oct 16 05:02:14 2023
Took 0.18
Starting genot_fitness_to_epistasis at Mon Oct 16 05:02:14 2023
Ending genot_fitness_to_epistasis at Mon Oct 16 05:02:14 2023
Took 0.04
Starting init-mutant tests Mon Oct 16 05:02:14 2023
exprtk parser error:
Error[00] Position: 18 Type: [ Syntax Error] Msg: ERR202 - Undefined symbol: 'f_2' Expression: 1.1 + 0.7*((f_1 + f_2) > 0.3)
Ending init-mutant tests Mon Oct 16 05:02:23 2023
Took 9.02
Starting interventions tests Mon Oct 16 05:02:23 2023
[1] "Checking intervention: intOverA"
[1] "Checking intervention: intOverA"
[1] "Checking intervention: intOverA"
[1] "Checking intervention: intOverA"
[1] "Checking intervention: intOverMultiplicatesA"
In intervention:intOverMultiplicatesA with WhatHappens: n_1 = n_1 * 2. You cannot intervene to generate more population.[1] "Checking intervention: intOverA"
[1] "Checking intervention: intOverA"
[1] "Checking intervention: intOverTotPop"
[1] 0.76 0.76 0.76
[1] "Checking intervention: intOverTotPop"
[1] "Checking intervention: intOverA"
[1] "Checking intervention: intOverB"
[1] "Checking intervention: intOverC"
[1] "Checking intervention: intOverD"
Init Mutant with birth == 1.0
Init Mutant with birth == 1.0
[1] "Checking intervention: intOverA"
[1] "Checking intervention: intOverB"
[1] "Checking intervention: intOverC"
[1] "Checking intervention: intOverD"
Init Mutant with birth == 1.0
Init Mutant with birth == 1.0
[1] "Checking user variable: user_var_1"
[1] "Checking rule: rule_1"
[1] "Checking rule: rule_2"
[1] "Checking rule: rule_3"
[1] "Checking intervention: intOverTotPop"
[1] "Checking intervention: intOverTotPop2"
[1] "Checking intervention: intOverTotPop3"
[1] "Checking user variable: user_var_1"
[1] "Checking rule: rule_1"
[1] "Checking rule: rule_2"
[1] "Checking rule: rule_3"
[1] "Checking intervention: intOverTotPop"
Ending interventions tests Mon Oct 16 05:02:28 2023
Took 5.17
Starting test.magellan at Mon Oct 16 05:02:28 2023
Ending test.magellan at Mon Oct 16 05:02:29 2023
Took 0.72
Starting test.modules-root-no-root at Mon Oct 16 05:02:29 2023
Ending test.modules-root-no-root at Mon Oct 16 05:02:29 2023
Took 0.12
Starting at mutPropGrowth Mon Oct 16 05:02:29 2023
Ended test.mutPropGrowth: Mon Oct 16 05:02:39 2023
Took 10.03
Starting test.mutator-oncoSimulSample.R test at Mon Oct 16 05:02:39 2023
Finished test.mutator-oncoSimulSample.R test at Mon Oct 16 05:02:47 2023
Took 8.29 seconds
Starting test.mutator.R test at Mon Oct 16 05:02:47 2023[1] 2.266667e-05
[1] 4.157309e-12
Finished test.mutator.R test at Mon Oct 16 05:03:06 2023
Took 18.79
Starting test.mutatorFDF.R test at Mon Oct 16 05:03:06 2023
Starting test.no-v1 at Mon Oct 16 05:03:07 2023
Ending test.no-v1 at Mon Oct 16 05:03:07 2023
Took 0.01
Starting oncoSimulIndiv-miscell tests Mon Oct 16 05:03:07 2023
Ending oncoSimulIndiv-miscell tests Mon Oct 16 05:03:14 2023
Took 7.64
Starting oncoSimulSample-failures tests Mon Oct 16 05:03:14 2023
Ending oncoSimulSample-failures tests Mon Oct 16 05:03:19 2023
Took 4.13
Starting oncoSimulSample-limits tests Mon Oct 16 05:03:19 2023
Ending oncoSimulSample-limits tests Mon Oct 16 05:03:19 2023
Took 0.07
Starting per-gene-mutation rates at Mon Oct 16 05:03:19 2023
Ending per-gene-mutation rates at Mon Oct 16 05:03:55 2023
Took 36.04
Starting plotFitnessLandscape at Mon Oct 16 05:03:55 2023
Ending plotFitnessLandscape at Mon Oct 16 05:03:58 2023
Took 3.04
Starting poset-transformations tests Mon Oct 16 05:03:58 2023
Ending poset-transformations tests Mon Oct 16 05:04:09 2023
Took 11.6
Starting sample-prob Mon Oct 16 05:04:09 2023
[1] 2.911897e-25
[1] 4.317963e-12
[1] 5.767324e-10
[1] 1.318482e-11
[1] 7.768735e-15
[1] 2.760578e-14
[1] 1.69769e-12
[1] 2.262575e-18
[1] 8.035649e-11
[1] 5.066522e-10
[1] 7.496957e-10
[1] 2.637399e-09
Ending sample-prob tests Mon Oct 16 05:04:19 2023
Took 9.29
Starting samplePop tests Mon Oct 16 05:04:19 2023
Ending samplePop tests Mon Oct 16 05:04:30 2023
Took 11.71
Starting simuls-runs-examples tests Mon Oct 16 05:04:30 2023
Ending simuls-runs-examples tests Mon Oct 16 05:04:46 2023
Took 16.14
Starting user variable tests Mon Oct 16 05:04:47 2023
[1] "Checking user variable: user_var_1"
[1] "Checking rule: rule_1"
Ending user variable tests Mon Oct 16 05:04:47 2023
Took 0.38
Starting warning-mutPropGrowth tests Mon Oct 16 05:04:47 2023
Ending warning-mutPropGrowth tests Mon Oct 16 05:04:48 2023
Took 1.03
Starting wide2long tests Mon Oct 16 05:04:48 2023
Ending wide2long tests Mon Oct 16 05:04:48 2023
Took 0.52
[ FAIL 0 | WARN 13 | SKIP 6 | PASS 8382 ]
══ Skipped tests (6) ═══════════════════════════════════════════════════════════
• On Windows (1): 'test.Z-magellan.R:664:5'
• empty test (5): 'test.FDF-letter-fitness-order.R:376:1',
'test.ZZ-dummy-skip-warn-test.R:8:1', 'test.ZZ-dummy-skip-warn-test.R:12:1',
'test.fixation.R:4:1', 'test.init-mutant.R:1097:1'
[ FAIL 0 | WARN 13 | SKIP 6 | PASS 8382 ]
>
> proc.time()
user system elapsed
268.00 5.54 282.92
OncoSimulR.Rcheck/OncoSimulR-Ex.timings
| name | user | system | elapsed | |
| OncoSimulWide2Long | 0.64 | 0.14 | 0.78 | |
| POM | 1.06 | 0.03 | 1.09 | |
| allFitnessEffects | 1.47 | 0.08 | 1.55 | |
| benchmarks | 0.02 | 0.00 | 0.02 | |
| createInterventions | 0.4 | 0.0 | 0.4 | |
| createUserVars | 0.66 | 0.00 | 0.66 | |
| evalAllGenotypes | 0.19 | 0.02 | 0.20 | |
| example-missing-drivers | 0.31 | 0.01 | 0.33 | |
| examplePosets | 0.27 | 0.02 | 0.28 | |
| examplesFitnessEffects | 0.03 | 0.02 | 0.05 | |
| freq-dep-simul-examples | 0.01 | 0.00 | 0.01 | |
| mcfLs | 0 | 0 | 0 | |
| oncoSimulIndiv | 1.64 | 0.01 | 1.66 | |
| plot.fitnessEffects | 0.22 | 0.00 | 0.25 | |
| plot.oncosimul | 0.66 | 0.01 | 0.68 | |
| plotClonePhylog | 1.14 | 0.06 | 1.20 | |
| plotFitnessLandscape | 1.11 | 0.02 | 1.12 | |
| plotPoset | 0.11 | 0.02 | 0.13 | |
| poset | 0.11 | 0.00 | 0.11 | |
| rfitness | 0.53 | 0.03 | 0.81 | |
| samplePop | 0.04 | 0.01 | 0.06 | |
| simOGraph | 0.05 | 0.02 | 0.07 | |
| to_Magellan | 0.08 | 0.03 | 0.81 | |
| vignette_pre_computed | 0.00 | 0.02 | 0.01 | |