| Back to Multiple platform build/check report for BioC 3.17: simplified long |
|
This page was generated on 2023-10-16 11:36:25 -0400 (Mon, 16 Oct 2023).
| Hostname | OS | Arch (*) | R version | Installed pkgs |
|---|---|---|---|---|
| nebbiolo1 | Linux (Ubuntu 22.04.2 LTS) | x86_64 | 4.3.1 (2023-06-16) -- "Beagle Scouts" | 4626 |
| palomino3 | Windows Server 2022 Datacenter | x64 | 4.3.1 (2023-06-16 ucrt) -- "Beagle Scouts" | 4379 |
| merida1 | macOS 12.6.4 Monterey | x86_64 | 4.3.1 (2023-06-16) -- "Beagle Scouts" | 4395 |
| Click on any hostname to see more info about the system (e.g. compilers) (*) as reported by 'uname -p', except on Windows and Mac OS X | ||||
| Package 1425/2230 | Hostname | OS / Arch | INSTALL | BUILD | CHECK | BUILD BIN | ||||||||
| OmnipathR 3.8.2 (landing page) Denes Turei
| nebbiolo1 | Linux (Ubuntu 22.04.2 LTS) / x86_64 | OK | OK | OK | |||||||||
| palomino3 | Windows Server 2022 Datacenter / x64 | OK | OK | OK | OK | |||||||||
| merida1 | macOS 12.6.4 Monterey / x86_64 | OK | OK | OK | OK | |||||||||
| kjohnson2 | macOS 12.6.1 Monterey / arm64 | see weekly results here | ||||||||||||
|
To the developers/maintainers of the OmnipathR package: - Allow up to 24 hours (and sometimes 48 hours) for your latest push to git@git.bioconductor.org:packages/OmnipathR.git to reflect on this report. See Troubleshooting Build Report for more information. - Use the following Renviron settings to reproduce errors and warnings. - If 'R CMD check' started to fail recently on the Linux builder(s) over a missing dependency, add the missing dependency to 'Suggests:' in your DESCRIPTION file. See Renviron.bioc for more information. |
| Package: OmnipathR |
| Version: 3.8.2 |
| Command: F:\biocbuild\bbs-3.17-bioc\R\bin\R.exe CMD check --no-multiarch --install=check:OmnipathR.install-out.txt --library=F:\biocbuild\bbs-3.17-bioc\R\library --no-vignettes --timings OmnipathR_3.8.2.tar.gz |
| StartedAt: 2023-10-16 04:55:21 -0400 (Mon, 16 Oct 2023) |
| EndedAt: 2023-10-16 05:05:38 -0400 (Mon, 16 Oct 2023) |
| EllapsedTime: 617.1 seconds |
| RetCode: 0 |
| Status: OK |
| CheckDir: OmnipathR.Rcheck |
| Warnings: 0 |
##############################################################################
##############################################################################
###
### Running command:
###
### F:\biocbuild\bbs-3.17-bioc\R\bin\R.exe CMD check --no-multiarch --install=check:OmnipathR.install-out.txt --library=F:\biocbuild\bbs-3.17-bioc\R\library --no-vignettes --timings OmnipathR_3.8.2.tar.gz
###
##############################################################################
##############################################################################
* using log directory 'F:/biocbuild/bbs-3.17-bioc/meat/OmnipathR.Rcheck'
* using R version 4.3.1 (2023-06-16 ucrt)
* using platform: x86_64-w64-mingw32 (64-bit)
* R was compiled by
gcc.exe (GCC) 12.2.0
GNU Fortran (GCC) 12.2.0
* running under: Windows Server 2022 x64 (build 20348)
* using session charset: UTF-8
* using option '--no-vignettes'
* checking for file 'OmnipathR/DESCRIPTION' ... OK
* checking extension type ... Package
* this is package 'OmnipathR' version '3.8.2'
* package encoding: UTF-8
* checking package namespace information ... OK
* checking package dependencies ... OK
* checking if this is a source package ... OK
* checking if there is a namespace ... OK
* checking for hidden files and directories ... OK
* checking for portable file names ... OK
* checking whether package 'OmnipathR' can be installed ... OK
* checking installed package size ... OK
* checking package directory ... OK
* checking DESCRIPTION meta-information ... OK
* checking top-level files ... OK
* checking for left-over files ... OK
* checking index information ... OK
* checking package subdirectories ... OK
* checking R files for non-ASCII characters ... OK
* checking R files for syntax errors ... OK
* checking whether the package can be loaded ... OK
* checking whether the package can be loaded with stated dependencies ... OK
* checking whether the package can be unloaded cleanly ... OK
* checking whether the namespace can be loaded with stated dependencies ... OK
* checking whether the namespace can be unloaded cleanly ... OK
* checking startup messages can be suppressed ... NOTE
[2023-10-16 04:55:44] [TRACE] [OmnipathR] Reading JSON from `C:\Users\biocbuild\AppData\Local\Cache\OmnipathR/cache.json` (encoding: UTF-8).
[2023-10-16 04:55:44] [TRACE] [OmnipathR] JSON validation successful: TRUE
[2023-10-16 04:55:44] [INFO] [OmnipathR] Initialized cache: `C:\Users\biocbuild\AppData\Local\Cache\OmnipathR`.
[2023-10-16 04:55:44] [TRACE] [OmnipathR] Running on a build server, wiping cache.
[2023-10-16 04:55:44] [TRACE] [OmnipathR] Cache is at `C:\Users\biocbuild\AppData\Local\Cache\OmnipathR`.
[2023-10-16 04:55:44] [TRACE] [OmnipathR] Contains 1 files.
[2023-10-16 04:55:44] [TRACE] [OmnipathR] Cache is locked: FALSE.
[2023-10-16 04:55:44] [TRACE] [OmnipathR] Reading JSON from `C:\Users\biocbuild\AppData\Local\Cache\OmnipathR/cache.json` (encoding: UTF-8).
[2023-10-16 04:55:44] [TRACE] [OmnipathR] JSON validation successful: TRUE
[2023-10-16 04:55:44] [SUCCESS] [OmnipathR] Removing all cache contents from `C:\Users\biocbuild\AppData\Local\Cache\OmnipathR`.
[2023-10-16 04:55:44] [TRACE] [OmnipathR] Pandoc version: `2.7.3`.
[2023-10-16 04:55:44] [TRACE] [OmnipathR] Reading JSON from `F:/biocbuild/bbs-3.17-bioc/R/library/OmnipathR/db/db_def.json` (encoding: UTF-8).
[2023-10-16 04:55:44] [TRACE] [OmnipathR] JSON validation successful: TRUE
[2023-10-16 04:55:44] [TRACE] [OmnipathR] Reading JSON from `F:/biocbuild/bbs-3.17-bioc/R/library/OmnipathR/internal/magic_bytes.json` (encoding: UTF-8).
[2023-10-16 04:55:44] [TRACE] [OmnipathR] JSON validation successful: TRUE
[2023-10-16 04:55:44] [TRACE] [OmnipathR] Reading JSON from `F:/biocbuild/bbs-3.17-bioc/R/library/OmnipathR/internal/urls.json` (encoding: UTF-8).
[2023-10-16 04:55:44] [TRACE] [OmnipathR] JSON validation successful: TRUE
[2023-10-16 04:55:44] [TRACE] [OmnipathR] Reading JSON from `F:/biocbuild/bbs-3.17-bioc/R/library/OmnipathR/internal/id_types.json` (encoding: UTF-8).
[2023-10-16 04:55:44] [TRACE] [OmnipathR] JSON validation successful: TRUE
[2023-10-16 04:55:44] [TRACE] [OmnipathR] Cache locked: FALSE
It looks like this package (or a package it requires) has a startup
message which cannot be suppressed: see ?packageStartupMessage.
* checking dependencies in R code ... OK
* checking S3 generic/method consistency ... OK
* checking replacement functions ... OK
* checking foreign function calls ... OK
* checking R code for possible problems ... NOTE
[2023-10-16 04:55:57] [TRACE] [OmnipathR] Reading JSON from `C:\Users\biocbuild\AppData\Local\Cache\OmnipathR/cache.json` (encoding: UTF-8).
[2023-10-16 04:55:57] [TRACE] [OmnipathR] JSON validation successful: TRUE
[2023-10-16 04:55:57] [INFO] [OmnipathR] Initialized cache: `C:\Users\biocbuild\AppData\Local\Cache\OmnipathR`.
[2023-10-16 04:55:57] [TRACE] [OmnipathR] Running on a build server, wiping cache.
[2023-10-16 04:55:57] [TRACE] [OmnipathR] Cache is at `C:\Users\biocbuild\AppData\Local\Cache\OmnipathR`.
[2023-10-16 04:55:57] [TRACE] [OmnipathR] Contains 1 files.
[2023-10-16 04:55:57] [TRACE] [OmnipathR] Cache is locked: FALSE.
[2023-10-16 04:55:57] [TRACE] [OmnipathR] Reading JSON from `C:\Users\biocbuild\AppData\Local\Cache\OmnipathR/cache.json` (encoding: UTF-8).
[2023-10-16 04:55:57] [TRACE] [OmnipathR] JSON validation successful: TRUE
[2023-10-16 04:55:57] [SUCCESS] [OmnipathR] Removing all cache contents from `C:\Users\biocbuild\AppData\Local\Cache\OmnipathR`.
[2023-10-16 04:55:57] [TRACE] [OmnipathR] Pandoc version: `2.7.3`.
[2023-10-16 04:55:57] [TRACE] [OmnipathR] Reading JSON from `F:/biocbuild/bbs-3.17-bioc/R/library/OmnipathR/db/db_def.json` (encoding: UTF-8).
[2023-10-16 04:55:57] [TRACE] [OmnipathR] JSON validation successful: TRUE
[2023-10-16 04:55:57] [TRACE] [OmnipathR] Reading JSON from `F:/biocbuild/bbs-3.17-bioc/R/library/OmnipathR/internal/magic_bytes.json` (encoding: UTF-8).
[2023-10-16 04:55:57] [TRACE] [OmnipathR] JSON validation successful: TRUE
[2023-10-16 04:55:57] [TRACE] [OmnipathR] Reading JSON from `F:/biocbuild/bbs-3.17-bioc/R/library/OmnipathR/internal/urls.json` (encoding: UTF-8).
[2023-10-16 04:55:57] [TRACE] [OmnipathR] JSON validation successful: TRUE
[2023-10-16 04:55:57] [TRACE] [OmnipathR] Reading JSON from `F:/biocbuild/bbs-3.17-bioc/R/library/OmnipathR/internal/id_types.json` (encoding: UTF-8).
[2023-10-16 04:55:57] [TRACE] [OmnipathR] JSON validation successful: TRUE
[2023-10-16 04:55:57] [TRACE] [OmnipathR] Cache locked: FALSE
uniprot_idmapping_id_types: no visible binding for global variable
'groups'
uniprot_idmapping_id_types: no visible binding for global variable
'items'
Undefined global functions or variables:
groups items
* checking Rd files ... OK
* checking Rd metadata ... OK
* checking Rd cross-references ... OK
* checking for missing documentation entries ... OK
* checking for code/documentation mismatches ... OK
* checking Rd \usage sections ... OK
* checking Rd contents ... OK
* checking for unstated dependencies in examples ... OK
* checking R/sysdata.rda ... OK
* checking files in 'vignettes' ... OK
* checking examples ... OK
Examples with CPU (user + system) or elapsed time > 5s
user system elapsed
collectri 78.34 1.77 80.21
annotation_categories 62.47 0.05 63.09
dorothea 40.91 0.67 42.34
curated_ligrec_stats 20.34 1.81 64.77
filter_extra_attrs 18.26 0.11 18.81
nichenet_gr_network_omnipath 10.77 0.27 11.56
pivot_annotations 9.91 0.65 11.69
extra_attr_values 8.46 0.25 9.25
go_annot_download 8.14 0.41 7.53
giant_component 8.17 0.26 8.97
with_extra_attrs 8.11 0.24 8.85
extra_attrs_to_cols 7.62 0.09 7.72
nichenet_signaling_network_omnipath 7.31 0.17 8.02
filter_intercell 5.53 0.33 6.14
filter_by_resource 5.46 0.11 6.14
has_extra_attrs 5.41 0.07 5.47
print_interactions 4.44 0.17 6.18
curated_ligand_receptor_interactions 3.23 0.29 9.05
ensembl_id_mapping_table 0.69 0.08 19.70
* checking for unstated dependencies in 'tests' ... OK
* checking tests ...
Running 'testthat.R'
OK
* checking for unstated dependencies in vignettes ... OK
* checking package vignettes in 'inst/doc' ... OK
* checking running R code from vignettes ... SKIPPED
* checking re-building of vignette outputs ... SKIPPED
* checking PDF version of manual ... OK
* DONE
Status: 2 NOTEs
See
'F:/biocbuild/bbs-3.17-bioc/meat/OmnipathR.Rcheck/00check.log'
for details.
OmnipathR.Rcheck/00install.out
############################################################################## ############################################################################## ### ### Running command: ### ### F:\biocbuild\bbs-3.17-bioc\R\bin\R.exe CMD INSTALL OmnipathR ### ############################################################################## ############################################################################## * installing to library 'F:/biocbuild/bbs-3.17-bioc/R/library' * installing *source* package 'OmnipathR' ... ** using staged installation ** R ** inst ** byte-compile and prepare package for lazy loading ** help *** installing help indices *** copying figures ** building package indices ** installing vignettes ** testing if installed package can be loaded from temporary location [2023-10-15 16:30:58] [TRACE] [OmnipathR] Reading JSON from `C:\Users\biocbuild\AppData\Local\Cache\OmnipathR/cache.json` (encoding: UTF-8). [2023-10-15 16:30:58] [TRACE] [OmnipathR] JSON validation successful: TRUE [2023-10-15 16:30:58] [INFO] [OmnipathR] Initialized cache: `C:\Users\biocbuild\AppData\Local\Cache\OmnipathR`. [2023-10-15 16:30:58] [TRACE] [OmnipathR] Running on a build server, wiping cache. [2023-10-15 16:30:58] [TRACE] [OmnipathR] Cache is at `C:\Users\biocbuild\AppData\Local\Cache\OmnipathR`. [2023-10-15 16:30:58] [TRACE] [OmnipathR] Contains 1 files. [2023-10-15 16:30:58] [TRACE] [OmnipathR] Cache is locked: FALSE. [2023-10-15 16:30:58] [TRACE] [OmnipathR] Reading JSON from `C:\Users\biocbuild\AppData\Local\Cache\OmnipathR/cache.json` (encoding: UTF-8). [2023-10-15 16:30:58] [TRACE] [OmnipathR] JSON validation successful: TRUE [2023-10-15 16:30:58] [SUCCESS] [OmnipathR] Removing all cache contents from `C:\Users\biocbuild\AppData\Local\Cache\OmnipathR`. [2023-10-15 16:30:59] [TRACE] [OmnipathR] Pandoc version: `2.7.3`. [2023-10-15 16:30:59] [TRACE] [OmnipathR] Reading JSON from `F:/biocbuild/bbs-3.17-bioc/R/library/00LOCK-OmnipathR/00new/OmnipathR/db/db_def.json` (encoding: UTF-8). [2023-10-15 16:30:59] [TRACE] [OmnipathR] JSON validation successful: TRUE [2023-10-15 16:30:59] [TRACE] [OmnipathR] Reading JSON from `F:/biocbuild/bbs-3.17-bioc/R/library/00LOCK-OmnipathR/00new/OmnipathR/internal/magic_bytes.json` (encoding: UTF-8). [2023-10-15 16:30:59] [TRACE] [OmnipathR] JSON validation successful: TRUE [2023-10-15 16:30:59] [TRACE] [OmnipathR] Reading JSON from `F:/biocbuild/bbs-3.17-bioc/R/library/00LOCK-OmnipathR/00new/OmnipathR/internal/urls.json` (encoding: UTF-8). [2023-10-15 16:30:59] [TRACE] [OmnipathR] JSON validation successful: TRUE [2023-10-15 16:30:59] [TRACE] [OmnipathR] Reading JSON from `F:/biocbuild/bbs-3.17-bioc/R/library/00LOCK-OmnipathR/00new/OmnipathR/internal/id_types.json` (encoding: UTF-8). [2023-10-15 16:30:59] [TRACE] [OmnipathR] JSON validation successful: TRUE [2023-10-15 16:30:59] [TRACE] [OmnipathR] Cache locked: FALSE ** testing if installed package can be loaded from final location [2023-10-15 16:31:00] [TRACE] [OmnipathR] Reading JSON from `C:\Users\biocbuild\AppData\Local\Cache\OmnipathR/cache.json` (encoding: UTF-8). [2023-10-15 16:31:00] [TRACE] [OmnipathR] JSON validation successful: TRUE [2023-10-15 16:31:00] [INFO] [OmnipathR] Initialized cache: `C:\Users\biocbuild\AppData\Local\Cache\OmnipathR`. [2023-10-15 16:31:00] [TRACE] [OmnipathR] Running on a build server, wiping cache. [2023-10-15 16:31:00] [TRACE] [OmnipathR] Cache is at `C:\Users\biocbuild\AppData\Local\Cache\OmnipathR`. [2023-10-15 16:31:00] [TRACE] [OmnipathR] Contains 1 files. [2023-10-15 16:31:00] [TRACE] [OmnipathR] Cache is locked: FALSE. [2023-10-15 16:31:00] [TRACE] [OmnipathR] Reading JSON from `C:\Users\biocbuild\AppData\Local\Cache\OmnipathR/cache.json` (encoding: UTF-8). [2023-10-15 16:31:00] [TRACE] [OmnipathR] JSON validation successful: TRUE [2023-10-15 16:31:00] [SUCCESS] [OmnipathR] Removing all cache contents from `C:\Users\biocbuild\AppData\Local\Cache\OmnipathR`. [2023-10-15 16:31:01] [TRACE] [OmnipathR] Pandoc version: `2.7.3`. [2023-10-15 16:31:01] [TRACE] [OmnipathR] Reading JSON from `F:/biocbuild/bbs-3.17-bioc/R/library/OmnipathR/db/db_def.json` (encoding: UTF-8). [2023-10-15 16:31:01] [TRACE] [OmnipathR] JSON validation successful: TRUE [2023-10-15 16:31:01] [TRACE] [OmnipathR] Reading JSON from `F:/biocbuild/bbs-3.17-bioc/R/library/OmnipathR/internal/magic_bytes.json` (encoding: UTF-8). [2023-10-15 16:31:01] [TRACE] [OmnipathR] JSON validation successful: TRUE [2023-10-15 16:31:01] [TRACE] [OmnipathR] Reading JSON from `F:/biocbuild/bbs-3.17-bioc/R/library/OmnipathR/internal/urls.json` (encoding: UTF-8). [2023-10-15 16:31:01] [TRACE] [OmnipathR] JSON validation successful: TRUE [2023-10-15 16:31:01] [TRACE] [OmnipathR] Reading JSON from `F:/biocbuild/bbs-3.17-bioc/R/library/OmnipathR/internal/id_types.json` (encoding: UTF-8). [2023-10-15 16:31:01] [TRACE] [OmnipathR] JSON validation successful: TRUE [2023-10-15 16:31:01] [TRACE] [OmnipathR] Cache locked: FALSE ** testing if installed package keeps a record of temporary installation path * DONE (OmnipathR)
OmnipathR.Rcheck/tests/testthat.Rout
R version 4.3.1 (2023-06-16 ucrt) -- "Beagle Scouts"
Copyright (C) 2023 The R Foundation for Statistical Computing
Platform: x86_64-w64-mingw32/x64 (64-bit)
R is free software and comes with ABSOLUTELY NO WARRANTY.
You are welcome to redistribute it under certain conditions.
Type 'license()' or 'licence()' for distribution details.
R is a collaborative project with many contributors.
Type 'contributors()' for more information and
'citation()' on how to cite R or R packages in publications.
Type 'demo()' for some demos, 'help()' for on-line help, or
'help.start()' for an HTML browser interface to help.
Type 'q()' to quit R.
> #!/usr/bin/env Rscript
>
> #
> # This file is part of the `OmnipathR` R package
> #
> # Copyright
> # 2018-2023
> # Saez Lab, Uniklinik RWTH Aachen, Heidelberg University
> #
> # File author(s): Alberto Valdeolivas
> # Dénes Türei (turei.denes@gmail.com)
> # Attila Gábor
> #
> # Distributed under the MIT (Expat) License.
> # See accompanying file `LICENSE` or find a copy at
> # https://directory.fsf.org/wiki/License:Expat
> #
> # Website: https://r.omnipathdb.org/
> # Git repo: https://github.com/saezlab/OmnipathR
> #
>
>
> library(testthat)
> library(OmnipathR)
[2023-10-16 05:04:37] [TRACE] [OmnipathR] Reading JSON from `C:\Users\biocbuild\AppData\Local\Cache\OmnipathR/cache.json` (encoding: UTF-8).
[2023-10-16 05:04:37] [TRACE] [OmnipathR] JSON validation successful: TRUE
[2023-10-16 05:04:37] [INFO] [OmnipathR] Initialized cache: `C:\Users\biocbuild\AppData\Local\Cache\OmnipathR`.
[2023-10-16 05:04:37] [TRACE] [OmnipathR] Running on a build server, wiping cache.
[2023-10-16 05:04:37] [TRACE] [OmnipathR] Cache is at `C:\Users\biocbuild\AppData\Local\Cache\OmnipathR`.
[2023-10-16 05:04:37] [TRACE] [OmnipathR] Contains 16 files.
[2023-10-16 05:04:37] [TRACE] [OmnipathR] Cache is locked: FALSE.
[2023-10-16 05:04:37] [TRACE] [OmnipathR] Reading JSON from `C:\Users\biocbuild\AppData\Local\Cache\OmnipathR/cache.json` (encoding: UTF-8).
[2023-10-16 05:04:37] [TRACE] [OmnipathR] JSON validation successful: TRUE
[2023-10-16 05:04:37] [SUCCESS] [OmnipathR] Removing all cache contents from `C:\Users\biocbuild\AppData\Local\Cache\OmnipathR`.
[2023-10-16 05:04:37] [TRACE] [OmnipathR] Pandoc version: `2.7.3`.
[2023-10-16 05:04:37] [TRACE] [OmnipathR] Reading JSON from `F:/biocbuild/bbs-3.17-bioc/R/library/OmnipathR/db/db_def.json` (encoding: UTF-8).
[2023-10-16 05:04:37] [TRACE] [OmnipathR] JSON validation successful: TRUE
[2023-10-16 05:04:37] [TRACE] [OmnipathR] Reading JSON from `F:/biocbuild/bbs-3.17-bioc/R/library/OmnipathR/internal/magic_bytes.json` (encoding: UTF-8).
[2023-10-16 05:04:37] [TRACE] [OmnipathR] JSON validation successful: TRUE
[2023-10-16 05:04:37] [TRACE] [OmnipathR] Reading JSON from `F:/biocbuild/bbs-3.17-bioc/R/library/OmnipathR/internal/urls.json` (encoding: UTF-8).
[2023-10-16 05:04:37] [TRACE] [OmnipathR] JSON validation successful: TRUE
[2023-10-16 05:04:37] [TRACE] [OmnipathR] Reading JSON from `F:/biocbuild/bbs-3.17-bioc/R/library/OmnipathR/internal/id_types.json` (encoding: UTF-8).
[2023-10-16 05:04:37] [TRACE] [OmnipathR] JSON validation successful: TRUE
[2023-10-16 05:04:37] [TRACE] [OmnipathR] Cache locked: FALSE
>
> test_check('OmnipathR')
[ FAIL 0 | WARN 0 | SKIP 0 | PASS 34 ]
>
> proc.time()
user system elapsed
10.50 1.15 37.68
OmnipathR.Rcheck/OmnipathR-Ex.timings
| name | user | system | elapsed | |
| OmnipathR | 0.00 | 0.02 | 0.02 | |
| all_uniprot_acs | 0.00 | 0.01 | 0.01 | |
| all_uniprots | 0.02 | 0.00 | 0.01 | |
| ancestors | 0.01 | 0.00 | 0.02 | |
| annotated_network | 0.75 | 0.14 | 2.64 | |
| annotation_categories | 62.47 | 0.05 | 63.09 | |
| biomart_query | 1.03 | 0.13 | 4.66 | |
| bioplex1 | 0.04 | 0.00 | 0.04 | |
| bioplex2 | 0.01 | 0.00 | 0.01 | |
| bioplex3 | 0.02 | 0.00 | 0.02 | |
| bioplex_all | 0.00 | 0.02 | 0.01 | |
| bioplex_hct116_1 | 0.03 | 0.00 | 0.03 | |
| bma_motif_es | 0.29 | 0.06 | 1.02 | |
| bma_motif_vs | 0.15 | 0.00 | 0.51 | |
| collectri | 78.34 | 1.77 | 80.21 | |
| common_name | 0.03 | 0.00 | 0.03 | |
| consensuspathdb_download | 0 | 0 | 0 | |
| consensuspathdb_raw_table | 0.02 | 0.00 | 0.01 | |
| curated_ligand_receptor_interactions | 3.23 | 0.29 | 9.05 | |
| curated_ligrec_stats | 20.34 | 1.81 | 64.77 | |
| database_summary | 2.38 | 0.52 | 3.61 | |
| descendants | 0.00 | 0.00 | 0.02 | |
| dorothea | 40.91 | 0.67 | 42.34 | |
| ensembl_dataset | 0.01 | 0.00 | 0.02 | |
| ensembl_id_mapping_table | 0.69 | 0.08 | 19.70 | |
| ensembl_id_type | 0 | 0 | 0 | |
| ensembl_name | 0.11 | 0.02 | 0.13 | |
| ensembl_organisms | 0.15 | 0.00 | 0.15 | |
| ensembl_organisms_raw | 0.19 | 0.03 | 0.22 | |
| ensembl_orthology | 0 | 0 | 0 | |
| enzsub_graph | 1.41 | 0.07 | 2.40 | |
| evex_download | 0.01 | 0.00 | 0.02 | |
| evidences | 0 | 0 | 0 | |
| extra_attr_values | 8.46 | 0.25 | 9.25 | |
| extra_attrs | 4.78 | 0.03 | 4.81 | |
| extra_attrs_to_cols | 7.62 | 0.09 | 7.72 | |
| filter_by_resource | 5.46 | 0.11 | 6.14 | |
| filter_extra_attrs | 18.26 | 0.11 | 18.81 | |
| filter_intercell | 5.53 | 0.33 | 6.14 | |
| filter_intercell_network | 0.05 | 0.00 | 0.05 | |
| find_all_paths | 4.12 | 0.11 | 4.23 | |
| from_evidences | 0 | 0 | 0 | |
| get_annotation_resources | 0.07 | 0.00 | 0.46 | |
| get_complex_genes | 0.86 | 0.04 | 1.65 | |
| get_complex_resources | 0.03 | 0.02 | 0.44 | |
| get_db | 0 | 0 | 0 | |
| get_enzsub_resources | 0.04 | 0.00 | 0.42 | |
| get_interaction_resources | 0.04 | 0.00 | 0.44 | |
| get_intercell_categories | 0.31 | 0.00 | 0.59 | |
| get_intercell_generic_categories | 0.03 | 0.00 | 0.04 | |
| get_intercell_resources | 0.05 | 0.00 | 0.43 | |
| get_ontology_db | 0.00 | 0.01 | 0.02 | |
| get_resources | 0.06 | 0.00 | 0.45 | |
| get_signed_ptms | 3.55 | 0.04 | 3.97 | |
| giant_component | 8.17 | 0.26 | 8.97 | |
| go_annot_download | 8.14 | 0.41 | 7.53 | |
| go_annot_slim | 0 | 0 | 0 | |
| go_ontology_download | 0.00 | 0.01 | 0.02 | |
| guide2pharma_download | 0.01 | 0.00 | 0.01 | |
| harmonizome_download | 0.02 | 0.00 | 0.02 | |
| has_extra_attrs | 5.41 | 0.07 | 5.47 | |
| homologene_download | 0.01 | 0.00 | 0.01 | |
| homologene_raw | 0.02 | 0.00 | 0.01 | |
| homologene_uniprot_orthology | 0.03 | 0.00 | 0.03 | |
| homology_translate | 0 | 0 | 0 | |
| hpo_download | 1.69 | 0.14 | 2.07 | |
| htridb_download | 0.00 | 0.02 | 0.01 | |
| import_all_interactions | 0.32 | 0.01 | 1.49 | |
| import_intercell_network | 0.02 | 0.00 | 0.01 | |
| import_kinaseextra_interactions | 1.11 | 0.05 | 2.16 | |
| import_ligrecextra_interactions | 0.64 | 0.08 | 1.53 | |
| import_lncrna_mrna_interactions | 0.34 | 0.08 | 1.09 | |
| import_mirnatarget_interactions | 0.68 | 0.07 | 1.63 | |
| import_omnipath_annotations | 0.34 | 0.02 | 1.01 | |
| import_omnipath_complexes | 0.41 | 0.00 | 1.38 | |
| import_omnipath_enzsub | 0.71 | 0.00 | 1.09 | |
| import_omnipath_interactions | 0.25 | 0.02 | 0.66 | |
| import_omnipath_intercell | 0.46 | 0.00 | 0.87 | |
| import_pathwayextra_interactions | 0.51 | 0.07 | 1.54 | |
| import_post_translational_interactions | 0.78 | 0.05 | 1.75 | |
| import_small_molecule_protein_interactions | 0.36 | 0.00 | 0.64 | |
| import_tf_mirna_interactions | 0.49 | 0.03 | 1.31 | |
| import_tf_target_interactions | 1.09 | 0.06 | 2.06 | |
| import_transcriptional_interactions | 2.05 | 0.11 | 3.06 | |
| inbiomap_download | 0 | 0 | 0 | |
| inbiomap_raw | 0 | 0 | 0 | |
| interaction_datasets | 0.33 | 0.08 | 0.72 | |
| interaction_graph | 0.32 | 0.02 | 0.74 | |
| interaction_types | 0.02 | 0.00 | 0.01 | |
| intercell_categories | 0.05 | 0.00 | 0.05 | |
| intercell_consensus_filter | 1.11 | 0.09 | 1.75 | |
| is_ontology_id | 0 | 0 | 0 | |
| is_swissprot | 0.04 | 0.00 | 0.05 | |
| is_trembl | 0.03 | 0.00 | 0.03 | |
| is_uniprot | 0.02 | 0.00 | 0.01 | |
| kegg_info | 0.00 | 0.02 | 0.02 | |
| kegg_open | 0 | 0 | 0 | |
| kegg_pathway_annotations | 0 | 0 | 0 | |
| kegg_pathway_download | 0.03 | 0.00 | 0.03 | |
| kegg_pathway_list | 0.02 | 0.00 | 0.02 | |
| kegg_pathways_download | 0 | 0 | 0 | |
| kegg_picture | 0.11 | 0.01 | 1.90 | |
| kegg_process | 0.03 | 0.00 | 0.03 | |
| latin_name | 0.06 | 0.00 | 0.07 | |
| load_db | 0.11 | 0.02 | 0.12 | |
| ncbi_taxid | 0.09 | 0.01 | 0.11 | |
| nichenet_build_model | 0 | 0 | 0 | |
| nichenet_expression_data | 0.02 | 0.00 | 0.02 | |
| nichenet_gr_network | 0.05 | 0.00 | 0.04 | |
| nichenet_gr_network_evex | 0.01 | 0.00 | 0.02 | |
| nichenet_gr_network_harmonizome | 0.02 | 0.00 | 0.01 | |
| nichenet_gr_network_htridb | 0.01 | 0.00 | 0.02 | |
| nichenet_gr_network_omnipath | 10.77 | 0.27 | 11.56 | |
| nichenet_gr_network_pathwaycommons | 0.01 | 0.00 | 0.02 | |
| nichenet_gr_network_regnetwork | 0.02 | 0.00 | 0.03 | |
| nichenet_gr_network_remap | 0.02 | 0.00 | 0.01 | |
| nichenet_gr_network_trrust | 0.01 | 0.00 | 0.02 | |
| nichenet_ligand_activities | 0 | 0 | 0 | |
| nichenet_ligand_target_links | 0.00 | 0.02 | 0.02 | |
| nichenet_ligand_target_matrix | 0 | 0 | 0 | |
| nichenet_lr_network | 0.06 | 0.00 | 0.06 | |
| nichenet_lr_network_guide2pharma | 0.02 | 0.00 | 0.01 | |
| nichenet_lr_network_omnipath | 0.05 | 0.01 | 0.07 | |
| nichenet_lr_network_ramilowski | 0.01 | 0.00 | 0.01 | |
| nichenet_main | 0 | 0 | 0 | |
| nichenet_networks | 0.09 | 0.00 | 0.09 | |
| nichenet_optimization | 0 | 0 | 0 | |
| nichenet_remove_orphan_ligands | 0.11 | 0.00 | 0.11 | |
| nichenet_results_dir | 0 | 0 | 0 | |
| nichenet_signaling_network | 0.06 | 0.00 | 0.06 | |
| nichenet_signaling_network_cpdb | 0.03 | 0.00 | 0.03 | |
| nichenet_signaling_network_evex | 0.02 | 0.00 | 0.02 | |
| nichenet_signaling_network_harmonizome | 0.02 | 0.02 | 0.03 | |
| nichenet_signaling_network_inbiomap | 0 | 0 | 0 | |
| nichenet_signaling_network_omnipath | 7.31 | 0.17 | 8.02 | |
| nichenet_signaling_network_pathwaycommons | 0.01 | 0.00 | 0.01 | |
| nichenet_signaling_network_vinayagam | 0.02 | 0.00 | 0.02 | |
| nichenet_test | 0 | 0 | 0 | |
| nichenet_workarounds | 0 | 0 | 0 | |
| obo_parser | 0.16 | 0.00 | 0.35 | |
| omnipath | 2.95 | 0.00 | 2.95 | |
| omnipath_cache_autoclean | 0 | 0 | 0 | |
| omnipath_cache_clean | 0.02 | 0.00 | 0.02 | |
| omnipath_cache_clean_db | 0.12 | 0.00 | 0.12 | |
| omnipath_cache_download_ready | 0.57 | 0.03 | 0.67 | |
| omnipath_cache_filter_versions | 0.11 | 0.03 | 0.22 | |
| omnipath_cache_get | 0.12 | 0.03 | 0.17 | |
| omnipath_cache_key | 0.02 | 0.00 | 0.02 | |
| omnipath_cache_latest_or_new | 0.08 | 0.03 | 0.12 | |
| omnipath_cache_load | 0.63 | 0.02 | 1.31 | |
| omnipath_cache_move_in | 0.21 | 0.03 | 0.31 | |
| omnipath_cache_remove | 0.08 | 0.06 | 0.22 | |
| omnipath_cache_save | 0.22 | 0.05 | 0.31 | |
| omnipath_cache_search | 0 | 0 | 0 | |
| omnipath_cache_set_ext | 0.11 | 0.01 | 0.17 | |
| omnipath_cache_update_status | 0.11 | 0.05 | 0.17 | |
| omnipath_cache_wipe | 0 | 0 | 0 | |
| omnipath_get_config_path | 0 | 0 | 0 | |
| omnipath_load_config | 0 | 0 | 0 | |
| omnipath_log | 0 | 0 | 0 | |
| omnipath_logfile | 0 | 0 | 0 | |
| omnipath_msg | 0 | 0 | 0 | |
| omnipath_reset_config | 0 | 0 | 0 | |
| omnipath_save_config | 0 | 0 | 0 | |
| omnipath_set_cachedir | 0.03 | 0.01 | 0.04 | |
| omnipath_set_console_loglevel | 0 | 0 | 0 | |
| omnipath_set_logfile_loglevel | 0 | 0 | 0 | |
| omnipath_set_loglevel | 0 | 0 | 0 | |
| omnipath_show_db | 0.08 | 0.00 | 0.08 | |
| omnipath_unlock_cache_db | 0 | 0 | 0 | |
| only_from | 0 | 0 | 0 | |
| ontology_ensure_id | 0 | 0 | 0 | |
| ontology_ensure_name | 0 | 0 | 0 | |
| ontology_name_id | 0 | 0 | 0 | |
| pathwaycommons_download | 0 | 0 | 0 | |
| pivot_annotations | 9.91 | 0.65 | 11.69 | |
| preppi_download | 0 | 0 | 0 | |
| preppi_filter | 0 | 0 | 0 | |
| print_bma_motif_es | 0.18 | 0.01 | 0.88 | |
| print_bma_motif_vs | 0.08 | 0.00 | 0.46 | |
| print_interactions | 4.44 | 0.17 | 6.18 | |
| print_path_es | 0.39 | 0.05 | 1.23 | |
| print_path_vs | 1.63 | 0.06 | 3.02 | |
| pubmed_open | 3.45 | 0.05 | 4.07 | |
| query_info | 0.06 | 0.01 | 0.43 | |
| ramilowski_download | 0 | 0 | 0 | |
| regnetwork_directions | 0 | 0 | 0 | |
| regnetwork_download | 0 | 0 | 0 | |
| relations_list_to_table | 0.11 | 0.00 | 0.12 | |
| relations_table_to_graph | 0 | 0 | 0 | |
| relations_table_to_list | 0.06 | 0.00 | 0.09 | |
| remap_dorothea_download | 0 | 0 | 0 | |
| remap_filtered | 0 | 0 | 0 | |
| remap_tf_target_download | 0 | 0 | 0 | |
| resource_info | 0.14 | 0.03 | 0.58 | |
| resources_colname | 0.54 | 0.05 | 1.20 | |
| simplify_intercell_network | 0 | 0 | 0 | |
| swap_relations | 0.06 | 0.00 | 0.09 | |
| swissprots_only | 0.03 | 0.00 | 0.03 | |
| tfcensus_download | 0.16 | 0.00 | 0.22 | |
| translate_ids | 0 | 0 | 0 | |
| trembls_only | 0.03 | 0.00 | 0.03 | |
| trrust_download | 0 | 0 | 0 | |
| uniprot_full_id_mapping_table | 0 | 0 | 0 | |
| uniprot_genesymbol_cleanup | 0.00 | 0.01 | 0.02 | |
| uniprot_id_mapping_table | 0 | 0 | 0 | |
| uniprot_id_type | 0 | 0 | 0 | |
| uniprot_idmapping_id_types | 0.17 | 0.04 | 0.92 | |
| unique_intercell_network | 0 | 0 | 0 | |
| unnest_evidences | 0 | 0 | 0 | |
| uploadlists_id_type | 0 | 0 | 0 | |
| vinayagam_download | 0 | 0 | 0 | |
| walk_ontology_tree | 0 | 0 | 0 | |
| with_extra_attrs | 8.11 | 0.24 | 8.85 | |
| with_references | 0.35 | 0.07 | 1.18 | |
| zenodo_download | 0 | 0 | 0 | |