| Back to Multiple platform build/check report for BioC 3.17: simplified long |
|
This page was generated on 2023-10-16 11:36:26 -0400 (Mon, 16 Oct 2023).
| Hostname | OS | Arch (*) | R version | Installed pkgs |
|---|---|---|---|---|
| nebbiolo1 | Linux (Ubuntu 22.04.2 LTS) | x86_64 | 4.3.1 (2023-06-16) -- "Beagle Scouts" | 4626 |
| palomino3 | Windows Server 2022 Datacenter | x64 | 4.3.1 (2023-06-16 ucrt) -- "Beagle Scouts" | 4379 |
| merida1 | macOS 12.6.4 Monterey | x86_64 | 4.3.1 (2023-06-16) -- "Beagle Scouts" | 4395 |
| Click on any hostname to see more info about the system (e.g. compilers) (*) as reported by 'uname -p', except on Windows and Mac OS X | ||||
| Package 1452/2230 | Hostname | OS / Arch | INSTALL | BUILD | CHECK | BUILD BIN | ||||||||
| OUTRIDER 1.18.1 (landing page) Christian Mertes
| nebbiolo1 | Linux (Ubuntu 22.04.2 LTS) / x86_64 | OK | OK | OK | |||||||||
| palomino3 | Windows Server 2022 Datacenter / x64 | OK | OK | OK | OK | |||||||||
| merida1 | macOS 12.6.4 Monterey / x86_64 | OK | OK | OK | OK | |||||||||
| kjohnson2 | macOS 12.6.1 Monterey / arm64 | see weekly results here | ||||||||||||
|
To the developers/maintainers of the OUTRIDER package: - Allow up to 24 hours (and sometimes 48 hours) for your latest push to git@git.bioconductor.org:packages/OUTRIDER.git to reflect on this report. See Troubleshooting Build Report for more information. - Use the following Renviron settings to reproduce errors and warnings. - If 'R CMD check' started to fail recently on the Linux builder(s) over a missing dependency, add the missing dependency to 'Suggests:' in your DESCRIPTION file. See Renviron.bioc for more information. |
| Package: OUTRIDER |
| Version: 1.18.1 |
| Command: F:\biocbuild\bbs-3.17-bioc\R\bin\R.exe CMD check --no-multiarch --install=check:OUTRIDER.install-out.txt --library=F:\biocbuild\bbs-3.17-bioc\R\library --no-vignettes --timings OUTRIDER_1.18.1.tar.gz |
| StartedAt: 2023-10-16 05:02:45 -0400 (Mon, 16 Oct 2023) |
| EndedAt: 2023-10-16 05:13:29 -0400 (Mon, 16 Oct 2023) |
| EllapsedTime: 644.1 seconds |
| RetCode: 0 |
| Status: OK |
| CheckDir: OUTRIDER.Rcheck |
| Warnings: 0 |
##############################################################################
##############################################################################
###
### Running command:
###
### F:\biocbuild\bbs-3.17-bioc\R\bin\R.exe CMD check --no-multiarch --install=check:OUTRIDER.install-out.txt --library=F:\biocbuild\bbs-3.17-bioc\R\library --no-vignettes --timings OUTRIDER_1.18.1.tar.gz
###
##############################################################################
##############################################################################
* using log directory 'F:/biocbuild/bbs-3.17-bioc/meat/OUTRIDER.Rcheck'
* using R version 4.3.1 (2023-06-16 ucrt)
* using platform: x86_64-w64-mingw32 (64-bit)
* R was compiled by
gcc.exe (GCC) 12.2.0
GNU Fortran (GCC) 12.2.0
* running under: Windows Server 2022 x64 (build 20348)
* using session charset: UTF-8
* using option '--no-vignettes'
* checking for file 'OUTRIDER/DESCRIPTION' ... OK
* checking extension type ... Package
* this is package 'OUTRIDER' version '1.18.1'
* package encoding: UTF-8
* checking package namespace information ... OK
* checking package dependencies ... OK
* checking if this is a source package ... OK
* checking if there is a namespace ... OK
* checking for hidden files and directories ... OK
* checking for portable file names ... OK
* checking whether package 'OUTRIDER' can be installed ... OK
* used C++ compiler: 'G__~1.EXE (GCC) 12.2.0'
* checking C++ specification ... NOTE
Specified C++11: please drop specification unless essential
* checking installed package size ... OK
* checking package directory ... OK
* checking 'build' directory ... OK
* checking DESCRIPTION meta-information ... OK
* checking top-level files ... OK
* checking for left-over files ... OK
* checking index information ... OK
* checking package subdirectories ... OK
* checking R files for non-ASCII characters ... OK
* checking R files for syntax errors ... OK
* checking whether the package can be loaded ... OK
* checking whether the package can be loaded with stated dependencies ... OK
* checking whether the package can be unloaded cleanly ... OK
* checking whether the namespace can be loaded with stated dependencies ... OK
* checking whether the namespace can be unloaded cleanly ... OK
* checking dependencies in R code ... OK
* checking S3 generic/method consistency ... OK
* checking replacement functions ... OK
* checking foreign function calls ... OK
* checking R code for possible problems ... NOTE
padjOnSubset: no visible global function definition for 'bpmapply'
Undefined global functions or variables:
bpmapply
* checking Rd files ... OK
* checking Rd metadata ... OK
* checking Rd cross-references ... OK
* checking for missing documentation entries ... OK
* checking for code/documentation mismatches ... OK
* checking Rd \usage sections ... OK
* checking Rd contents ... OK
* checking for unstated dependencies in examples ... OK
* checking line endings in C/C++/Fortran sources/headers ... OK
* checking line endings in Makefiles ... OK
* checking compilation flags in Makevars ... OK
* checking for GNU extensions in Makefiles ... OK
* checking for portable use of $(BLAS_LIBS) and $(LAPACK_LIBS) ... OK
* checking use of PKG_*FLAGS in Makefiles ... OK
* checking compiled code ... NOTE
Note: information on .o files for x64 is not available
File 'F:/biocbuild/bbs-3.17-bioc/R/library/OUTRIDER/libs/x64/OUTRIDER.dll':
Found 'abort', possibly from 'abort' (C), 'runtime' (Fortran)
Found 'exit', possibly from 'exit' (C), 'stop' (Fortran)
Compiled code should not call entry points which might terminate R nor
write to stdout/stderr instead of to the console, nor use Fortran I/O
nor system RNGs nor [v]sprintf. The detected symbols are linked into
the code but might come from libraries and not actually be called.
See 'Writing portable packages' in the 'Writing R Extensions' manual.
* checking sizes of PDF files under 'inst/doc' ... OK
* checking files in 'vignettes' ... OK
* checking examples ... OK
Examples with CPU (user + system) or elapsed time > 5s
user system elapsed
OUTRIDER 13.06 0.44 109.47
findEncodingDim 10.61 0.09 10.73
plotFunctions 8.09 0.30 9.61
computePvalues 6.89 0.04 99.40
aberrant 3.12 0.08 37.27
* checking for unstated dependencies in 'tests' ... OK
* checking tests ...
Running 'testthat.R'
OK
* checking for unstated dependencies in vignettes ... OK
* checking package vignettes in 'inst/doc' ... OK
* checking running R code from vignettes ... SKIPPED
* checking re-building of vignette outputs ... SKIPPED
* checking PDF version of manual ... OK
* DONE
Status: 3 NOTEs
See
'F:/biocbuild/bbs-3.17-bioc/meat/OUTRIDER.Rcheck/00check.log'
for details.
OUTRIDER.Rcheck/00install.out
############################################################################## ############################################################################## ### ### Running command: ### ### F:\biocbuild\bbs-3.17-bioc\R\bin\R.exe CMD INSTALL OUTRIDER ### ############################################################################## ############################################################################## * installing to library 'F:/biocbuild/bbs-3.17-bioc/R/library' * installing *source* package 'OUTRIDER' ... ** using staged installation ** libs using C++ compiler: 'G__~1.EXE (GCC) 12.2.0' using C++11 g++ -std=gnu++11 -I"F:/biocbuild/bbs-3.17-bioc/R/include" -DNDEBUG -I'F:/biocbuild/bbs-3.17-bioc/R/library/Rcpp/include' -I'F:/biocbuild/bbs-3.17-bioc/R/library/RcppArmadillo/include' -I"C:/rtools43/x86_64-w64-mingw32.static.posix/include" -fopenmp -DARMA_DONT_USE_OPENMP -O2 -Wall -mfpmath=sse -msse2 -mstackrealign -c RcppExports.cpp -o RcppExports.o g++ -std=gnu++11 -I"F:/biocbuild/bbs-3.17-bioc/R/include" -DNDEBUG -I'F:/biocbuild/bbs-3.17-bioc/R/library/Rcpp/include' -I'F:/biocbuild/bbs-3.17-bioc/R/library/RcppArmadillo/include' -I"C:/rtools43/x86_64-w64-mingw32.static.posix/include" -fopenmp -DARMA_DONT_USE_OPENMP -O2 -Wall -mfpmath=sse -msse2 -mstackrealign -c loss_n_gradient_functions.cpp -o loss_n_gradient_functions.o g++ -shared -s -static-libgcc -o OUTRIDER.dll tmp.def RcppExports.o loss_n_gradient_functions.o -fopenmp -LF:/biocbuild/bbs-3.17-bioc/R/bin/x64 -lRlapack -LF:/biocbuild/bbs-3.17-bioc/R/bin/x64 -lRblas -lgfortran -lm -lquadmath -LC:/rtools43/x86_64-w64-mingw32.static.posix/lib/x64 -LC:/rtools43/x86_64-w64-mingw32.static.posix/lib -LF:/biocbuild/bbs-3.17-bioc/R/bin/x64 -lR installing to F:/biocbuild/bbs-3.17-bioc/R/library/00LOCK-OUTRIDER/00new/OUTRIDER/libs/x64 ** R ** inst ** byte-compile and prepare package for lazy loading ** help *** installing help indices ** building package indices ** installing vignettes ** testing if installed package can be loaded from temporary location ** testing if installed package can be loaded from final location ** testing if installed package keeps a record of temporary installation path * DONE (OUTRIDER)
OUTRIDER.Rcheck/tests/testthat.Rout
R version 4.3.1 (2023-06-16 ucrt) -- "Beagle Scouts"
Copyright (C) 2023 The R Foundation for Statistical Computing
Platform: x86_64-w64-mingw32/x64 (64-bit)
R is free software and comes with ABSOLUTELY NO WARRANTY.
You are welcome to redistribute it under certain conditions.
Type 'license()' or 'licence()' for distribution details.
R is a collaborative project with many contributors.
Type 'contributors()' for more information and
'citation()' on how to cite R or R packages in publications.
Type 'demo()' for some demos, 'help()' for on-line help, or
'help.start()' for an HTML browser interface to help.
Type 'q()' to quit R.
> library(testthat)
> library(OUTRIDER)
Loading required package: BiocParallel
Loading required package: GenomicFeatures
Loading required package: BiocGenerics
Attaching package: 'BiocGenerics'
The following objects are masked from 'package:stats':
IQR, mad, sd, var, xtabs
The following objects are masked from 'package:base':
Filter, Find, Map, Position, Reduce, anyDuplicated, aperm, append,
as.data.frame, basename, cbind, colnames, dirname, do.call,
duplicated, eval, evalq, get, grep, grepl, intersect, is.unsorted,
lapply, mapply, match, mget, order, paste, pmax, pmax.int, pmin,
pmin.int, rank, rbind, rownames, sapply, setdiff, sort, table,
tapply, union, unique, unsplit, which.max, which.min
Loading required package: S4Vectors
Loading required package: stats4
Attaching package: 'S4Vectors'
The following object is masked from 'package:utils':
findMatches
The following objects are masked from 'package:base':
I, expand.grid, unname
Loading required package: IRanges
Attaching package: 'IRanges'
The following object is masked from 'package:grDevices':
windows
Loading required package: GenomeInfoDb
Loading required package: GenomicRanges
Loading required package: AnnotationDbi
Loading required package: Biobase
Welcome to Bioconductor
Vignettes contain introductory material; view with
'browseVignettes()'. To cite Bioconductor, see
'citation("Biobase")', and for packages 'citation("pkgname")'.
Loading required package: SummarizedExperiment
Loading required package: MatrixGenerics
Loading required package: matrixStats
Attaching package: 'matrixStats'
The following objects are masked from 'package:Biobase':
anyMissing, rowMedians
Attaching package: 'MatrixGenerics'
The following objects are masked from 'package:matrixStats':
colAlls, colAnyNAs, colAnys, colAvgsPerRowSet, colCollapse,
colCounts, colCummaxs, colCummins, colCumprods, colCumsums,
colDiffs, colIQRDiffs, colIQRs, colLogSumExps, colMadDiffs,
colMads, colMaxs, colMeans2, colMedians, colMins, colOrderStats,
colProds, colQuantiles, colRanges, colRanks, colSdDiffs, colSds,
colSums2, colTabulates, colVarDiffs, colVars, colWeightedMads,
colWeightedMeans, colWeightedMedians, colWeightedSds,
colWeightedVars, rowAlls, rowAnyNAs, rowAnys, rowAvgsPerColSet,
rowCollapse, rowCounts, rowCummaxs, rowCummins, rowCumprods,
rowCumsums, rowDiffs, rowIQRDiffs, rowIQRs, rowLogSumExps,
rowMadDiffs, rowMads, rowMaxs, rowMeans2, rowMedians, rowMins,
rowOrderStats, rowProds, rowQuantiles, rowRanges, rowRanks,
rowSdDiffs, rowSds, rowSums2, rowTabulates, rowVarDiffs, rowVars,
rowWeightedMads, rowWeightedMeans, rowWeightedMedians,
rowWeightedSds, rowWeightedVars
The following object is masked from 'package:Biobase':
rowMedians
Loading required package: data.table
Attaching package: 'data.table'
The following object is masked from 'package:SummarizedExperiment':
shift
The following object is masked from 'package:GenomicRanges':
shift
The following object is masked from 'package:IRanges':
shift
The following objects are masked from 'package:S4Vectors':
first, second
>
> register(SerialParam())
>
> test_check("OUTRIDER")
[1] "Mon Oct 16 05:12:27 2023: Initial PCA loss: 6.32148950933833"
[1] "Mon Oct 16 05:12:28 2023: Iteration: 1 loss: 4.64676415146191"
[1] "Mon Oct 16 05:12:29 2023: Iteration: 2 loss: 4.52131638545484"
[1] "Mon Oct 16 05:12:29 2023: Iteration: 3 loss: 4.47336740034662"
[1] "Mon Oct 16 05:12:30 2023: Iteration: 4 loss: 4.45121208058518"
[1] "Mon Oct 16 05:12:30 2023: Iteration: 5 loss: 4.44175668805292"
[1] "Mon Oct 16 05:12:31 2023: Iteration: 6 loss: 4.43575875355161"
Time difference of 3.689586 secs
[1] "Mon Oct 16 05:12:31 2023: 6 Final nb-AE loss: 4.43575875355161"
[1] "Mon Oct 16 05:12:32 2023: Initial PCA loss: 6.32148950933833"
[1] "Mon Oct 16 05:12:33 2023: Iteration: 1 loss: 4.64676415146191"
[1] "Mon Oct 16 05:12:34 2023: Iteration: 2 loss: 4.52131638545484"
[1] "Mon Oct 16 05:12:35 2023: Iteration: 3 loss: 4.47336740034662"
[1] "Mon Oct 16 05:12:35 2023: Iteration: 4 loss: 4.45121208058518"
[1] "Mon Oct 16 05:12:36 2023: Iteration: 5 loss: 4.44175668805292"
[1] "Mon Oct 16 05:12:37 2023: Iteration: 6 loss: 4.43575875355161"
Time difference of 4.161457 secs
[1] "Mon Oct 16 05:12:37 2023: 6 Final nb-AE loss: 4.43575875355161"
class: OutriderDataSet
class: RangedSummarizedExperiment
dim: 100 50
metadata(1): version
assays(1): counts
rownames(100): ENSG00000223972.4 ENSG00000227232.4 ...
ENSG00000107404.13 ENSG00000162576.12
rowData names(0):
colnames(50): GTEX.UPK5.0426.SM.3GAEK GTEX.WFG7.2026.SM.3GIL7 ...
GTEX.11UD2.2526.SM.5CVNU GTEX.13O61.1426.SM.5KM3D
colData names(1): sampleID
[1] "Mon Oct 16 05:12:50 2023: Initial PCA loss: 4.54049758215597"
[1] "Mon Oct 16 05:12:51 2023: Iteration: 1 loss: 4.17765294831378"
[1] "Mon Oct 16 05:12:52 2023: Iteration: 2 loss: 4.16532709974396"
Time difference of 1.375568 secs
[1] "Mon Oct 16 05:12:52 2023: 2 Final nb-AE loss: 4.16532709974396"
[1] "Evaluation loss: 0.458591821425525 for q=3"
[1] "Mon Oct 16 05:12:53 2023: Initial PCA loss: 4.48420870007147"
[1] "Mon Oct 16 05:12:54 2023: Iteration: 1 loss: 4.06856611724718"
[1] "Mon Oct 16 05:12:55 2023: Iteration: 2 loss: 4.02142079692485"
Time difference of 1.30015 secs
[1] "Mon Oct 16 05:12:55 2023: 2 Final nb-AE loss: 4.02142079692485"
[1] "Evaluation loss: 0.384759371681396 for q=4"
[1] "Mon Oct 16 05:12:56 2023: Initial PCA loss: 4.45026609969221"
[1] "Mon Oct 16 05:12:57 2023: Iteration: 1 loss: 4.01724371537511"
[1] "Mon Oct 16 05:12:57 2023: Iteration: 2 loss: 3.97794107480244"
Time difference of 1.211084 secs
[1] "Mon Oct 16 05:12:57 2023: 2 Final nb-AE loss: 3.97794107480244"
[1] "Evaluation loss: 0.323531167830417 for q=5"
[1] "Mon Oct 16 05:13:06 2023: Initial PCA loss: 6.46616282459584"
[1] "Mon Oct 16 05:13:07 2023: Iteration: 1 loss: 4.81533525649303"
[1] "Mon Oct 16 05:13:08 2023: Iteration: 2 loss: 4.78969612137411"
Time difference of 1.602771 secs
[1] "Mon Oct 16 05:13:08 2023: 2 Final nb-AE loss: 4.78969612137411"
[ FAIL 0 | WARN 2 | SKIP 0 | PASS 103 ]
[ FAIL 0 | WARN 2 | SKIP 0 | PASS 103 ]
>
> proc.time()
user system elapsed
66.17 1.46 67.78
OUTRIDER.Rcheck/OUTRIDER-Ex.timings
| name | user | system | elapsed | |
| OUTRIDER | 13.06 | 0.44 | 109.47 | |
| OutriderDataSet-class | 0.87 | 0.01 | 1.11 | |
| aberrant | 3.12 | 0.08 | 37.27 | |
| computeGeneLength | 1.43 | 0.00 | 1.44 | |
| computeLatentSpace | 0.76 | 0.03 | 0.79 | |
| computePvalues | 6.89 | 0.04 | 99.40 | |
| computeZscores | 0.83 | 0.00 | 0.82 | |
| controlForConfounders | 1.09 | 0.01 | 1.11 | |
| counts | 0.63 | 0.03 | 0.64 | |
| estimateBestQ | 0.37 | 0.00 | 0.37 | |
| filterExpression | 1.32 | 0.05 | 1.38 | |
| findEncodingDim | 10.61 | 0.09 | 10.73 | |
| fit | 0.86 | 0.00 | 0.86 | |
| fpkm | 0.79 | 0.00 | 0.80 | |
| getter_setter_functions | 3.03 | 0.03 | 3.06 | |
| makeExampleOutriderDataSet | 1.04 | 0.05 | 1.08 | |
| normalizationFactors | 0.73 | 0.00 | 0.73 | |
| plotFunctions | 8.09 | 0.30 | 9.61 | |
| results | 3.35 | 0.01 | 3.36 | |
| sampleExclusionMask | 0.38 | 0.02 | 0.39 | |
| sizeFactors | 0.61 | 0.00 | 0.61 | |