| Back to Multiple platform build/check report for BioC 3.17: simplified long |
|
This page was generated on 2023-10-16 11:36:13 -0400 (Mon, 16 Oct 2023).
| Hostname | OS | Arch (*) | R version | Installed pkgs |
|---|---|---|---|---|
| nebbiolo1 | Linux (Ubuntu 22.04.2 LTS) | x86_64 | 4.3.1 (2023-06-16) -- "Beagle Scouts" | 4626 |
| palomino3 | Windows Server 2022 Datacenter | x64 | 4.3.1 (2023-06-16 ucrt) -- "Beagle Scouts" | 4379 |
| merida1 | macOS 12.6.4 Monterey | x86_64 | 4.3.1 (2023-06-16) -- "Beagle Scouts" | 4395 |
| Click on any hostname to see more info about the system (e.g. compilers) (*) as reported by 'uname -p', except on Windows and Mac OS X | ||||
| Package 925/2230 | Hostname | OS / Arch | INSTALL | BUILD | CHECK | BUILD BIN | ||||||||
| HiCBricks 1.18.0 (landing page) Koustav Pal
| nebbiolo1 | Linux (Ubuntu 22.04.2 LTS) / x86_64 | OK | OK | OK | |||||||||
| palomino3 | Windows Server 2022 Datacenter / x64 | OK | OK | OK | OK | |||||||||
| merida1 | macOS 12.6.4 Monterey / x86_64 | OK | OK | OK | OK | |||||||||
| kjohnson2 | macOS 12.6.1 Monterey / arm64 | see weekly results here | ||||||||||||
|
To the developers/maintainers of the HiCBricks package: - Allow up to 24 hours (and sometimes 48 hours) for your latest push to git@git.bioconductor.org:packages/HiCBricks.git to reflect on this report. See Troubleshooting Build Report for more information. - Use the following Renviron settings to reproduce errors and warnings. - If 'R CMD check' started to fail recently on the Linux builder(s) over a missing dependency, add the missing dependency to 'Suggests:' in your DESCRIPTION file. See Renviron.bioc for more information. |
| Package: HiCBricks |
| Version: 1.18.0 |
| Command: F:\biocbuild\bbs-3.17-bioc\R\bin\R.exe CMD check --no-multiarch --install=check:HiCBricks.install-out.txt --library=F:\biocbuild\bbs-3.17-bioc\R\library --no-vignettes --timings HiCBricks_1.18.0.tar.gz |
| StartedAt: 2023-10-16 03:00:40 -0400 (Mon, 16 Oct 2023) |
| EndedAt: 2023-10-16 03:04:53 -0400 (Mon, 16 Oct 2023) |
| EllapsedTime: 253.2 seconds |
| RetCode: 0 |
| Status: OK |
| CheckDir: HiCBricks.Rcheck |
| Warnings: 0 |
##############################################################################
##############################################################################
###
### Running command:
###
### F:\biocbuild\bbs-3.17-bioc\R\bin\R.exe CMD check --no-multiarch --install=check:HiCBricks.install-out.txt --library=F:\biocbuild\bbs-3.17-bioc\R\library --no-vignettes --timings HiCBricks_1.18.0.tar.gz
###
##############################################################################
##############################################################################
* using log directory 'F:/biocbuild/bbs-3.17-bioc/meat/HiCBricks.Rcheck'
* using R version 4.3.1 (2023-06-16 ucrt)
* using platform: x86_64-w64-mingw32 (64-bit)
* R was compiled by
gcc.exe (GCC) 12.2.0
GNU Fortran (GCC) 12.2.0
* running under: Windows Server 2022 x64 (build 20348)
* using session charset: UTF-8
* using option '--no-vignettes'
* checking for file 'HiCBricks/DESCRIPTION' ... OK
* checking extension type ... Package
* this is package 'HiCBricks' version '1.18.0'
* package encoding: UTF-8
* checking package namespace information ... OK
* checking package dependencies ... OK
* checking if this is a source package ... OK
* checking if there is a namespace ... OK
* checking for hidden files and directories ... OK
* checking for portable file names ... OK
* checking whether package 'HiCBricks' can be installed ... OK
* checking installed package size ... OK
* checking package directory ... OK
* checking 'build' directory ... OK
* checking DESCRIPTION meta-information ... OK
* checking top-level files ... OK
* checking for left-over files ... OK
* checking index information ... OK
* checking package subdirectories ... OK
* checking R files for non-ASCII characters ... OK
* checking R files for syntax errors ... OK
* checking whether the package can be loaded ... OK
* checking whether the package can be loaded with stated dependencies ... OK
* checking whether the package can be unloaded cleanly ... OK
* checking whether the namespace can be loaded with stated dependencies ... OK
* checking whether the namespace can be unloaded cleanly ... OK
* checking dependencies in R code ... OK
* checking S3 generic/method consistency ... OK
* checking replacement functions ... OK
* checking foreign function calls ... OK
* checking R code for possible problems ... OK
* checking Rd files ... OK
* checking Rd metadata ... OK
* checking Rd cross-references ... OK
* checking for missing documentation entries ... OK
* checking for code/documentation mismatches ... OK
* checking Rd \usage sections ... OK
* checking Rd contents ... OK
* checking for unstated dependencies in examples ... OK
* checking files in 'vignettes' ... OK
* checking examples ... OK
Examples with CPU (user + system) or elapsed time > 5s
user system elapsed
Brick_export_to_sparse 3.03 0.27 5.73
Brick_vizart_plot_heatmap 2.27 0.39 5.33
BrickContainer_unlink_resolution 2.10 0.34 6.20
Brick_local_score_differentiator 2.12 0.25 5.49
Brick_get_matrix_within_coords 1.70 0.29 5.36
* checking for unstated dependencies in vignettes ... OK
* checking package vignettes in 'inst/doc' ... OK
* checking running R code from vignettes ... SKIPPED
* checking re-building of vignette outputs ... SKIPPED
* checking PDF version of manual ... OK
* DONE
Status: OK
HiCBricks.Rcheck/00install.out
############################################################################## ############################################################################## ### ### Running command: ### ### F:\biocbuild\bbs-3.17-bioc\R\bin\R.exe CMD INSTALL HiCBricks ### ############################################################################## ############################################################################## * installing to library 'F:/biocbuild/bbs-3.17-bioc/R/library' * installing *source* package 'HiCBricks' ... ** using staged installation ** R ** inst ** byte-compile and prepare package for lazy loading ** help *** installing help indices ** building package indices ** installing vignettes ** testing if installed package can be loaded from temporary location ** testing if installed package can be loaded from final location ** testing if installed package keeps a record of temporary installation path * DONE (HiCBricks)
HiCBricks.Rcheck/HiCBricks-Ex.timings
| name | user | system | elapsed | |
| BrickContainer_change_experiment_name | 1.38 | 0.19 | 3.83 | |
| BrickContainer_change_output_directory | 1.18 | 0.09 | 2.86 | |
| BrickContainer_get_path_to_file | 1.10 | 0.19 | 3.34 | |
| BrickContainer_list_chromosomes | 1.30 | 0.19 | 3.13 | |
| BrickContainer_list_experiment_name | 1.03 | 0.15 | 3.15 | |
| BrickContainer_list_files | 1.06 | 0.13 | 3.33 | |
| BrickContainer_list_output_directory | 1.01 | 0.22 | 3.36 | |
| BrickContainer_list_resolutions | 1.11 | 0.17 | 3.33 | |
| BrickContainer_unlink_resolution | 2.10 | 0.34 | 6.20 | |
| Brick_add_ranges | 1.92 | 0.30 | 4.83 | |
| Brick_call_compartments | 1.28 | 0.25 | 4.11 | |
| Brick_export_to_sparse | 3.03 | 0.27 | 5.73 | |
| Brick_fetch_range_index | 1.08 | 0.20 | 2.42 | |
| Brick_fetch_row_vector | 1.64 | 0.16 | 4.18 | |
| Brick_get_bintable | 1.42 | 0.09 | 3.03 | |
| Brick_get_chrominfo | 1.05 | 0.19 | 2.42 | |
| Brick_get_entire_matrix | 1.48 | 0.28 | 4.03 | |
| Brick_get_matrix | 1.50 | 0.19 | 4.19 | |
| Brick_get_matrix_mcols | 1.38 | 0.27 | 4.02 | |
| Brick_get_matrix_within_coords | 1.70 | 0.29 | 5.36 | |
| Brick_get_ranges | 0.96 | 0.21 | 2.92 | |
| Brick_get_values_by_distance | 1.37 | 0.21 | 3.82 | |
| Brick_get_vector_values | 1.61 | 0.28 | 3.58 | |
| Brick_list_matrices | 0.75 | 0.23 | 2.31 | |
| Brick_list_matrix_mcols | 0.97 | 0.17 | 2.71 | |
| Brick_list_mcool_normalisations | 0 | 0 | 0 | |
| Brick_list_mcool_resolutions | 0 | 0 | 0 | |
| Brick_list_rangekeys | 1.12 | 0.16 | 2.15 | |
| Brick_list_ranges_mcols | 0.96 | 0.16 | 2.35 | |
| Brick_load_cis_matrix_till_distance | 1.09 | 0.31 | 3.28 | |
| Brick_load_data_from_mcool | 0 | 0 | 0 | |
| Brick_load_data_from_sparse | 0 | 0 | 0 | |
| Brick_load_matrix | 1.55 | 0.19 | 3.93 | |
| Brick_local_score_differentiator | 2.12 | 0.25 | 5.49 | |
| Brick_make_ranges | 0.02 | 0.00 | 0.01 | |
| Brick_matrix_dimensions | 1.17 | 0.18 | 3.66 | |
| Brick_matrix_exists | 1.22 | 0.18 | 3.89 | |
| Brick_matrix_filename | 1.30 | 0.28 | 3.42 | |
| Brick_matrix_isdone | 1.31 | 0.17 | 3.77 | |
| Brick_matrix_issparse | 1.2 | 0.3 | 3.9 | |
| Brick_matrix_maxdist | 1.42 | 0.21 | 4.07 | |
| Brick_matrix_minmax | 1.35 | 0.27 | 3.59 | |
| Brick_mcool_normalisation_exists | 0 | 0 | 0 | |
| Brick_rangekey_exists | 0.72 | 0.13 | 2.56 | |
| Brick_return_region_position | 1.23 | 0.18 | 2.61 | |
| Brick_vizart_plot_heatmap | 2.27 | 0.39 | 5.33 | |
| Create_many_Bricks | 0.98 | 0.18 | 2.35 | |
| Create_many_Bricks_from_mcool | 0 | 0 | 0 | |
| load_BrickContainer | 1.00 | 0.32 | 2.26 | |