| Back to Multiple platform build/check report for BioC 3.17: simplified long |
|
This page was generated on 2023-10-16 11:35:21 -0400 (Mon, 16 Oct 2023).
| Hostname | OS | Arch (*) | R version | Installed pkgs |
|---|---|---|---|---|
| nebbiolo1 | Linux (Ubuntu 22.04.2 LTS) | x86_64 | 4.3.1 (2023-06-16) -- "Beagle Scouts" | 4626 |
| palomino3 | Windows Server 2022 Datacenter | x64 | 4.3.1 (2023-06-16 ucrt) -- "Beagle Scouts" | 4379 |
| merida1 | macOS 12.6.4 Monterey | x86_64 | 4.3.1 (2023-06-16) -- "Beagle Scouts" | 4395 |
| Click on any hostname to see more info about the system (e.g. compilers) (*) as reported by 'uname -p', except on Windows and Mac OS X | ||||
| Package 700/2230 | Hostname | OS / Arch | INSTALL | BUILD | CHECK | BUILD BIN | ||||||||
| FindIT2 1.6.0 (landing page) Guandong Shang
| nebbiolo1 | Linux (Ubuntu 22.04.2 LTS) / x86_64 | OK | OK | OK | |||||||||
| palomino3 | Windows Server 2022 Datacenter / x64 | OK | OK | OK | OK | |||||||||
| merida1 | macOS 12.6.4 Monterey / x86_64 | OK | OK | OK | OK | |||||||||
| kjohnson2 | macOS 12.6.1 Monterey / arm64 | see weekly results here | ||||||||||||
|
To the developers/maintainers of the FindIT2 package: - Allow up to 24 hours (and sometimes 48 hours) for your latest push to git@git.bioconductor.org:packages/FindIT2.git to reflect on this report. See Troubleshooting Build Report for more information. - Use the following Renviron settings to reproduce errors and warnings. - If 'R CMD check' started to fail recently on the Linux builder(s) over a missing dependency, add the missing dependency to 'Suggests:' in your DESCRIPTION file. See Renviron.bioc for more information. |
| Package: FindIT2 |
| Version: 1.6.0 |
| Command: /home/biocbuild/bbs-3.17-bioc/R/bin/R CMD check --install=check:FindIT2.install-out.txt --library=/home/biocbuild/bbs-3.17-bioc/R/site-library --timings FindIT2_1.6.0.tar.gz |
| StartedAt: 2023-10-15 21:19:18 -0400 (Sun, 15 Oct 2023) |
| EndedAt: 2023-10-15 21:26:08 -0400 (Sun, 15 Oct 2023) |
| EllapsedTime: 409.1 seconds |
| RetCode: 0 |
| Status: OK |
| CheckDir: FindIT2.Rcheck |
| Warnings: 0 |
##############################################################################
##############################################################################
###
### Running command:
###
### /home/biocbuild/bbs-3.17-bioc/R/bin/R CMD check --install=check:FindIT2.install-out.txt --library=/home/biocbuild/bbs-3.17-bioc/R/site-library --timings FindIT2_1.6.0.tar.gz
###
##############################################################################
##############################################################################
* using log directory ‘/home/biocbuild/bbs-3.17-bioc/meat/FindIT2.Rcheck’
* using R version 4.3.1 (2023-06-16)
* using platform: x86_64-pc-linux-gnu (64-bit)
* R was compiled by
gcc (Ubuntu 11.3.0-1ubuntu1~22.04.1) 11.3.0
GNU Fortran (Ubuntu 11.3.0-1ubuntu1~22.04.1) 11.3.0
* running under: Ubuntu 22.04.3 LTS
* using session charset: UTF-8
* checking for file ‘FindIT2/DESCRIPTION’ ... OK
* this is package ‘FindIT2’ version ‘1.6.0’
* package encoding: UTF-8
* checking package namespace information ... OK
* checking package dependencies ... OK
* checking if this is a source package ... OK
* checking if there is a namespace ... OK
* checking for hidden files and directories ... OK
* checking for portable file names ... OK
* checking for sufficient/correct file permissions ... OK
* checking whether package ‘FindIT2’ can be installed ... OK
* checking installed package size ... OK
* checking package directory ... OK
* checking ‘build’ directory ... OK
* checking DESCRIPTION meta-information ... OK
* checking top-level files ... OK
* checking for left-over files ... OK
* checking index information ... OK
* checking package subdirectories ... OK
* checking R files for non-ASCII characters ... OK
* checking R files for syntax errors ... OK
* checking whether the package can be loaded ... OK
* checking whether the package can be loaded with stated dependencies ... OK
* checking whether the package can be unloaded cleanly ... OK
* checking whether the namespace can be loaded with stated dependencies ... OK
* checking whether the namespace can be unloaded cleanly ... OK
* checking loading without being on the library search path ... OK
* checking dependencies in R code ... OK
* checking S3 generic/method consistency ... OK
* checking replacement functions ... OK
* checking foreign function calls ... OK
* checking R code for possible problems ... OK
* checking Rd files ... OK
* checking Rd metadata ... OK
* checking Rd cross-references ... OK
* checking for missing documentation entries ... OK
* checking for code/documentation mismatches ... OK
* checking Rd \usage sections ... OK
* checking Rd contents ... OK
* checking for unstated dependencies in examples ... OK
* checking contents of ‘data’ directory ... OK
* checking data for non-ASCII characters ... OK
* checking data for ASCII and uncompressed saves ... OK
* checking files in ‘vignettes’ ... OK
* checking examples ... OK
Examples with CPU (user + system) or elapsed time > 5s
user system elapsed
findIT_regionRP 5.496 0.288 5.784
* checking for unstated dependencies in ‘tests’ ... OK
* checking tests ...
Running ‘testthat.R’
OK
* checking for unstated dependencies in vignettes ... OK
* checking package vignettes in ‘inst/doc’ ... OK
* checking running R code from vignettes ...
‘FindIT2.Rmd’ using ‘UTF-8’... OK
NONE
* checking re-building of vignette outputs ... OK
* checking PDF version of manual ... OK
* DONE
Status: OK
FindIT2.Rcheck/00install.out
############################################################################## ############################################################################## ### ### Running command: ### ### /home/biocbuild/bbs-3.17-bioc/R/bin/R CMD INSTALL FindIT2 ### ############################################################################## ############################################################################## * installing to library ‘/home/biocbuild/bbs-3.17-bioc/R/site-library’ * installing *source* package ‘FindIT2’ ... ** using staged installation ** R ** data ** inst ** byte-compile and prepare package for lazy loading ** help *** installing help indices ** building package indices ** installing vignettes ** testing if installed package can be loaded from temporary location ** testing if installed package can be loaded from final location ** testing if installed package keeps a record of temporary installation path * DONE (FindIT2)
FindIT2.Rcheck/tests/testthat.Rout
R version 4.3.1 (2023-06-16) -- "Beagle Scouts"
Copyright (C) 2023 The R Foundation for Statistical Computing
Platform: x86_64-pc-linux-gnu (64-bit)
R is free software and comes with ABSOLUTELY NO WARRANTY.
You are welcome to redistribute it under certain conditions.
Type 'license()' or 'licence()' for distribution details.
R is a collaborative project with many contributors.
Type 'contributors()' for more information and
'citation()' on how to cite R or R packages in publications.
Type 'demo()' for some demos, 'help()' for on-line help, or
'help.start()' for an HTML browser interface to help.
Type 'q()' to quit R.
> library(testthat)
> library(FindIT2)
Loading required package: GenomicRanges
Loading required package: stats4
Loading required package: BiocGenerics
Attaching package: 'BiocGenerics'
The following objects are masked from 'package:stats':
IQR, mad, sd, var, xtabs
The following objects are masked from 'package:base':
Filter, Find, Map, Position, Reduce, anyDuplicated, aperm, append,
as.data.frame, basename, cbind, colnames, dirname, do.call,
duplicated, eval, evalq, get, grep, grepl, intersect, is.unsorted,
lapply, mapply, match, mget, order, paste, pmax, pmax.int, pmin,
pmin.int, rank, rbind, rownames, sapply, setdiff, sort, table,
tapply, union, unique, unsplit, which.max, which.min
Loading required package: S4Vectors
Attaching package: 'S4Vectors'
The following object is masked from 'package:utils':
findMatches
The following objects are masked from 'package:base':
I, expand.grid, unname
Loading required package: IRanges
Loading required package: GenomeInfoDb
> if (!requireNamespace("TxDb.Athaliana.BioMart.plantsmart28")) {
+ stop("unable to load TxDb.Athaliana.BioMart.plantsmart28")
+ }
Loading required namespace: TxDb.Athaliana.BioMart.plantsmart28
>
> test_check("FindIT2")
>> preparing gene features information... 2023-10-15 21:24:18
>> some scan range may cross Chr bound, trimming... 2023-10-15 21:24:20
>> preparing weight info... 2023-10-15 21:24:20
>> loading E50h_sampleChr5.bw info... 2023-10-15 21:24:20
------------
>> extracting and calcluating Chr5 signal... 2023-10-15 21:24:20
>> dealing with Chr5 left gene signal... 2023-10-15 21:24:23
>> norming Chr5RP accoring to the whole Chr RP... 2023-10-15 21:24:23
>> merging all Chr RP together... 2023-10-15 21:24:23
>> done 2023-10-15 21:24:23
>> checking seqlevels match... 2023-10-15 21:24:23
>> your peak_GR seqlevel:Chr5...
>> your Txdb seqlevel:Chr1 Chr2 Chr3 Chr4 Chr5 ChrM ChrC...
Good, your Chrs in peak_GR is all in Txdb
------------
annotatePeak using geneScan mode begins
>> preparing gene features information and scan region... 2023-10-15 21:24:23
>> some scan range may cross Chr bound, trimming... 2023-10-15 21:24:24
>> finding overlap peak in gene scan region... 2023-10-15 21:24:24
>> dealing with left peak not your gene scan region... 2023-10-15 21:24:24
>> merging two set peaks... 2023-10-15 21:24:24
>> calculating distance and dealing with gene strand... 2023-10-15 21:24:24
>> merging all info together ... 2023-10-15 21:24:24
>> done 2023-10-15 21:24:24
>> calculating peakCenter to TSS using peak-gene pair... 2023-10-15 21:24:24
>> pre-filling 1356 noAssoc peak gene's RP with 0... 2023-10-15 21:24:25
>> calculating RP using centerToTSS and peak score2023-10-15 21:24:25
>> merging all info together 2023-10-15 21:24:27
>> done 2023-10-15 21:24:28
>> calculating peakCenter to TSS using peak-gene pair... 2023-10-15 21:24:28
>> pre-filling 1356 noAssoc peak gene's RP with 0... 2023-10-15 21:24:29
>> calculating RP using centerToTSS and peak score2023-10-15 21:24:29
>> merging all info together 2023-10-15 21:24:31
>> done 2023-10-15 21:24:31
>> checking seqlevels match... 2023-10-15 21:24:31
>> your peak_GR seqlevel:Chr5...
>> your Txdb seqlevel:Chr1 Chr2 Chr3 Chr4 Chr5 ChrM ChrC...
Good, your Chrs in peak_GR is all in Txdb
------------
annotatePeak using geneScan mode begins
>> preparing gene features information and scan region... 2023-10-15 21:24:32
>> some scan range may cross Chr bound, trimming... 2023-10-15 21:24:33
>> finding overlap peak in gene scan region... 2023-10-15 21:24:33
>> dealing with left peak not your gene scan region... 2023-10-15 21:24:33
>> merging two set peaks... 2023-10-15 21:24:33
>> calculating distance and dealing with gene strand... 2023-10-15 21:24:33
>> merging all info together ... 2023-10-15 21:24:33
>> done 2023-10-15 21:24:33
>> calculating peakCenter to TSS using peak-gene pair... 2023-10-15 21:24:33
>> calculating RP using centerToTSS and TF hit 2023-10-15 21:24:34
>> merging all info together 2023-10-15 21:24:34
>> done 2023-10-15 21:24:34
>> calculating peakCenter to TSS using peak-gene pair... 2023-10-15 21:24:34
>> calculating RP using centerToTSS and TF hit 2023-10-15 21:24:35
>> merging all info together 2023-10-15 21:24:35
>> done 2023-10-15 21:24:35
>> checking seqlevels match... 2023-10-15 21:24:36
>> your peak_GR seqlevel:Chr5...
>> your Txdb seqlevel:Chr1 Chr2 Chr3 Chr4 Chr5 ChrM ChrC...
Good, your Chrs in peak_GR is all in Txdb
------------
annotatePeak using geneScan mode begins
>> preparing gene features information and scan region... 2023-10-15 21:24:36
>> some scan range may cross Chr bound, trimming... 2023-10-15 21:24:36
>> finding overlap peak in gene scan region... 2023-10-15 21:24:36
>> dealing with left peak not your gene scan region... 2023-10-15 21:24:37
>> merging two set peaks... 2023-10-15 21:24:37
>> calculating distance and dealing with gene strand... 2023-10-15 21:24:37
>> merging all info together ... 2023-10-15 21:24:37
>> done 2023-10-15 21:24:37
>> calculating peakCenter to TSS using peak-gene pair... 2023-10-15 21:24:37
>> pre-filling 1356 noAssoc peak gene's RP with 0... 2023-10-15 21:24:37
>> calculating RP using centerToTSS and peak score2023-10-15 21:24:37
>> merging all info together 2023-10-15 21:24:39
>> done 2023-10-15 21:24:40
>> extracting RP info from regionRP... 2023-10-15 21:24:40
>> dealing with TF_GR_databse... 2023-10-15 21:24:40
>> calculating percent and p-value... 2023-10-15 21:24:40
>> dealing withE5_0h_R1... 2023-10-15 21:24:40
>> dealing withE5_0h_R2... 2023-10-15 21:24:40
>> dealing withE5_4h_R1... 2023-10-15 21:24:40
>> dealing withE5_4h_R2... 2023-10-15 21:24:41
>> dealing withE5_8h_R1... 2023-10-15 21:24:41
>> dealing withE5_8h_R2... 2023-10-15 21:24:41
>> dealing withE5_16h_R1... 2023-10-15 21:24:41
>> dealing withE5_16h_R2... 2023-10-15 21:24:41
>> dealing withE5_24h_R1... 2023-10-15 21:24:41
>> dealing withE5_24h_R2... 2023-10-15 21:24:41
>> dealing withE5_48h_R1... 2023-10-15 21:24:41
>> dealing withE5_48h_R2... 2023-10-15 21:24:41
>> dealing withE5_48h_R3... 2023-10-15 21:24:41
>> dealing withE5_72h_R1... 2023-10-15 21:24:41
>> dealing withE5_72h_R2... 2023-10-15 21:24:41
>> dealing withE5_72h_R3... 2023-10-15 21:24:41
>> merging all info together... 2023-10-15 21:24:41
>> done 2023-10-15 21:24:41
>> preparing gene features information... 2023-10-15 21:24:41
>> some scan range may cross Chr bound, trimming... 2023-10-15 21:24:42
>> calculating p-value for each TF, which may be time consuming... 2023-10-15 21:24:42
>> merging all info together... 2023-10-15 21:24:42
>> done 2023-10-15 21:24:42
>> dealing with TF_GR_database... 2023-10-15 21:24:42
>> calculating coef and converting into z-score using INT... 2023-10-15 21:24:42
>> dealing with E5_0h_R1... 2023-10-15 21:24:42
>> dealing with E5_0h_R2... 2023-10-15 21:24:43
>> dealing with E5_4h_R1... 2023-10-15 21:24:43
>> dealing with E5_4h_R2... 2023-10-15 21:24:43
>> dealing with E5_8h_R1... 2023-10-15 21:24:43
>> dealing with E5_8h_R2... 2023-10-15 21:24:43
>> dealing with E5_16h_R1... 2023-10-15 21:24:43
>> dealing with E5_16h_R2... 2023-10-15 21:24:43
>> dealing with E5_24h_R1... 2023-10-15 21:24:43
>> dealing with E5_24h_R2... 2023-10-15 21:24:43
>> dealing with E5_48h_R1... 2023-10-15 21:24:43
>> dealing with E5_48h_R2... 2023-10-15 21:24:43
>> dealing with E5_48h_R3... 2023-10-15 21:24:43
>> dealing with E5_72h_R1... 2023-10-15 21:24:43
>> dealing with E5_72h_R2... 2023-10-15 21:24:43
>> dealing with E5_72h_R3... 2023-10-15 21:24:44
>> merging all info together... 2023-10-15 21:24:44
>> done 2023-10-15 21:24:44
>> checking seqlevels match... 2023-10-15 21:24:44
>> your peak_GR seqlevel:Chr5...
>> your Txdb seqlevel:Chr1 Chr2 Chr3 Chr4 Chr5 ChrM ChrC...
Good, your Chrs in peak_GR is all in Txdb
------------
annotatePeak using geneScan mode begins
>> preparing gene features information and scan region... 2023-10-15 21:24:44
>> some scan range may cross Chr bound, trimming... 2023-10-15 21:24:45
>> finding overlap peak in gene scan region... 2023-10-15 21:24:45
>> dealing with left peak not your gene scan region... 2023-10-15 21:24:45
>> merging two set peaks... 2023-10-15 21:24:45
>> calculating distance and dealing with gene strand... 2023-10-15 21:24:45
>> merging all info together ... 2023-10-15 21:24:45
>> done 2023-10-15 21:24:45
>> calculating peakCenter to TSS using peak-gene pair... 2023-10-15 21:24:45
>> calculating RP using centerToTSS and TF hit 2023-10-15 21:24:46
>> merging all info together 2023-10-15 21:24:46
>> done 2023-10-15 21:24:46
>> checking seqlevels match... 2023-10-15 21:24:46
>> your peak_GR seqlevel:5...
>> your Txdb seqlevel:Chr1 Chr2 Chr3 Chr4 Chr5 ChrM ChrC...
>> checking seqlevels match... 2023-10-15 21:24:46
>> your peak_GR seqlevel:Chr5 Chr6...
>> your Txdb seqlevel:Chr1 Chr2 Chr3 Chr4 Chr5 ChrM ChrC...
>> checking seqlevels match... 2023-10-15 21:24:49
>> your peak_GR seqlevel:Chr5...
>> your Txdb seqlevel:Chr1 Chr2 Chr3 Chr4 Chr5 ChrM ChrC...
Good, your Chrs in peak_GR is all in Txdb
>> checking seqlevels match... 2023-10-15 21:24:49
>> your peak_GR seqlevel:Chr5...
>> your Txdb seqlevel:Chr1 Chr2 Chr3 Chr4 Chr5 ChrM ChrC...
Good, your Chrs in peak_GR is all in Txdb
------------
annotating Peak using nearest gene mode begins
>> preparing gene features information... 2023-10-15 21:24:49
>> finding nearest gene and calculating distance... 2023-10-15 21:24:50
>> dealing with gene strand ... 2023-10-15 21:24:50
>> merging all info together ... 2023-10-15 21:24:50
>> done 2023-10-15 21:24:50
>> checking seqlevels match... 2023-10-15 21:24:50
>> your peak_GR seqlevel:Chr5...
>> your Txdb seqlevel:Chr1 Chr2 Chr3 Chr4 Chr5 ChrM ChrC...
Good, your Chrs in peak_GR is all in Txdb
>> checking seqlevels match... 2023-10-15 21:24:50
>> your peak_GR seqlevel:Chr5...
>> your Txdb seqlevel:Chr1 Chr2 Chr3 Chr4 Chr5 ChrM ChrC...
Good, your Chrs in peak_GR is all in Txdb
------------
annotating Peak using nearest gene mode begins
>> preparing gene features information... 2023-10-15 21:24:50
>> finding nearest gene and calculating distance... 2023-10-15 21:24:51
>> dealing with gene strand ... 2023-10-15 21:24:51
>> merging all info together ... 2023-10-15 21:24:51
>> done 2023-10-15 21:24:51
>> checking seqlevels match... 2023-10-15 21:24:52
>> your peak_GR seqlevel:Chr5...
>> your Txdb seqlevel:Chr1 Chr2 Chr3 Chr4 Chr5 ChrM ChrC...
Good, your Chrs in peak_GR is all in Txdb
>> checking seqlevels match... 2023-10-15 21:24:52
>> your peak_GR seqlevel:Chr5...
>> your Txdb seqlevel:Chr1 Chr2 Chr3 Chr4 Chr5 ChrM ChrC...
Good, your Chrs in peak_GR is all in Txdb
------------
annotating Peak using nearest gene mode begins
>> preparing gene features information... 2023-10-15 21:24:52
>> finding nearest gene and calculating distance... 2023-10-15 21:24:52
>> dealing with gene strand ... 2023-10-15 21:24:53
>> merging all info together ... 2023-10-15 21:24:53
>> done 2023-10-15 21:24:53
>> checking seqlevels match... 2023-10-15 21:24:53
>> your peak_GR seqlevel:Chr5...
>> your Txdb seqlevel:Chr1 Chr2 Chr3 Chr4 Chr5 ChrM ChrC...
Good, your Chrs in peak_GR is all in Txdb
>> checking seqlevels match... 2023-10-15 21:24:53
>> your peak_GR seqlevel:Chr5...
>> your Txdb seqlevel:Chr1 Chr2 Chr3 Chr4 Chr5 ChrM ChrC...
Good, your Chrs in peak_GR is all in Txdb
------------
annotating Peak using nearest gene mode begins
>> preparing gene features information... 2023-10-15 21:24:54
>> finding nearest gene and calculating distance... 2023-10-15 21:24:54
>> dealing with gene strand ... 2023-10-15 21:24:54
>> merging all info together ... 2023-10-15 21:24:54
>> done 2023-10-15 21:24:54
It seems that there 1 genes have not been annotated by nearestGene mode
>> checking seqlevels match... 2023-10-15 21:24:55
>> your peak_GR seqlevel:Chr5...
>> your Txdb seqlevel:Chr1 Chr2 Chr3 Chr4 Chr5 ChrM ChrC...
Good, your Chrs in peak_GR is all in Txdb
>> checking seqlevels match... 2023-10-15 21:24:55
>> your peak_GR seqlevel:Chr5...
>> your Txdb seqlevel:Chr1 Chr2 Chr3 Chr4 Chr5 ChrM ChrC...
Good, your Chrs in peak_GR is all in Txdb
------------
annotating Peak using nearest gene mode begins
>> preparing gene features information... 2023-10-15 21:24:55
>> finding nearest gene and calculating distance... 2023-10-15 21:24:56
>> dealing with gene strand ... 2023-10-15 21:24:56
>> merging all info together ... 2023-10-15 21:24:56
>> done 2023-10-15 21:24:56
It seems that there 1 genes have not been annotated by nearestGene mode
>> checking seqlevels match... 2023-10-15 21:24:57
>> your peak_GR seqlevel:Chr5...
>> your Txdb seqlevel:Chr1 Chr2 Chr3 Chr4 Chr5 ChrM ChrC...
Good, your Chrs in peak_GR is all in Txdb
>> checking seqlevels match... 2023-10-15 21:24:58
>> your peak_GR seqlevel:Chr5...
>> your Txdb seqlevel:Chr1 Chr2 Chr3 Chr4 Chr5 ChrM ChrC...
Good, your Chrs in peak_GR is all in Txdb
>> some scan range may cross Chr bound, trimming... 2023-10-15 21:24:59
>> checking seqlevels match... 2023-10-15 21:24:59
>> your peak_GR seqlevel:Chr5...
>> your Txdb seqlevel:Chr1 Chr2 Chr3 Chr4 Chr5 ChrM ChrC...
Good, your Chrs in peak_GR is all in Txdb
>> some scan range may cross Chr bound, trimming... 2023-10-15 21:25:01
Good, your two matrix colnames matchs
>> calculating cor and pvalue, which may be time consuming... 2023-10-15 21:25:02
>> merging all info together... 2023-10-15 21:25:02
>> done 2023-10-15 21:25:02
>> checking seqlevels match... 2023-10-15 21:25:02
>> your peak_GR seqlevel:Chr5...
>> your Txdb seqlevel:Chr1 Chr2 Chr3 Chr4 Chr5 ChrM ChrC...
Good, your Chrs in peak_GR is all in Txdb
>> using scanPromoter parameter to scan promoter for each gene... 2023-10-15 21:25:02
>> checking seqlevels match... 2023-10-15 21:25:02
>> your peak_GR seqlevel:Chr5...
>> your Txdb seqlevel:Chr1 Chr2 Chr3 Chr4 Chr5 ChrM ChrC...
Good, your Chrs in peak_GR is all in Txdb
>> some scan range may cross Chr bound, trimming... 2023-10-15 21:25:03
>> there are 85 gene have scaned promoter
>> using scanEnhancer parameter to scan Enhancer for each gene... 2023-10-15 21:25:03
>> checking seqlevels match... 2023-10-15 21:25:03
>> your peak_GR seqlevel:Chr5...
>> your Txdb seqlevel:Chr1 Chr2 Chr3 Chr4 Chr5 ChrM ChrC...
Good, your Chrs in peak_GR is all in Txdb
>> some scan range may cross Chr bound, trimming... 2023-10-15 21:25:04
>> calculating cor and pvalue, which may be time consuming... 2023-10-15 21:25:04
>> merging all info together... 2023-10-15 21:25:04
>> done 2023-10-15 21:25:04
Good, your two matrix colnames matchs
>> calculating cor and pvalue, which may be time consuming... 2023-10-15 21:25:04
>> merging all info together... 2023-10-15 21:25:04
>> done 2023-10-15 21:25:04
>> checking seqlevels match... 2023-10-15 21:25:05
>> your peak_GR seqlevel:Chr5...
>> your Txdb seqlevel:Chr1 Chr2 Chr3 Chr4 Chr5 ChrM ChrC...
Good, your Chrs in peak_GR is all in Txdb
------------
annotatePeak using geneScan mode begins
>> preparing gene features information and scan region... 2023-10-15 21:25:05
>> some scan range may cross Chr bound, trimming... 2023-10-15 21:25:05
>> finding overlap peak in gene scan region... 2023-10-15 21:25:05
>> dealing with left peak not your gene scan region... 2023-10-15 21:25:05
>> merging two set peaks... 2023-10-15 21:25:06
>> calculating distance and dealing with gene strand... 2023-10-15 21:25:06
>> merging all info together ... 2023-10-15 21:25:06
>> done 2023-10-15 21:25:06
Good, your two matrix colnames matchs
>> calculating cor and pvalue, which may be time consuming... 2023-10-15 21:25:06
>> merging all info together... 2023-10-15 21:25:06
>> done 2023-10-15 21:25:06
>> checking seqlevels match... 2023-10-15 21:25:07
>> your peak_GR seqlevel:Chr5...
>> your Txdb seqlevel:Chr1 Chr2 Chr3 Chr4 Chr5 ChrM ChrC...
Good, your Chrs in peak_GR is all in Txdb
>> using scanPromoter parameter to scan promoter for each gene... 2023-10-15 21:25:07
>> checking seqlevels match... 2023-10-15 21:25:07
>> your peak_GR seqlevel:Chr5...
>> your Txdb seqlevel:Chr1 Chr2 Chr3 Chr4 Chr5 ChrM ChrC...
Good, your Chrs in peak_GR is all in Txdb
>> some scan range may cross Chr bound, trimming... 2023-10-15 21:25:07
>> there are 85 gene have scaned promoter
>> using scanEnhancer parameter to scan Enhancer for each gene... 2023-10-15 21:25:08
>> checking seqlevels match... 2023-10-15 21:25:08
>> your peak_GR seqlevel:Chr5...
>> your Txdb seqlevel:Chr1 Chr2 Chr3 Chr4 Chr5 ChrM ChrC...
Good, your Chrs in peak_GR is all in Txdb
>> some scan range may cross Chr bound, trimming... 2023-10-15 21:25:08
>> calculating cor and pvalue, which may be time consuming... 2023-10-15 21:25:08
>> merging all info together... 2023-10-15 21:25:09
>> done 2023-10-15 21:25:09
Joining with `by = join_by(feature_id)`
Joining with `by = join_by(feature_id)`
`geom_smooth()` using formula = 'y ~ x'
Joining with `by = join_by(feature_id)`
Joining with `by = join_by(feature_id)`
`geom_smooth()` using formula = 'y ~ x'
[ FAIL 0 | WARN 0 | SKIP 0 | PASS 65 ]
>
> proc.time()
user system elapsed
61.258 2.563 63.814
FindIT2.Rcheck/FindIT2-Ex.timings
| name | user | system | elapsed | |
| TF_target_database | 0.000 | 0.000 | 0.001 | |
| calcRP_TFHit | 3.373 | 0.140 | 3.530 | |
| calcRP_coverage | 3.112 | 0.780 | 3.892 | |
| calcRP_region | 4.455 | 0.180 | 4.635 | |
| enhancerPromoterCor | 2.755 | 0.028 | 2.783 | |
| findIT_MARA | 0.411 | 0.008 | 0.419 | |
| findIT_TFHit | 1.667 | 0.240 | 1.908 | |
| findIT_TTPair | 0.071 | 0.004 | 0.075 | |
| findIT_enrichFisher | 0.146 | 0.008 | 0.153 | |
| findIT_enrichWilcox | 0.181 | 0.020 | 0.200 | |
| findIT_regionRP | 5.496 | 0.288 | 5.784 | |
| getAssocPairNumber | 1.061 | 0.048 | 1.109 | |
| integrate_ChIP_RNA | 1.915 | 0.072 | 1.986 | |
| integrate_replicates | 0.002 | 0.000 | 0.002 | |
| jaccard_findIT_TTpair | 0.1 | 0.0 | 0.1 | |
| jaccard_findIT_enrichFisher | 0.222 | 0.004 | 0.226 | |
| loadPeakFile | 0.049 | 0.008 | 0.057 | |
| mm_geneBound | 1.063 | 0.064 | 1.128 | |
| mm_geneScan | 1.070 | 0.076 | 1.147 | |
| mm_nearestGene | 0.986 | 0.036 | 1.023 | |
| peakGeneCor | 2.072 | 0.062 | 2.135 | |
| plot_annoDistance | 1.439 | 0.064 | 1.502 | |
| plot_peakGeneAlias_summary | 1.245 | 0.024 | 1.269 | |
| plot_peakGeneCor | 2.664 | 0.048 | 2.712 | |
| test_geneSet | 0.000 | 0.000 | 0.001 | |