| Back to Multiple platform build/check report for BioC 3.17: simplified long |
|
This page was generated on 2023-10-16 11:35:15 -0400 (Mon, 16 Oct 2023).
| Hostname | OS | Arch (*) | R version | Installed pkgs |
|---|---|---|---|---|
| nebbiolo1 | Linux (Ubuntu 22.04.2 LTS) | x86_64 | 4.3.1 (2023-06-16) -- "Beagle Scouts" | 4626 |
| palomino3 | Windows Server 2022 Datacenter | x64 | 4.3.1 (2023-06-16 ucrt) -- "Beagle Scouts" | 4379 |
| merida1 | macOS 12.6.4 Monterey | x86_64 | 4.3.1 (2023-06-16) -- "Beagle Scouts" | 4395 |
| Click on any hostname to see more info about the system (e.g. compilers) (*) as reported by 'uname -p', except on Windows and Mac OS X | ||||
| Package 328/2230 | Hostname | OS / Arch | INSTALL | BUILD | CHECK | BUILD BIN | ||||||||
| ChIPpeakAnno 3.34.1 (landing page) Jianhong Ou
| nebbiolo1 | Linux (Ubuntu 22.04.2 LTS) / x86_64 | OK | OK | OK | |||||||||
| palomino3 | Windows Server 2022 Datacenter / x64 | OK | OK | OK | OK | |||||||||
| merida1 | macOS 12.6.4 Monterey / x86_64 | OK | OK | OK | OK | |||||||||
| kjohnson2 | macOS 12.6.1 Monterey / arm64 | see weekly results here | ||||||||||||
|
To the developers/maintainers of the ChIPpeakAnno package: - Allow up to 24 hours (and sometimes 48 hours) for your latest push to git@git.bioconductor.org:packages/ChIPpeakAnno.git to reflect on this report. See Troubleshooting Build Report for more information. - Use the following Renviron settings to reproduce errors and warnings. - If 'R CMD check' started to fail recently on the Linux builder(s) over a missing dependency, add the missing dependency to 'Suggests:' in your DESCRIPTION file. See Renviron.bioc for more information. |
| Package: ChIPpeakAnno |
| Version: 3.34.1 |
| Command: /home/biocbuild/bbs-3.17-bioc/R/bin/R CMD check --install=check:ChIPpeakAnno.install-out.txt --library=/home/biocbuild/bbs-3.17-bioc/R/site-library --timings ChIPpeakAnno_3.34.1.tar.gz |
| StartedAt: 2023-10-15 20:03:13 -0400 (Sun, 15 Oct 2023) |
| EndedAt: 2023-10-15 20:18:54 -0400 (Sun, 15 Oct 2023) |
| EllapsedTime: 940.7 seconds |
| RetCode: 0 |
| Status: OK |
| CheckDir: ChIPpeakAnno.Rcheck |
| Warnings: 0 |
##############################################################################
##############################################################################
###
### Running command:
###
### /home/biocbuild/bbs-3.17-bioc/R/bin/R CMD check --install=check:ChIPpeakAnno.install-out.txt --library=/home/biocbuild/bbs-3.17-bioc/R/site-library --timings ChIPpeakAnno_3.34.1.tar.gz
###
##############################################################################
##############################################################################
* using log directory ‘/home/biocbuild/bbs-3.17-bioc/meat/ChIPpeakAnno.Rcheck’
* using R version 4.3.1 (2023-06-16)
* using platform: x86_64-pc-linux-gnu (64-bit)
* R was compiled by
gcc (Ubuntu 11.3.0-1ubuntu1~22.04.1) 11.3.0
GNU Fortran (Ubuntu 11.3.0-1ubuntu1~22.04.1) 11.3.0
* running under: Ubuntu 22.04.3 LTS
* using session charset: UTF-8
* checking for file ‘ChIPpeakAnno/DESCRIPTION’ ... OK
* checking extension type ... Package
* this is package ‘ChIPpeakAnno’ version ‘3.34.1’
* package encoding: UTF-8
* checking package namespace information ... OK
* checking package dependencies ... OK
* checking if this is a source package ... OK
* checking if there is a namespace ... OK
* checking for hidden files and directories ... OK
* checking for portable file names ... OK
* checking for sufficient/correct file permissions ... OK
* checking whether package ‘ChIPpeakAnno’ can be installed ... OK
* checking installed package size ... NOTE
installed size is 17.4Mb
sub-directories of 1Mb or more:
data 12.6Mb
extdata 3.6Mb
* checking package directory ... OK
* checking ‘build’ directory ... OK
* checking DESCRIPTION meta-information ... OK
* checking top-level files ... OK
* checking for left-over files ... OK
* checking index information ... OK
* checking package subdirectories ... OK
* checking R files for non-ASCII characters ... OK
* checking R files for syntax errors ... OK
* checking whether the package can be loaded ... OK
* checking whether the package can be loaded with stated dependencies ... OK
* checking whether the package can be unloaded cleanly ... OK
* checking whether the namespace can be loaded with stated dependencies ... OK
* checking whether the namespace can be unloaded cleanly ... OK
* checking loading without being on the library search path ... OK
* checking dependencies in R code ... NOTE
Namespace in Imports field not imported from: ‘ensembldb’
All declared Imports should be used.
* checking S3 generic/method consistency ... OK
* checking replacement functions ... OK
* checking foreign function calls ... OK
* checking R code for possible problems ... OK
* checking Rd files ... NOTE
checkRd: (-1) assignChromosomeRegion.Rd:133: Escaped LaTeX specials: \_
* checking Rd metadata ... OK
* checking Rd cross-references ... OK
* checking for missing documentation entries ... OK
* checking for code/documentation mismatches ... OK
* checking Rd \usage sections ... OK
* checking Rd contents ... OK
* checking for unstated dependencies in examples ... OK
* checking contents of ‘data’ directory ... OK
* checking data for non-ASCII characters ... OK
* checking LazyData ... OK
* checking data for ASCII and uncompressed saves ... OK
* checking files in ‘vignettes’ ... OK
* checking examples ... OK
Examples with CPU (user + system) or elapsed time > 5s
user system elapsed
findEnhancers 22.647 0.628 23.276
annotatePeakInBatch 12.254 1.240 13.495
findMotifsInPromoterSeqs 12.717 0.252 12.969
summarizeOverlapsByBins 5.142 0.463 5.298
* checking for unstated dependencies in ‘tests’ ... OK
* checking tests ...
Running ‘runTests.R’
OK
* checking for unstated dependencies in vignettes ... OK
* checking package vignettes in ‘inst/doc’ ... OK
* checking running R code from vignettes ...
‘ChIPpeakAnno.Rmd’ using ‘UTF-8’... OK
‘FAQs.Rmd’ using ‘UTF-8’... OK
‘pipeline.Rmd’ using ‘UTF-8’... OK
‘quickStart.Rmd’ using ‘UTF-8’... OK
NONE
* checking re-building of vignette outputs ... OK
* checking PDF version of manual ... OK
* DONE
Status: 3 NOTEs
See
‘/home/biocbuild/bbs-3.17-bioc/meat/ChIPpeakAnno.Rcheck/00check.log’
for details.
ChIPpeakAnno.Rcheck/00install.out
############################################################################## ############################################################################## ### ### Running command: ### ### /home/biocbuild/bbs-3.17-bioc/R/bin/R CMD INSTALL ChIPpeakAnno ### ############################################################################## ############################################################################## * installing to library ‘/home/biocbuild/bbs-3.17-bioc/R/site-library’ * installing *source* package ‘ChIPpeakAnno’ ... ** using staged installation ** R ** data *** moving datasets to lazyload DB ** inst ** byte-compile and prepare package for lazy loading in method for ‘annoGR’ with signature ‘"EnsDb"’: no definition for class “EnsDb” in method for ‘toGRanges’ with signature ‘"EnsDb"’: no definition for class “EnsDb” ** help *** installing help indices ** building package indices ** installing vignettes ** testing if installed package can be loaded from temporary location ** testing if installed package can be loaded from final location ** testing if installed package keeps a record of temporary installation path * DONE (ChIPpeakAnno)
ChIPpeakAnno.Rcheck/tests/runTests.Rout
R version 4.3.1 (2023-06-16) -- "Beagle Scouts"
Copyright (C) 2023 The R Foundation for Statistical Computing
Platform: x86_64-pc-linux-gnu (64-bit)
R is free software and comes with ABSOLUTELY NO WARRANTY.
You are welcome to redistribute it under certain conditions.
Type 'license()' or 'licence()' for distribution details.
R is a collaborative project with many contributors.
Type 'contributors()' for more information and
'citation()' on how to cite R or R packages in publications.
Type 'demo()' for some demos, 'help()' for on-line help, or
'help.start()' for an HTML browser interface to help.
Type 'q()' to quit R.
> require("ChIPpeakAnno") || stop("unable to load Package:ChIPpeakAnno")
Loading required package: ChIPpeakAnno
Loading required package: IRanges
Loading required package: BiocGenerics
Attaching package: 'BiocGenerics'
The following objects are masked from 'package:stats':
IQR, mad, sd, var, xtabs
The following objects are masked from 'package:base':
Filter, Find, Map, Position, Reduce, anyDuplicated, aperm, append,
as.data.frame, basename, cbind, colnames, dirname, do.call,
duplicated, eval, evalq, get, grep, grepl, intersect, is.unsorted,
lapply, mapply, match, mget, order, paste, pmax, pmax.int, pmin,
pmin.int, rank, rbind, rownames, sapply, setdiff, sort, table,
tapply, union, unique, unsplit, which.max, which.min
Loading required package: S4Vectors
Loading required package: stats4
Attaching package: 'S4Vectors'
The following object is masked from 'package:utils':
findMatches
The following objects are masked from 'package:base':
I, expand.grid, unname
Loading required package: GenomicRanges
Loading required package: GenomeInfoDb
[1] TRUE
> require("BSgenome.Drerio.UCSC.danRer7") || stop("unable to load Package:BSgenome.Drerio.UCSC.danRer7")
Loading required package: BSgenome.Drerio.UCSC.danRer7
Loading required package: BSgenome
Loading required package: Biostrings
Loading required package: XVector
Attaching package: 'Biostrings'
The following object is masked from 'package:base':
strsplit
Loading required package: rtracklayer
[1] TRUE
> require("org.Hs.eg.db") || stop("unable to load Package:org.Hs.eg.db")
Loading required package: org.Hs.eg.db
Loading required package: AnnotationDbi
Loading required package: Biobase
Welcome to Bioconductor
Vignettes contain introductory material; view with
'browseVignettes()'. To cite Bioconductor, see
'citation("Biobase")', and for packages 'citation("pkgname")'.
[1] TRUE
> require("org.Ce.eg.db") || stop("unable to load Package:org.Ce.eg.db")
Loading required package: org.Ce.eg.db
[1] TRUE
> require("BSgenome.Celegans.UCSC.ce10") || stop("unable to load Package:BSgenome.Celegans.UCSC.ce10")
Loading required package: BSgenome.Celegans.UCSC.ce10
[1] TRUE
> require("EnsDb.Hsapiens.v79") || stop("unable to load Package:EnsDb.Hsapiens.v79")
Loading required package: EnsDb.Hsapiens.v79
Loading required package: ensembldb
Loading required package: GenomicFeatures
Loading required package: AnnotationFilter
Attaching package: 'ensembldb'
The following object is masked from 'package:stats':
filter
[1] TRUE
> require("TxDb.Hsapiens.UCSC.hg38.knownGene") || stop("unable to load TxDb.Hsapiens.UCSC.hg38.knownGene")
Loading required package: TxDb.Hsapiens.UCSC.hg38.knownGene
[1] TRUE
> require("biomaRt") || stop("unable to load biomaRt")
Loading required package: biomaRt
[1] TRUE
> require("reactome.db") || stop("unable to load reactome.db")
Loading required package: reactome.db
[1] TRUE
> require("testthat") || stop("unable to load testthat")
Loading required package: testthat
Attaching package: 'testthat'
The following object is masked from 'package:AnnotationFilter':
not
[1] TRUE
> test_check("ChIPpeakAnno")
INFO [2023-10-15 20:12:19] $cat.cex
INFO [2023-10-15 20:12:19] [1] 1
INFO [2023-10-15 20:12:19]
INFO [2023-10-15 20:12:19] $cat.col
INFO [2023-10-15 20:12:19] [1] "black"
INFO [2023-10-15 20:12:19]
INFO [2023-10-15 20:12:19] $cat.fontface
INFO [2023-10-15 20:12:19] [1] "plain"
INFO [2023-10-15 20:12:19]
INFO [2023-10-15 20:12:19] $cat.fontfamily
INFO [2023-10-15 20:12:19] [1] "serif"
INFO [2023-10-15 20:12:19]
INFO [2023-10-15 20:12:19] $x
INFO [2023-10-15 20:12:19] $x$TF1
INFO [2023-10-15 20:12:19] [1] 3 4 5
INFO [2023-10-15 20:12:19]
INFO [2023-10-15 20:12:19] $x$TF2
INFO [2023-10-15 20:12:19] [1] 1 2 3 4 5
INFO [2023-10-15 20:12:19]
INFO [2023-10-15 20:12:19]
INFO [2023-10-15 20:12:19] $filename
INFO [2023-10-15 20:12:19] NULL
INFO [2023-10-15 20:12:19]
INFO [2023-10-15 20:12:19] $disable.logging
INFO [2023-10-15 20:12:19] [1] TRUE
INFO [2023-10-15 20:12:19]
INFO [2023-10-15 20:12:19] $cat.cex
INFO [2023-10-15 20:12:19] [1] 1
INFO [2023-10-15 20:12:19]
INFO [2023-10-15 20:12:19] $cat.col
INFO [2023-10-15 20:12:19] [1] "black"
INFO [2023-10-15 20:12:19]
INFO [2023-10-15 20:12:19] $cat.fontface
INFO [2023-10-15 20:12:19] [1] "plain"
INFO [2023-10-15 20:12:19]
INFO [2023-10-15 20:12:19] $cat.fontfamily
INFO [2023-10-15 20:12:19] [1] "serif"
INFO [2023-10-15 20:12:19]
INFO [2023-10-15 20:12:19] $x
INFO [2023-10-15 20:12:19] $x$TF1
INFO [2023-10-15 20:12:19] [1] 3 4 5
INFO [2023-10-15 20:12:19]
INFO [2023-10-15 20:12:19] $x$TF2
INFO [2023-10-15 20:12:19] [1] 1 2 4 5
INFO [2023-10-15 20:12:19]
INFO [2023-10-15 20:12:19] $x$TF3
INFO [2023-10-15 20:12:19] [1] 3 4 5
INFO [2023-10-15 20:12:19]
INFO [2023-10-15 20:12:19] $x$TF4
INFO [2023-10-15 20:12:19] [1] 1 2 4 5
INFO [2023-10-15 20:12:19]
INFO [2023-10-15 20:12:19]
INFO [2023-10-15 20:12:19] $filename
INFO [2023-10-15 20:12:19] NULL
INFO [2023-10-15 20:12:19]
INFO [2023-10-15 20:12:19] $disable.logging
INFO [2023-10-15 20:12:19] [1] TRUE
INFO [2023-10-15 20:12:19]
INFO [2023-10-15 20:12:20] $scaled
INFO [2023-10-15 20:12:20] [1] FALSE
INFO [2023-10-15 20:12:20]
INFO [2023-10-15 20:12:20] $euler.d
INFO [2023-10-15 20:12:20] [1] FALSE
INFO [2023-10-15 20:12:20]
INFO [2023-10-15 20:12:20] $cat.cex
INFO [2023-10-15 20:12:20] [1] 1
INFO [2023-10-15 20:12:20]
INFO [2023-10-15 20:12:20] $cat.col
INFO [2023-10-15 20:12:20] [1] "black"
INFO [2023-10-15 20:12:20]
INFO [2023-10-15 20:12:20] $cat.fontface
INFO [2023-10-15 20:12:20] [1] "plain"
INFO [2023-10-15 20:12:20]
INFO [2023-10-15 20:12:20] $cat.fontfamily
INFO [2023-10-15 20:12:20] [1] "serif"
INFO [2023-10-15 20:12:20]
INFO [2023-10-15 20:12:20] $x
INFO [2023-10-15 20:12:20] $x$TF1
INFO [2023-10-15 20:12:20] [1] 1 2 3
INFO [2023-10-15 20:12:20]
INFO [2023-10-15 20:12:20] $x$TF2
INFO [2023-10-15 20:12:20] [1] 1 2 3
INFO [2023-10-15 20:12:20]
INFO [2023-10-15 20:12:20]
INFO [2023-10-15 20:12:20] $filename
INFO [2023-10-15 20:12:20] NULL
INFO [2023-10-15 20:12:20]
INFO [2023-10-15 20:12:20] $disable.logging
INFO [2023-10-15 20:12:20] [1] TRUE
INFO [2023-10-15 20:12:20]
INFO [2023-10-15 20:12:20] $scaled
INFO [2023-10-15 20:12:20] [1] FALSE
INFO [2023-10-15 20:12:20]
INFO [2023-10-15 20:12:20] $euler.d
INFO [2023-10-15 20:12:20] [1] FALSE
INFO [2023-10-15 20:12:20]
INFO [2023-10-15 20:12:20] $cat.cex
INFO [2023-10-15 20:12:20] [1] 1
INFO [2023-10-15 20:12:20]
INFO [2023-10-15 20:12:20] $cat.col
INFO [2023-10-15 20:12:20] [1] "black"
INFO [2023-10-15 20:12:20]
INFO [2023-10-15 20:12:20] $cat.fontface
INFO [2023-10-15 20:12:20] [1] "plain"
INFO [2023-10-15 20:12:20]
INFO [2023-10-15 20:12:20] $cat.fontfamily
INFO [2023-10-15 20:12:20] [1] "serif"
INFO [2023-10-15 20:12:20]
INFO [2023-10-15 20:12:20] $x
INFO [2023-10-15 20:12:20] $x$TF1
INFO [2023-10-15 20:12:20] [1] 4 5 6
INFO [2023-10-15 20:12:20]
INFO [2023-10-15 20:12:20] $x$TF2
INFO [2023-10-15 20:12:20] [1] 1 2 3
INFO [2023-10-15 20:12:20]
INFO [2023-10-15 20:12:20]
INFO [2023-10-15 20:12:20] $filename
INFO [2023-10-15 20:12:20] NULL
INFO [2023-10-15 20:12:20]
INFO [2023-10-15 20:12:20] $disable.logging
INFO [2023-10-15 20:12:20] [1] TRUE
INFO [2023-10-15 20:12:20]
INFO [2023-10-15 20:12:20] $scaled
INFO [2023-10-15 20:12:20] [1] FALSE
INFO [2023-10-15 20:12:20]
INFO [2023-10-15 20:12:20] $euler.d
INFO [2023-10-15 20:12:20] [1] FALSE
INFO [2023-10-15 20:12:20]
INFO [2023-10-15 20:12:20] $cat.cex
INFO [2023-10-15 20:12:20] [1] 1
INFO [2023-10-15 20:12:20]
INFO [2023-10-15 20:12:20] $cat.col
INFO [2023-10-15 20:12:20] [1] "black"
INFO [2023-10-15 20:12:20]
INFO [2023-10-15 20:12:20] $cat.fontface
INFO [2023-10-15 20:12:20] [1] "plain"
INFO [2023-10-15 20:12:20]
INFO [2023-10-15 20:12:20] $cat.fontfamily
INFO [2023-10-15 20:12:20] [1] "serif"
INFO [2023-10-15 20:12:20]
INFO [2023-10-15 20:12:20] $x
INFO [2023-10-15 20:12:20] $x$TF1
INFO [2023-10-15 20:12:20] [1] 4 5 6
INFO [2023-10-15 20:12:20]
INFO [2023-10-15 20:12:20] $x$TF2
INFO [2023-10-15 20:12:20] [1] 1 2 3
INFO [2023-10-15 20:12:20]
INFO [2023-10-15 20:12:20]
INFO [2023-10-15 20:12:20] $filename
INFO [2023-10-15 20:12:20] NULL
INFO [2023-10-15 20:12:20]
INFO [2023-10-15 20:12:20] $disable.logging
INFO [2023-10-15 20:12:20] [1] TRUE
INFO [2023-10-15 20:12:20]
INFO [2023-10-15 20:12:21] $scaled
INFO [2023-10-15 20:12:21] [1] FALSE
INFO [2023-10-15 20:12:21]
INFO [2023-10-15 20:12:21] $euler.d
INFO [2023-10-15 20:12:21] [1] FALSE
INFO [2023-10-15 20:12:21]
INFO [2023-10-15 20:12:21] $cat.cex
INFO [2023-10-15 20:12:21] [1] 1
INFO [2023-10-15 20:12:21]
INFO [2023-10-15 20:12:21] $cat.col
INFO [2023-10-15 20:12:21] [1] "black"
INFO [2023-10-15 20:12:21]
INFO [2023-10-15 20:12:21] $cat.fontface
INFO [2023-10-15 20:12:21] [1] "plain"
INFO [2023-10-15 20:12:21]
INFO [2023-10-15 20:12:21] $cat.fontfamily
INFO [2023-10-15 20:12:21] [1] "serif"
INFO [2023-10-15 20:12:21]
INFO [2023-10-15 20:12:21] $x
INFO [2023-10-15 20:12:21] $x$TF1
INFO [2023-10-15 20:12:21] [1] 4 5 6
INFO [2023-10-15 20:12:21]
INFO [2023-10-15 20:12:21] $x$TF2
INFO [2023-10-15 20:12:21] [1] 1 2 3
INFO [2023-10-15 20:12:21]
INFO [2023-10-15 20:12:21] $x$TF3
INFO [2023-10-15 20:12:21] [1] 2 3 6
INFO [2023-10-15 20:12:21]
INFO [2023-10-15 20:12:21]
INFO [2023-10-15 20:12:21] $filename
INFO [2023-10-15 20:12:21] NULL
INFO [2023-10-15 20:12:21]
INFO [2023-10-15 20:12:21] $disable.logging
INFO [2023-10-15 20:12:21] [1] TRUE
INFO [2023-10-15 20:12:21]
INFO [2023-10-15 20:12:21] $scaled
INFO [2023-10-15 20:12:21] [1] FALSE
INFO [2023-10-15 20:12:21]
INFO [2023-10-15 20:12:21] $euler.d
INFO [2023-10-15 20:12:21] [1] FALSE
INFO [2023-10-15 20:12:21]
INFO [2023-10-15 20:12:21] $cat.cex
INFO [2023-10-15 20:12:21] [1] 1
INFO [2023-10-15 20:12:21]
INFO [2023-10-15 20:12:21] $cat.col
INFO [2023-10-15 20:12:21] [1] "black"
INFO [2023-10-15 20:12:21]
INFO [2023-10-15 20:12:21] $cat.fontface
INFO [2023-10-15 20:12:21] [1] "plain"
INFO [2023-10-15 20:12:21]
INFO [2023-10-15 20:12:21] $cat.fontfamily
INFO [2023-10-15 20:12:21] [1] "serif"
INFO [2023-10-15 20:12:21]
INFO [2023-10-15 20:12:21] $x
INFO [2023-10-15 20:12:21] $x$TF1
INFO [2023-10-15 20:12:21] [1] 3 4 5
INFO [2023-10-15 20:12:21]
INFO [2023-10-15 20:12:21] $x$TF2
INFO [2023-10-15 20:12:21] [1] 1 2 5
INFO [2023-10-15 20:12:21]
INFO [2023-10-15 20:12:21] $x$TF3
INFO [2023-10-15 20:12:21] [1] 1 2 5
INFO [2023-10-15 20:12:21]
INFO [2023-10-15 20:12:21]
INFO [2023-10-15 20:12:21] $filename
INFO [2023-10-15 20:12:21] NULL
INFO [2023-10-15 20:12:21]
INFO [2023-10-15 20:12:21] $disable.logging
INFO [2023-10-15 20:12:21] [1] TRUE
INFO [2023-10-15 20:12:21]
INFO [2023-10-15 20:12:21] $scaled
INFO [2023-10-15 20:12:21] [1] FALSE
INFO [2023-10-15 20:12:21]
INFO [2023-10-15 20:12:21] $euler.d
INFO [2023-10-15 20:12:21] [1] FALSE
INFO [2023-10-15 20:12:21]
INFO [2023-10-15 20:12:21] $cat.cex
INFO [2023-10-15 20:12:21] [1] 1
INFO [2023-10-15 20:12:21]
INFO [2023-10-15 20:12:21] $cat.col
INFO [2023-10-15 20:12:21] [1] "black"
INFO [2023-10-15 20:12:21]
INFO [2023-10-15 20:12:21] $cat.fontface
INFO [2023-10-15 20:12:21] [1] "plain"
INFO [2023-10-15 20:12:21]
INFO [2023-10-15 20:12:21] $cat.fontfamily
INFO [2023-10-15 20:12:21] [1] "serif"
INFO [2023-10-15 20:12:21]
INFO [2023-10-15 20:12:21] $x
INFO [2023-10-15 20:12:21] $x$TF1
INFO [2023-10-15 20:12:21] [1] 3 4 5
INFO [2023-10-15 20:12:21]
INFO [2023-10-15 20:12:21] $x$TF2
INFO [2023-10-15 20:12:21] [1] 1 2 5
INFO [2023-10-15 20:12:21]
INFO [2023-10-15 20:12:21] $x$TF3
INFO [2023-10-15 20:12:21] [1] 1 2 5
INFO [2023-10-15 20:12:21]
INFO [2023-10-15 20:12:21] $x$TF4
INFO [2023-10-15 20:12:21] [1] 1 2 5
INFO [2023-10-15 20:12:21]
INFO [2023-10-15 20:12:21]
INFO [2023-10-15 20:12:21] $filename
INFO [2023-10-15 20:12:21] NULL
INFO [2023-10-15 20:12:21]
INFO [2023-10-15 20:12:21] $disable.logging
INFO [2023-10-15 20:12:21] [1] TRUE
INFO [2023-10-15 20:12:21]
[ FAIL 0 | WARN 4 | SKIP 6 | PASS 316 ]
══ Skipped tests (6) ═══════════════════════════════════════════════════════════
• empty test (6): 'test_binOverGene.R:1:1', 'test_binOverRegions.R:1:1',
'test_enrichmentPlot.R:1:1', 'test_getAnnotation.R:1:1',
'test_reCenterPeaks.R:1:1', 'test_write2FASTA.R:1:1'
[ FAIL 0 | WARN 4 | SKIP 6 | PASS 316 ]
>
> proc.time()
user system elapsed
155.932 5.176 163.278
ChIPpeakAnno.Rcheck/ChIPpeakAnno-Ex.timings
| name | user | system | elapsed | |
| ChIPpeakAnno-package | 0.000 | 0.000 | 0.001 | |
| ExonPlusUtr.human.GRCh37 | 3.648 | 0.208 | 3.856 | |
| HOT.spots | 0.139 | 0.004 | 0.143 | |
| IDRfilter | 0 | 0 | 0 | |
| Peaks.Ste12.Replicate1 | 0.041 | 0.006 | 0.048 | |
| Peaks.Ste12.Replicate2 | 0.011 | 0.000 | 0.012 | |
| Peaks.Ste12.Replicate3 | 0.011 | 0.000 | 0.011 | |
| TSS.human.GRCh37 | 0.181 | 0.008 | 0.188 | |
| TSS.human.GRCh38 | 0.144 | 0.000 | 0.143 | |
| TSS.human.NCBI36 | 0.109 | 0.004 | 0.113 | |
| TSS.mouse.GRCm38 | 0.100 | 0.007 | 0.107 | |
| TSS.mouse.NCBIM37 | 0.098 | 0.001 | 0.098 | |
| TSS.rat.RGSC3.4 | 0.077 | 0.007 | 0.085 | |
| TSS.rat.Rnor_5.0 | 0.068 | 0.004 | 0.072 | |
| TSS.zebrafish.Zv8 | 0.066 | 0.011 | 0.078 | |
| TSS.zebrafish.Zv9 | 0.104 | 0.008 | 0.111 | |
| addAncestors | 1.087 | 0.080 | 1.167 | |
| addGeneIDs | 0.823 | 0.056 | 0.878 | |
| addMetadata | 1.004 | 0.108 | 1.111 | |
| annoGR | 0.001 | 0.000 | 0.001 | |
| annoPeaks | 3.386 | 0.368 | 4.297 | |
| annotatePeakInBatch | 12.254 | 1.240 | 13.495 | |
| annotatedPeak | 0.061 | 0.001 | 0.062 | |
| assignChromosomeRegion | 0.001 | 0.000 | 0.002 | |
| bdp | 0 | 0 | 0 | |
| binOverFeature | 0.711 | 0.024 | 0.736 | |
| binOverGene | 0.000 | 0.001 | 0.000 | |
| binOverRegions | 0.000 | 0.001 | 0.000 | |
| condenseMatrixByColnames | 0.010 | 0.002 | 0.011 | |
| convert2EntrezID | 0.423 | 0.008 | 0.431 | |
| countPatternInSeqs | 0.146 | 0.012 | 0.158 | |
| cumulativePercentage | 0 | 0 | 0 | |
| downstreams | 0.024 | 0.000 | 0.024 | |
| egOrgMap | 0.001 | 0.000 | 0.000 | |
| enrichedGO | 0.003 | 0.000 | 0.002 | |
| enrichmentPlot | 0.474 | 0.012 | 0.486 | |
| estFragmentLength | 0 | 0 | 0 | |
| estLibSize | 0 | 0 | 0 | |
| featureAlignedDistribution | 0.213 | 0.018 | 0.231 | |
| featureAlignedExtendSignal | 0.001 | 0.000 | 0.002 | |
| featureAlignedHeatmap | 0.309 | 0.004 | 0.313 | |
| featureAlignedSignal | 0.171 | 0.048 | 0.220 | |
| findEnhancers | 22.647 | 0.628 | 23.276 | |
| findMotifsInPromoterSeqs | 12.717 | 0.252 | 12.969 | |
| findOverlappingPeaks | 0.001 | 0.001 | 0.001 | |
| findOverlapsOfPeaks | 1.75 | 0.02 | 1.77 | |
| genomicElementDistribution | 0.001 | 0.000 | 0.001 | |
| genomicElementUpSetR | 0.000 | 0.000 | 0.001 | |
| getAllPeakSequence | 0.484 | 0.012 | 0.496 | |
| getAnnotation | 0.001 | 0.000 | 0.001 | |
| getEnrichedGO | 0.007 | 0.004 | 0.010 | |
| getEnrichedPATH | 0.001 | 0.000 | 0.001 | |
| getGO | 0.000 | 0.000 | 0.001 | |
| getGeneSeq | 0.000 | 0.001 | 0.001 | |
| getUniqueGOidCount | 0.000 | 0.001 | 0.001 | |
| getVennCounts | 0.001 | 0.001 | 0.001 | |
| hyperGtest | 0.002 | 0.000 | 0.001 | |
| makeVennDiagram | 0.000 | 0.002 | 0.002 | |
| mergePlusMinusPeaks | 0.000 | 0.000 | 0.001 | |
| metagenePlot | 1.898 | 0.040 | 1.940 | |
| myPeakList | 0.013 | 0.002 | 0.015 | |
| oligoFrequency | 0.191 | 0.012 | 0.203 | |
| oligoSummary | 0.001 | 0.000 | 0.001 | |
| peakPermTest | 0.003 | 0.000 | 0.003 | |
| peaksNearBDP | 0.001 | 0.000 | 0.001 | |
| pie1 | 0.007 | 0.000 | 0.007 | |
| plotBinOverRegions | 0 | 0 | 0 | |
| preparePool | 0.001 | 0.000 | 0.001 | |
| reCenterPeaks | 0.021 | 0.004 | 0.025 | |
| summarizeOverlapsByBins | 5.142 | 0.463 | 5.298 | |
| summarizePatternInPeaks | 0.496 | 0.036 | 0.531 | |
| tileCount | 0.077 | 0.088 | 0.329 | |
| tileGRanges | 0.243 | 0.248 | 0.035 | |
| toGRanges | 0.077 | 0.004 | 0.081 | |
| translatePattern | 0 | 0 | 0 | |
| wgEncodeTfbsV3 | 0.222 | 0.008 | 0.230 | |
| write2FASTA | 0.017 | 0.000 | 0.017 | |
| xget | 0.119 | 0.000 | 0.119 | |