| Back to Mac ARM64 build report for BioC 3.16 |
|
This page was generated on 2023-04-19 11:01:58 -0400 (Wed, 19 Apr 2023).
| Hostname | OS | Arch (*) | R version | Installed pkgs |
|---|---|---|---|---|
| kjohnson | macOS 13.0 Ventura | arm64 | 4.2.2 (2022-10-31) -- "Innocent and Trusting" | 4256 |
| Click on any hostname to see more info about the system (e.g. compilers) (*) as reported by 'uname -p', except on Windows and Mac OS X | ||||
|
To the developers/maintainers of the sojourner package: Make sure to use the following settings in order to reproduce any error or warning you see on this page. |
| Package 1914/2183 | Hostname | OS / Arch | INSTALL | BUILD | BUILD BIN | ||||||||
Sojourner Developer
| kjohnson | macOS 13.0 Ventura / arm64 | ERROR | ERROR | skipped | ||||||||
| Package: sojourner |
| Version: 1.12.0 |
| Command: /Library/Frameworks/R.framework/Resources/bin/R CMD build --keep-empty-dirs --no-resave-data sojourner |
| StartedAt: 2023-04-18 08:21:59 -0400 (Tue, 18 Apr 2023) |
| EndedAt: 2023-04-18 08:22:01 -0400 (Tue, 18 Apr 2023) |
| EllapsedTime: 2.1 seconds |
| RetCode: 1 |
| Status: ERROR |
| PackageFile: None |
| PackageFileSize: NA |
##############################################################################
##############################################################################
###
### Running command:
###
### /Library/Frameworks/R.framework/Resources/bin/R CMD build --keep-empty-dirs --no-resave-data sojourner
###
##############################################################################
##############################################################################
* checking for file ‘sojourner/DESCRIPTION’ ... OK
* preparing ‘sojourner’:
* checking DESCRIPTION meta-information ... OK
* installing the package to build vignettes
-----------------------------------
ERROR: dependency ‘sampSurf’ is not available for package ‘sojourner’
* removing ‘/private/tmp/RtmpbXj6r1/Rinst74533f42f918/sojourner’
-----------------------------------
ERROR: package installation failed