| Back to Mac ARM64 build report for BioC 3.16 |
|
This page was generated on 2023-04-19 11:01:56 -0400 (Wed, 19 Apr 2023).
| Hostname | OS | Arch (*) | R version | Installed pkgs |
|---|---|---|---|---|
| kjohnson | macOS 13.0 Ventura | arm64 | 4.2.2 (2022-10-31) -- "Innocent and Trusting" | 4256 |
| Click on any hostname to see more info about the system (e.g. compilers) (*) as reported by 'uname -p', except on Windows and Mac OS X | ||||
|
To the developers/maintainers of the nethet package: Make sure to use the following settings in order to reproduce any error or warning you see on this page. |
| Package 1343/2183 | Hostname | OS / Arch | INSTALL | BUILD | BUILD BIN | ||||||||
| nethet 1.30.0 (landing page) Nicolas Staedler
| kjohnson | macOS 13.0 Ventura / arm64 | OK | OK | OK | ||||||||
| Package: nethet |
| Version: 1.30.0 |
| Command: /Library/Frameworks/R.framework/Resources/bin/R CMD build --keep-empty-dirs --no-resave-data nethet |
| StartedAt: 2023-04-17 18:41:18 -0400 (Mon, 17 Apr 2023) |
| EndedAt: 2023-04-17 18:46:13 -0400 (Mon, 17 Apr 2023) |
| EllapsedTime: 294.8 seconds |
| RetCode: 0 |
| Status: OK |
| PackageFile: nethet_1.30.0.tar.gz |
| PackageFileSize: 704.8 KiB |
############################################################################## ############################################################################## ### ### Running command: ### ### /Library/Frameworks/R.framework/Resources/bin/R CMD build --keep-empty-dirs --no-resave-data nethet ### ############################################################################## ############################################################################## * checking for file ‘nethet/DESCRIPTION’ ... OK * preparing ‘nethet’: * checking DESCRIPTION meta-information ... OK * cleaning src * installing the package to build vignettes * creating vignettes ... OK * cleaning src * checking for LF line-endings in source and make files and shell scripts * checking for empty or unneeded directories * building ‘nethet_1.30.0.tar.gz’