| Back to Mac ARM64 build report for BioC 3.16 |
|
This page was generated on 2023-04-19 11:01:56 -0400 (Wed, 19 Apr 2023).
| Hostname | OS | Arch (*) | R version | Installed pkgs |
|---|---|---|---|---|
| kjohnson | macOS 13.0 Ventura | arm64 | 4.2.2 (2022-10-31) -- "Innocent and Trusting" | 4256 |
| Click on any hostname to see more info about the system (e.g. compilers) (*) as reported by 'uname -p', except on Windows and Mac OS X | ||||
|
To the developers/maintainers of the mslp package: Make sure to use the following settings in order to reproduce any error or warning you see on this page. |
| Package 1275/2183 | Hostname | OS / Arch | INSTALL | BUILD | BUILD BIN | ||||||||
| mslp 1.0.2 (landing page) Chunxuan Shao
| kjohnson | macOS 13.0 Ventura / arm64 | OK | OK | OK | ||||||||
| Package: mslp |
| Version: 1.0.2 |
| Command: rm -rf mslp.buildbin-libdir && mkdir mslp.buildbin-libdir && /Users/biocbuild/BBS/utils/build-universal.sh mslp_1.0.2.tar.gz /Library/Frameworks/R.framework/Resources/bin/R mslp.buildbin-libdir |
| StartedAt: 2023-04-18 17:35:54 -0400 (Tue, 18 Apr 2023) |
| EndedAt: 2023-04-18 17:36:02 -0400 (Tue, 18 Apr 2023) |
| EllapsedTime: 7.8 seconds |
| RetCode: 0 |
| Status: OK |
| PackageFile: mslp_1.0.2.tgz |
| PackageFileSize: 449.3 KiB |
############################################################################## ############################################################################## ### ### Running command: ### ### rm -rf mslp.buildbin-libdir && mkdir mslp.buildbin-libdir && /Users/biocbuild/BBS/utils/build-universal.sh mslp_1.0.2.tar.gz /Library/Frameworks/R.framework/Resources/bin/R mslp.buildbin-libdir ### ############################################################################## ############################################################################## >>>>>>> >>>>>>> INSTALLATION WITH 'R CMD INSTALL --preclean --no-multiarch --library=mslp.buildbin-libdir mslp_1.0.2.tar.gz' >>>>>>> * installing *source* package ‘mslp’ ... ** using staged installation ** R ** data ** inst ** byte-compile and prepare package for lazy loading ** help *** installing help indices ** building package indices ** installing vignettes ** testing if installed package can be loaded from temporary location ** testing if installed package can be loaded from final location ** testing if installed package keeps a record of temporary installation path * DONE (mslp)