| Back to Mac ARM64 build report for BioC 3.16 |
|
This page was generated on 2023-04-19 11:01:56 -0400 (Wed, 19 Apr 2023).
| Hostname | OS | Arch (*) | R version | Installed pkgs |
|---|---|---|---|---|
| kjohnson | macOS 13.0 Ventura | arm64 | 4.2.2 (2022-10-31) -- "Innocent and Trusting" | 4256 |
| Click on any hostname to see more info about the system (e.g. compilers) (*) as reported by 'uname -p', except on Windows and Mac OS X | ||||
|
To the developers/maintainers of the metabinR package: Make sure to use the following settings in order to reproduce any error or warning you see on this page. |
| Package 1140/2183 | Hostname | OS / Arch | INSTALL | BUILD | BUILD BIN | ||||||||
| metabinR 1.0.0 (landing page) Anestis Gkanogiannis
| kjohnson | macOS 13.0 Ventura / arm64 | OK | OK | OK | ||||||||
| Package: metabinR |
| Version: 1.0.0 |
| Command: /Library/Frameworks/R.framework/Resources/bin/R CMD build --keep-empty-dirs --no-resave-data metabinR |
| StartedAt: 2023-04-17 13:39:20 -0400 (Mon, 17 Apr 2023) |
| EndedAt: 2023-04-17 13:40:19 -0400 (Mon, 17 Apr 2023) |
| EllapsedTime: 58.4 seconds |
| RetCode: 0 |
| Status: OK |
| PackageFile: metabinR_1.0.0.tar.gz |
| PackageFileSize: 4.365 MiB |
############################################################################## ############################################################################## ### ### Running command: ### ### /Library/Frameworks/R.framework/Resources/bin/R CMD build --keep-empty-dirs --no-resave-data metabinR ### ############################################################################## ############################################################################## * checking for file ‘metabinR/DESCRIPTION’ ... OK * preparing ‘metabinR’: * checking DESCRIPTION meta-information ... OK * installing the package to build vignettes * creating vignettes ... OK * checking for LF line-endings in source and make files and shell scripts * checking for empty or unneeded directories Omitted ‘LazyData’ from DESCRIPTION * building ‘metabinR_1.0.0.tar.gz’