| Back to Mac ARM64 build report for BioC 3.16 |
|
This page was generated on 2023-04-19 11:01:55 -0400 (Wed, 19 Apr 2023).
| Hostname | OS | Arch (*) | R version | Installed pkgs |
|---|---|---|---|---|
| kjohnson | macOS 13.0 Ventura | arm64 | 4.2.2 (2022-10-31) -- "Innocent and Trusting" | 4256 |
| Click on any hostname to see more info about the system (e.g. compilers) (*) as reported by 'uname -p', except on Windows and Mac OS X | ||||
|
To the developers/maintainers of the maanova package: Make sure to use the following settings in order to reproduce any error or warning you see on this page. |
| Package 1070/2183 | Hostname | OS / Arch | INSTALL | BUILD | BUILD BIN | ||||||||
| maanova 1.68.2 (landing page) Keith Sheppard
| kjohnson | macOS 13.0 Ventura / arm64 | OK | OK | OK | ||||||||
| Package: maanova |
| Version: 1.68.2 |
| Command: /Library/Frameworks/R.framework/Resources/bin/R CMD INSTALL maanova |
| StartedAt: 2023-04-16 14:25:10 -0400 (Sun, 16 Apr 2023) |
| EndedAt: 2023-04-16 14:25:24 -0400 (Sun, 16 Apr 2023) |
| EllapsedTime: 13.7 seconds |
| RetCode: 0 |
| Status: OK |
##############################################################################
##############################################################################
###
### Running command:
###
### /Library/Frameworks/R.framework/Resources/bin/R CMD INSTALL maanova
###
##############################################################################
##############################################################################
* installing to library ‘/Library/Frameworks/R.framework/Versions/4.2-arm64/Resources/library’
* installing *source* package ‘maanova’ ...
** using staged installation
** libs
clang -arch arm64 -I"/Library/Frameworks/R.framework/Resources/include" -DNDEBUG -I/opt/R/arm64/include -fPIC -falign-functions=64 -Wall -g -O2 -c makeratio.c -o makeratio.o
clang -arch arm64 -I"/Library/Frameworks/R.framework/Resources/include" -DNDEBUG -I/opt/R/arm64/include -fPIC -falign-functions=64 -Wall -g -O2 -c masvd.c -o masvd.o
masvd.c:114:2: warning: '/*' within block comment [-Wcomment]
/* work on a copy of x */
^
masvd.c:154:1: warning: '/*' within block comment [-Wcomment]
/*#ifndef IEEE_754
^
masvd.c:161:5: warning: '/*' within block comment [-Wcomment]
/* work on a copy of x */
^
masvd.c:165:2: warning: '/*' within block comment [-Wcomment]
/* ask for optimal size of work array */
^
masvd.c:189:2: warning: '/*' within block comment [-Wcomment]
/* ask for optimal size of work array */
^
5 warnings generated.
clang -arch arm64 -I"/Library/Frameworks/R.framework/Resources/include" -DNDEBUG -I/opt/R/arm64/include -fPIC -falign-functions=64 -Wall -g -O2 -c shift.c -o shift.o
shift.c:48:17: warning: using integer absolute value function 'abs' when argument is of floating point type [-Wabsolute-value]
sad[i] += abs(x[j]-med);
^
shift.c:48:17: note: use function 'fabs' instead
sad[i] += abs(x[j]-med);
^~~
fabs
shift.c:27:13: warning: unused variable 'k' [-Wunused-variable]
int i, j, k;
^
2 warnings generated.
clang -arch arm64 -I"/Library/Frameworks/R.framework/Resources/include" -DNDEBUG -I/opt/R/arm64/include -fPIC -falign-functions=64 -Wall -g -O2 -c util.c -o util.o
clang -arch arm64 -dynamiclib -Wl,-headerpad_max_install_names -undefined dynamic_lookup -single_module -multiply_defined suppress -L/Library/Frameworks/R.framework/Resources/lib -L/opt/R/arm64/lib -o maanova.so makeratio.o masvd.o shift.o util.o -L/Library/Frameworks/R.framework/Resources/lib -lRlapack -L/Library/Frameworks/R.framework/Resources/lib -lRblas -L/opt/R/arm64/gfortran/lib/gcc/aarch64-apple-darwin20.6.0/12.0.1 -L/opt/R/arm64/gfortran/lib -lgfortran -lemutls_w -lquadmath -F/Library/Frameworks/R.framework/.. -framework R -Wl,-framework -Wl,CoreFoundation
ld: warning: -undefined dynamic_lookup may not work with chained fixups
ld: warning: could not create compact unwind for ___emutls_get_address: registers 23 and 24 not saved contiguously in frame
installing to /Library/Frameworks/R.framework/Versions/4.2-arm64/Resources/library/00LOCK-maanova/00new/maanova/libs
** R
** data
** demo
** inst
** byte-compile and prepare package for lazy loading
** help
*** installing help indices
** building package indices
** installing vignettes
** testing if installed package can be loaded from temporary location
** checking absolute paths in shared objects and dynamic libraries
** testing if installed package can be loaded from final location
** testing if installed package keeps a record of temporary installation path
* DONE (maanova)