| Back to Mac ARM64 build report for BioC 3.16 |
|
This page was generated on 2023-04-19 11:01:54 -0400 (Wed, 19 Apr 2023).
| Hostname | OS | Arch (*) | R version | Installed pkgs |
|---|---|---|---|---|
| kjohnson | macOS 13.0 Ventura | arm64 | 4.2.2 (2022-10-31) -- "Innocent and Trusting" | 4256 |
| Click on any hostname to see more info about the system (e.g. compilers) (*) as reported by 'uname -p', except on Windows and Mac OS X | ||||
|
To the developers/maintainers of the gaggle package: Make sure to use the following settings in order to reproduce any error or warning you see on this page. |
| Package 730/2183 | Hostname | OS / Arch | INSTALL | BUILD | BUILD BIN | ||||||||
| gaggle 1.66.0 (landing page) Christopher Bare
| kjohnson | macOS 13.0 Ventura / arm64 | OK | OK | OK | ||||||||
| Package: gaggle |
| Version: 1.66.0 |
| Command: /Library/Frameworks/R.framework/Resources/bin/R CMD INSTALL gaggle |
| StartedAt: 2023-04-16 14:33:24 -0400 (Sun, 16 Apr 2023) |
| EndedAt: 2023-04-16 14:33:33 -0400 (Sun, 16 Apr 2023) |
| EllapsedTime: 9.8 seconds |
| RetCode: 0 |
| Status: OK |
##############################################################################
##############################################################################
###
### Running command:
###
### /Library/Frameworks/R.framework/Resources/bin/R CMD INSTALL gaggle
###
##############################################################################
##############################################################################
* installing to library ‘/Library/Frameworks/R.framework/Versions/4.2-arm64/Resources/library’
* installing *source* package ‘gaggle’ ...
** using staged installation
** R
** inst
** byte-compile and prepare package for lazy loading
** help
*** installing help indices
** building package indices
** installing vignettes
** testing if installed package can be loaded from temporary location
onLoad -- libname: /Library/Frameworks/R.framework/Versions/4.2-arm64/Resources/library/00LOCK-gaggle/00new pkgname: gaggle
path to jar: /Library/Frameworks/R.framework/Versions/4.2-arm64/Resources/library/00LOCK-gaggle/00new/gaggle/jars/gaggleRShell.jar
script: gaggle.R $Revision: 4499 $ $Date: 2010-08-10 17:15:03 -0700 (Tue, 10 Aug 2010) $
os version: Mac OS X
jvm version: 18.0.1.1
You are using the wrong version of Java.
Please see http://gaggle.systemsbiology.org/docs/html/java
** testing if installed package can be loaded from final location
onLoad -- libname: /Library/Frameworks/R.framework/Versions/4.2-arm64/Resources/library pkgname: gaggle
path to jar: /Library/Frameworks/R.framework/Versions/4.2-arm64/Resources/library/gaggle/jars/gaggleRShell.jar
script: gaggle.R $Revision: 4499 $ $Date: 2010-08-10 17:15:03 -0700 (Tue, 10 Aug 2010) $
os version: Mac OS X
jvm version: 18.0.1.1
You are using the wrong version of Java.
Please see http://gaggle.systemsbiology.org/docs/html/java
** testing if installed package keeps a record of temporary installation path
* DONE (gaggle)