| Back to Mac ARM64 build report for BioC 3.16 |
|
This page was generated on 2023-04-19 11:01:54 -0400 (Wed, 19 Apr 2023).
| Hostname | OS | Arch (*) | R version | Installed pkgs |
|---|---|---|---|---|
| kjohnson | macOS 13.0 Ventura | arm64 | 4.2.2 (2022-10-31) -- "Innocent and Trusting" | 4256 |
| Click on any hostname to see more info about the system (e.g. compilers) (*) as reported by 'uname -p', except on Windows and Mac OS X | ||||
|
To the developers/maintainers of the dpeak package: Make sure to use the following settings in order to reproduce any error or warning you see on this page. |
| Package 568/2183 | Hostname | OS / Arch | INSTALL | BUILD | BUILD BIN | ||||||||
| dpeak 1.10.0 (landing page) Dongjun Chung
| kjohnson | macOS 13.0 Ventura / arm64 | OK | OK | OK | ||||||||
| Package: dpeak |
| Version: 1.10.0 |
| Command: rm -rf dpeak.buildbin-libdir && mkdir dpeak.buildbin-libdir && /Users/biocbuild/BBS/utils/build-universal.sh dpeak_1.10.0.tar.gz /Library/Frameworks/R.framework/Resources/bin/R dpeak.buildbin-libdir |
| StartedAt: 2023-04-18 15:22:47 -0400 (Tue, 18 Apr 2023) |
| EndedAt: 2023-04-18 15:25:11 -0400 (Tue, 18 Apr 2023) |
| EllapsedTime: 144.1 seconds |
| RetCode: 0 |
| Status: OK |
| PackageFile: dpeak_1.10.0.tgz |
| PackageFileSize: 757.5 KiB |
##############################################################################
##############################################################################
###
### Running command:
###
### rm -rf dpeak.buildbin-libdir && mkdir dpeak.buildbin-libdir && /Users/biocbuild/BBS/utils/build-universal.sh dpeak_1.10.0.tar.gz /Library/Frameworks/R.framework/Resources/bin/R dpeak.buildbin-libdir
###
##############################################################################
##############################################################################
>>>>>>>
>>>>>>> INSTALLATION WITH 'R CMD INSTALL --preclean --no-multiarch --library=dpeak.buildbin-libdir dpeak_1.10.0.tar.gz'
>>>>>>>
* installing *source* package ‘dpeak’ ...
** using staged installation
** libs
clang++ -arch arm64 -std=gnu++14 -I"/Library/Frameworks/R.framework/Resources/include" -DNDEBUG -I'/Library/Frameworks/R.framework/Versions/4.2-arm64/Resources/library/Rcpp/include' -I/opt/R/arm64/include -fPIC -falign-functions=64 -Wall -g -O2 -c dlength.cpp -o dlength.o
In file included from dlength.cpp:3:
In file included from /Library/Frameworks/R.framework/Versions/4.2-arm64/Resources/library/Rcpp/include/Rcpp.h:27:
In file included from /Library/Frameworks/R.framework/Versions/4.2-arm64/Resources/library/Rcpp/include/RcppCommon.h:168:
/Library/Frameworks/R.framework/Versions/4.2-arm64/Resources/library/Rcpp/include/Rcpp/internal/r_coerce.h:255:7: warning: 'sprintf' is deprecated: This function is provided for compatibility reasons only. Due to security concerns inherent in the design of sprintf(3), it is highly recommended that you use snprintf(3) instead. [-Wdeprecated-declarations]
::sprintf(buff, "%02x", from);
^
/Library/Developer/CommandLineTools/SDKs/MacOSX.sdk/usr/include/stdio.h:188:1: note: 'sprintf' has been explicitly marked deprecated here
__deprecated_msg("This function is provided for compatibility reasons only. Due to security concerns inherent in the design of sprintf(3), it is highly recommended that you use snprintf(3) instead.")
^
/Library/Developer/CommandLineTools/SDKs/MacOSX.sdk/usr/include/sys/cdefs.h:215:48: note: expanded from macro '__deprecated_msg'
#define __deprecated_msg(_msg) __attribute__((__deprecated__(_msg)))
^
1 warning generated.
clang++ -arch arm64 -std=gnu++14 -I"/Library/Frameworks/R.framework/Resources/include" -DNDEBUG -I'/Library/Frameworks/R.framework/Versions/4.2-arm64/Resources/library/Rcpp/include' -I/opt/R/arm64/include -fPIC -falign-functions=64 -Wall -g -O2 -c fraglen.cpp -o fraglen.o
In file included from fraglen.cpp:3:
In file included from /Library/Frameworks/R.framework/Versions/4.2-arm64/Resources/library/Rcpp/include/Rcpp.h:27:
In file included from /Library/Frameworks/R.framework/Versions/4.2-arm64/Resources/library/Rcpp/include/RcppCommon.h:168:
/Library/Frameworks/R.framework/Versions/4.2-arm64/Resources/library/Rcpp/include/Rcpp/internal/r_coerce.h:255:7: warning: 'sprintf' is deprecated: This function is provided for compatibility reasons only. Due to security concerns inherent in the design of sprintf(3), it is highly recommended that you use snprintf(3) instead. [-Wdeprecated-declarations]
::sprintf(buff, "%02x", from);
^
/Library/Developer/CommandLineTools/SDKs/MacOSX.sdk/usr/include/stdio.h:188:1: note: 'sprintf' has been explicitly marked deprecated here
__deprecated_msg("This function is provided for compatibility reasons only. Due to security concerns inherent in the design of sprintf(3), it is highly recommended that you use snprintf(3) instead.")
^
/Library/Developer/CommandLineTools/SDKs/MacOSX.sdk/usr/include/sys/cdefs.h:215:48: note: expanded from macro '__deprecated_msg'
#define __deprecated_msg(_msg) __attribute__((__deprecated__(_msg)))
^
1 warning generated.
clang++ -arch arm64 -std=gnu++14 -I"/Library/Frameworks/R.framework/Resources/include" -DNDEBUG -I'/Library/Frameworks/R.framework/Versions/4.2-arm64/Resources/library/Rcpp/include' -I/opt/R/arm64/include -fPIC -falign-functions=64 -Wall -g -O2 -c ismaxZ0.cpp -o ismaxZ0.o
In file included from ismaxZ0.cpp:3:
In file included from /Library/Frameworks/R.framework/Versions/4.2-arm64/Resources/library/Rcpp/include/Rcpp.h:27:
In file included from /Library/Frameworks/R.framework/Versions/4.2-arm64/Resources/library/Rcpp/include/RcppCommon.h:168:
/Library/Frameworks/R.framework/Versions/4.2-arm64/Resources/library/Rcpp/include/Rcpp/internal/r_coerce.h:255:7: warning: 'sprintf' is deprecated: This function is provided for compatibility reasons only. Due to security concerns inherent in the design of sprintf(3), it is highly recommended that you use snprintf(3) instead. [-Wdeprecated-declarations]
::sprintf(buff, "%02x", from);
^
/Library/Developer/CommandLineTools/SDKs/MacOSX.sdk/usr/include/stdio.h:188:1: note: 'sprintf' has been explicitly marked deprecated here
__deprecated_msg("This function is provided for compatibility reasons only. Due to security concerns inherent in the design of sprintf(3), it is highly recommended that you use snprintf(3) instead.")
^
/Library/Developer/CommandLineTools/SDKs/MacOSX.sdk/usr/include/sys/cdefs.h:215:48: note: expanded from macro '__deprecated_msg'
#define __deprecated_msg(_msg) __attribute__((__deprecated__(_msg)))
^
1 warning generated.
clang++ -arch arm64 -std=gnu++14 -I"/Library/Frameworks/R.framework/Resources/include" -DNDEBUG -I'/Library/Frameworks/R.framework/Versions/4.2-arm64/Resources/library/Rcpp/include' -I/opt/R/arm64/include -fPIC -falign-functions=64 -Wall -g -O2 -c normalize.cpp -o normalize.o
In file included from normalize.cpp:3:
In file included from /Library/Frameworks/R.framework/Versions/4.2-arm64/Resources/library/Rcpp/include/Rcpp.h:27:
In file included from /Library/Frameworks/R.framework/Versions/4.2-arm64/Resources/library/Rcpp/include/RcppCommon.h:168:
/Library/Frameworks/R.framework/Versions/4.2-arm64/Resources/library/Rcpp/include/Rcpp/internal/r_coerce.h:255:7: warning: 'sprintf' is deprecated: This function is provided for compatibility reasons only. Due to security concerns inherent in the design of sprintf(3), it is highly recommended that you use snprintf(3) instead. [-Wdeprecated-declarations]
::sprintf(buff, "%02x", from);
^
/Library/Developer/CommandLineTools/SDKs/MacOSX.sdk/usr/include/stdio.h:188:1: note: 'sprintf' has been explicitly marked deprecated here
__deprecated_msg("This function is provided for compatibility reasons only. Due to security concerns inherent in the design of sprintf(3), it is highly recommended that you use snprintf(3) instead.")
^
/Library/Developer/CommandLineTools/SDKs/MacOSX.sdk/usr/include/sys/cdefs.h:215:48: note: expanded from macro '__deprecated_msg'
#define __deprecated_msg(_msg) __attribute__((__deprecated__(_msg)))
^
1 warning generated.
clang++ -arch arm64 -std=gnu++14 -I"/Library/Frameworks/R.framework/Resources/include" -DNDEBUG -I'/Library/Frameworks/R.framework/Versions/4.2-arm64/Resources/library/Rcpp/include' -I/opt/R/arm64/include -fPIC -falign-functions=64 -Wall -g -O2 -c samp.cpp -o samp.o
In file included from samp.cpp:3:
In file included from /Library/Frameworks/R.framework/Versions/4.2-arm64/Resources/library/Rcpp/include/Rcpp.h:27:
In file included from /Library/Frameworks/R.framework/Versions/4.2-arm64/Resources/library/Rcpp/include/RcppCommon.h:168:
/Library/Frameworks/R.framework/Versions/4.2-arm64/Resources/library/Rcpp/include/Rcpp/internal/r_coerce.h:255:7: warning: 'sprintf' is deprecated: This function is provided for compatibility reasons only. Due to security concerns inherent in the design of sprintf(3), it is highly recommended that you use snprintf(3) instead. [-Wdeprecated-declarations]
::sprintf(buff, "%02x", from);
^
/Library/Developer/CommandLineTools/SDKs/MacOSX.sdk/usr/include/stdio.h:188:1: note: 'sprintf' has been explicitly marked deprecated here
__deprecated_msg("This function is provided for compatibility reasons only. Due to security concerns inherent in the design of sprintf(3), it is highly recommended that you use snprintf(3) instead.")
^
/Library/Developer/CommandLineTools/SDKs/MacOSX.sdk/usr/include/sys/cdefs.h:215:48: note: expanded from macro '__deprecated_msg'
#define __deprecated_msg(_msg) __attribute__((__deprecated__(_msg)))
^
1 warning generated.
clang++ -arch arm64 -std=gnu++14 -I"/Library/Frameworks/R.framework/Resources/include" -DNDEBUG -I'/Library/Frameworks/R.framework/Versions/4.2-arm64/Resources/library/Rcpp/include' -I/opt/R/arm64/include -fPIC -falign-functions=64 -Wall -g -O2 -c score.cpp -o score.o
In file included from score.cpp:3:
In file included from /Library/Frameworks/R.framework/Versions/4.2-arm64/Resources/library/Rcpp/include/Rcpp.h:27:
In file included from /Library/Frameworks/R.framework/Versions/4.2-arm64/Resources/library/Rcpp/include/RcppCommon.h:168:
/Library/Frameworks/R.framework/Versions/4.2-arm64/Resources/library/Rcpp/include/Rcpp/internal/r_coerce.h:255:7: warning: 'sprintf' is deprecated: This function is provided for compatibility reasons only. Due to security concerns inherent in the design of sprintf(3), it is highly recommended that you use snprintf(3) instead. [-Wdeprecated-declarations]
::sprintf(buff, "%02x", from);
^
/Library/Developer/CommandLineTools/SDKs/MacOSX.sdk/usr/include/stdio.h:188:1: note: 'sprintf' has been explicitly marked deprecated here
__deprecated_msg("This function is provided for compatibility reasons only. Due to security concerns inherent in the design of sprintf(3), it is highly recommended that you use snprintf(3) instead.")
^
/Library/Developer/CommandLineTools/SDKs/MacOSX.sdk/usr/include/sys/cdefs.h:215:48: note: expanded from macro '__deprecated_msg'
#define __deprecated_msg(_msg) __attribute__((__deprecated__(_msg)))
^
1 warning generated.
clang++ -arch arm64 -std=gnu++14 -I"/Library/Frameworks/R.framework/Resources/include" -DNDEBUG -I'/Library/Frameworks/R.framework/Versions/4.2-arm64/Resources/library/Rcpp/include' -I/opt/R/arm64/include -fPIC -falign-functions=64 -Wall -g -O2 -c stack.cpp -o stack.o
In file included from stack.cpp:3:
In file included from /Library/Frameworks/R.framework/Versions/4.2-arm64/Resources/library/Rcpp/include/Rcpp.h:27:
In file included from /Library/Frameworks/R.framework/Versions/4.2-arm64/Resources/library/Rcpp/include/RcppCommon.h:168:
/Library/Frameworks/R.framework/Versions/4.2-arm64/Resources/library/Rcpp/include/Rcpp/internal/r_coerce.h:255:7: warning: 'sprintf' is deprecated: This function is provided for compatibility reasons only. Due to security concerns inherent in the design of sprintf(3), it is highly recommended that you use snprintf(3) instead. [-Wdeprecated-declarations]
::sprintf(buff, "%02x", from);
^
/Library/Developer/CommandLineTools/SDKs/MacOSX.sdk/usr/include/stdio.h:188:1: note: 'sprintf' has been explicitly marked deprecated here
__deprecated_msg("This function is provided for compatibility reasons only. Due to security concerns inherent in the design of sprintf(3), it is highly recommended that you use snprintf(3) instead.")
^
/Library/Developer/CommandLineTools/SDKs/MacOSX.sdk/usr/include/sys/cdefs.h:215:48: note: expanded from macro '__deprecated_msg'
#define __deprecated_msg(_msg) __attribute__((__deprecated__(_msg)))
^
1 warning generated.
clang++ -arch arm64 -std=gnu++14 -dynamiclib -Wl,-headerpad_max_install_names -undefined dynamic_lookup -single_module -multiply_defined suppress -L/Library/Frameworks/R.framework/Resources/lib -L/opt/R/arm64/lib -o dpeak.so dlength.o fraglen.o ismaxZ0.o normalize.o samp.o score.o stack.o -F/Library/Frameworks/R.framework/.. -framework R -Wl,-framework -Wl,CoreFoundation
ld: warning: -undefined dynamic_lookup may not work with chained fixups
installing to /Volumes/External/bbs-3.16-bioc-m1/meat/dpeak.buildbin-libdir/00LOCK-dpeak/00new/dpeak/libs
** R
** data
** inst
** byte-compile and prepare package for lazy loading
** help
*** installing help indices
** building package indices
** installing vignettes
** testing if installed package can be loaded from temporary location
** checking absolute paths in shared objects and dynamic libraries
** testing if installed package can be loaded from final location
** testing if installed package keeps a record of temporary installation path
* DONE (dpeak)
>>>>>>>
>>>>>>> FIXING LINKS FOR dpeak.buildbin-libdir/dpeak/libs/dpeak.so
>>>>>>>
install_name_tool -change "/opt/R/arm64/lib/libgcc_s.1.1.dylib" "/Library/Frameworks/R.framework/Versions/4.2-arm64/Resources/lib/libgcc_s.1.1.dylib" "dpeak.buildbin-libdir/dpeak/libs/dpeak.so"
install_name_tool -change "/opt/R/arm64/lib/libgfortran.5.dylib" "/Library/Frameworks/R.framework/Versions/4.2-arm64/Resources/lib/libgfortran.5.dylib" "dpeak.buildbin-libdir/dpeak/libs/dpeak.so"
install_name_tool -change "/opt/R/arm64/lib/libquadmath.0.dylib" "/Library/Frameworks/R.framework/Versions/4.2-arm64/Resources/lib/libquadmath.0.dylib" "dpeak.buildbin-libdir/dpeak/libs/dpeak.so"