| Back to Mac ARM64 build report for BioC 3.16 |
|
This page was generated on 2022-12-14 11:02:38 -0500 (Wed, 14 Dec 2022).
| Hostname | OS | Arch (*) | R version | Installed pkgs |
|---|---|---|---|---|
| kjohnson | macOS 13.0 Ventura | arm64 | 4.2.1 (2022-06-23) -- "Funny-Looking Kid" | 4270 |
| Click on any hostname to see more info about the system (e.g. compilers) (*) as reported by 'uname -p', except on Windows and Mac OS X | ||||
|
To the developers/maintainers of the TraRe package: Make sure to use the following settings in order to reproduce any error or warning you see on this page. |
| Package 2083/2183 | Hostname | OS / Arch | INSTALL | BUILD | BUILD BIN | ||||||||
Jesus de la Fuente Cedeño
| kjohnson | macOS 13.0 Ventura / arm64 | OK | OK | OK | ||||||||
| Package: TraRe |
| Version: 1.6.2 |
| Command: rm -rf TraRe.buildbin-libdir && mkdir TraRe.buildbin-libdir && /Users/biocbuild/BBS/utils/build-universal.sh TraRe_1.6.2.tar.gz /Library/Frameworks/R.framework/Resources/bin/R TraRe.buildbin-libdir |
| StartedAt: 2022-12-14 00:15:00 -0500 (Wed, 14 Dec 2022) |
| EndedAt: 2022-12-14 00:15:22 -0500 (Wed, 14 Dec 2022) |
| EllapsedTime: 21.3 seconds |
| RetCode: 0 |
| Status: OK |
| PackageFile: TraRe_1.6.2.tgz |
| PackageFileSize: 4.118 MiB |
##############################################################################
##############################################################################
###
### Running command:
###
### rm -rf TraRe.buildbin-libdir && mkdir TraRe.buildbin-libdir && /Users/biocbuild/BBS/utils/build-universal.sh TraRe_1.6.2.tar.gz /Library/Frameworks/R.framework/Resources/bin/R TraRe.buildbin-libdir
###
##############################################################################
##############################################################################
>>>>>>>
>>>>>>> INSTALLATION WITH 'R CMD INSTALL --preclean --no-multiarch --library=TraRe.buildbin-libdir TraRe_1.6.2.tar.gz'
>>>>>>>
* installing *source* package ‘TraRe’ ...
** using staged installation
** libs
clang -arch arm64 -I"/Library/Frameworks/R.framework/Resources/include" -DNDEBUG -I/opt/R/arm64/include -fPIC -falign-functions=64 -Wall -g -O2 -c RegisterDynamicSymbol.c -o RegisterDynamicSymbol.o
clang -arch arm64 -I"/Library/Frameworks/R.framework/Resources/include" -DNDEBUG -I/opt/R/arm64/include -fPIC -falign-functions=64 -Wall -g -O2 -c vbsr.c -o vbsr.o
vbsr.c:337:34: warning: implicit conversion from enumeration type 'bmaType' to different enumeration type 'errorType' [-Wenum-conversion]
model->control_param.errType = EXACT;
~ ^~~~~
1 warning generated.
clang -arch arm64 -dynamiclib -Wl,-headerpad_max_install_names -undefined dynamic_lookup -single_module -multiply_defined suppress -L/Library/Frameworks/R.framework/Resources/lib -L/opt/R/arm64/lib -o TraRe.so RegisterDynamicSymbol.o vbsr.o -F/Library/Frameworks/R.framework/.. -framework R -Wl,-framework -Wl,CoreFoundation
ld: warning: -undefined dynamic_lookup may not work with chained fixups
installing to /Volumes/External/bbs-3.16-bioc-m1/meat/TraRe.buildbin-libdir/00LOCK-TraRe/00new/TraRe/libs
** R
** inst
** byte-compile and prepare package for lazy loading
** help
*** installing help indices
** building package indices
** installing vignettes
** testing if installed package can be loaded from temporary location
Warning: Package 'TraRe' is deprecated and will be removed from Bioconductor
version 3.17
** checking absolute paths in shared objects and dynamic libraries
** testing if installed package can be loaded from final location
Warning: Package 'TraRe' is deprecated and will be removed from Bioconductor
version 3.17
** testing if installed package keeps a record of temporary installation path
* DONE (TraRe)
>>>>>>>
>>>>>>> FIXING LINKS FOR TraRe.buildbin-libdir/TraRe/libs/TraRe.so
>>>>>>>
install_name_tool -change "/opt/R/arm64/lib/libgcc_s.1.1.dylib" "/Library/Frameworks/R.framework/Versions/4.2-arm64/Resources/lib/libgcc_s.1.1.dylib" "TraRe.buildbin-libdir/TraRe/libs/TraRe.so"
install_name_tool -change "/opt/R/arm64/lib/libgfortran.5.dylib" "/Library/Frameworks/R.framework/Versions/4.2-arm64/Resources/lib/libgfortran.5.dylib" "TraRe.buildbin-libdir/TraRe/libs/TraRe.so"
install_name_tool -change "/opt/R/arm64/lib/libquadmath.0.dylib" "/Library/Frameworks/R.framework/Versions/4.2-arm64/Resources/lib/libquadmath.0.dylib" "TraRe.buildbin-libdir/TraRe/libs/TraRe.so"