| Back to Mac ARM64 build report for BioC 3.16 |
|
This page was generated on 2023-04-19 11:01:55 -0400 (Wed, 19 Apr 2023).
| Hostname | OS | Arch (*) | R version | Installed pkgs |
|---|---|---|---|---|
| kjohnson | macOS 13.0 Ventura | arm64 | 4.2.2 (2022-10-31) -- "Innocent and Trusting" | 4256 |
| Click on any hostname to see more info about the system (e.g. compilers) (*) as reported by 'uname -p', except on Windows and Mac OS X | ||||
|
To the developers/maintainers of the IsoGeneGUI package: Make sure to use the following settings in order to reproduce any error or warning you see on this page. |
| Package 1007/2183 | Hostname | OS / Arch | INSTALL | BUILD | BUILD BIN | ||||||||
Setia Pramana
| kjohnson | macOS 13.0 Ventura / arm64 | ERROR | ERROR | skipped | ||||||||
| Package: IsoGeneGUI |
| Version: 2.34.0 |
| Command: /Library/Frameworks/R.framework/Resources/bin/R CMD build --keep-empty-dirs --no-resave-data IsoGeneGUI |
| StartedAt: 2023-04-17 11:59:38 -0400 (Mon, 17 Apr 2023) |
| EndedAt: 2023-04-17 11:59:40 -0400 (Mon, 17 Apr 2023) |
| EllapsedTime: 2.2 seconds |
| RetCode: 1 |
| Status: ERROR |
| PackageFile: None |
| PackageFileSize: NA |
##############################################################################
##############################################################################
###
### Running command:
###
### /Library/Frameworks/R.framework/Resources/bin/R CMD build --keep-empty-dirs --no-resave-data IsoGeneGUI
###
##############################################################################
##############################################################################
* checking for file ‘IsoGeneGUI/DESCRIPTION’ ... OK
* preparing ‘IsoGeneGUI’:
* checking DESCRIPTION meta-information ... OK
* installing the package to build vignettes
-----------------------------------
ERROR: dependency ‘orQA’ is not available for package ‘IsoGeneGUI’
* removing ‘/private/tmp/RtmpggpLjB/Rinst139b14c8790ac/IsoGeneGUI’
-----------------------------------
ERROR: package installation failed