| Back to Mac ARM64 build report for BioC 3.16 |
|
This page was generated on 2023-04-19 11:01:53 -0400 (Wed, 19 Apr 2023).
| Hostname | OS | Arch (*) | R version | Installed pkgs |
|---|---|---|---|---|
| kjohnson | macOS 13.0 Ventura | arm64 | 4.2.2 (2022-10-31) -- "Innocent and Trusting" | 4256 |
| Click on any hostname to see more info about the system (e.g. compilers) (*) as reported by 'uname -p', except on Windows and Mac OS X | ||||
|
To the developers/maintainers of the BiFET package: Make sure to use the following settings in order to reproduce any error or warning you see on this page. |
| Package 148/2183 | Hostname | OS / Arch | INSTALL | BUILD | BUILD BIN | ||||||||
| BiFET 1.18.0 (landing page) Ahrim Youn
| kjohnson | macOS 13.0 Ventura / arm64 | OK | OK | OK | ||||||||
| Package: BiFET |
| Version: 1.18.0 |
| Command: /Library/Frameworks/R.framework/Resources/bin/R CMD build --keep-empty-dirs --no-resave-data BiFET |
| StartedAt: 2023-04-16 21:33:25 -0400 (Sun, 16 Apr 2023) |
| EndedAt: 2023-04-16 21:34:29 -0400 (Sun, 16 Apr 2023) |
| EllapsedTime: 64.7 seconds |
| RetCode: 0 |
| Status: OK |
| PackageFile: BiFET_1.18.0.tar.gz |
| PackageFileSize: 644.1 KiB |
##############################################################################
##############################################################################
###
### Running command:
###
### /Library/Frameworks/R.framework/Resources/bin/R CMD build --keep-empty-dirs --no-resave-data BiFET
###
##############################################################################
##############################################################################
* checking for file ‘BiFET/DESCRIPTION’ ... OK
* preparing ‘BiFET’:
* checking DESCRIPTION meta-information ... OK
* installing the package to build vignettes
* creating vignettes ... OK
* checking for LF line-endings in source and make files and shell scripts
* checking for empty or unneeded directories
Omitted ‘LazyData’ from DESCRIPTION
NB: this package now depends on R (>= 3.5.0)
WARNING: Added dependency on R >= 3.5.0 because serialized objects in
serialize/load version 3 cannot be read in older versions of R.
File(s) containing such objects:
‘BiFET/inst/extdata/input_peak_motif.Rdata’
* building ‘BiFET_1.18.0.tar.gz’