| Back to Mac ARM64 build report for BioC 3.16 |
|
This page was generated on 2023-04-19 11:01:48 -0400 (Wed, 19 Apr 2023).
| Hostname | OS | Arch (*) | R version | Installed pkgs |
|---|---|---|---|---|
| kjohnson | macOS 13.0 Ventura | arm64 | 4.2.2 (2022-10-31) -- "Innocent and Trusting" | 4256 |
| Click on any hostname to see more info about the system (e.g. compilers) (*) as reported by 'uname -p', except on Windows and Mac OS X | ||||
|
To the developers/maintainers of the BSgenome package: Make sure to use the following settings in order to reproduce any error or warning you see on this page. |
| Package 229/2183 | Hostname | OS / Arch | INSTALL | BUILD | BUILD BIN | ||||||||
| BSgenome 1.66.3 (landing page) Hervé Pagès
| kjohnson | macOS 13.0 Ventura / arm64 | OK | OK | OK | ||||||||
| QUICK STATS | OS / Arch | INSTALL | BUILD | BUILD BIN | |||||||||||||
| kjohnson | macOS 13.0 Ventura / arm64 |
|
|
| |||||||||||||
| Package 1/97 | Hostname | OS / Arch | INSTALL | BUILD | BUILD BIN | ||||||||||||
| AllelicImbalance 1.36.0 (landing page) Jesper R Gadin
| kjohnson | macOS 13.0 Ventura / arm64 | OK | OK | OK | ||||||||||||
| Package 2/97 | Hostname | OS / Arch | INSTALL | BUILD | BUILD BIN | ||||||||||||
| appreci8R 1.16.0 (landing page) Sarah Sandmann
| kjohnson | macOS 13.0 Ventura / arm64 | OK | OK | OK | ||||||||||||
| Package 3/97 | Hostname | OS / Arch | INSTALL | BUILD | BUILD BIN | ||||||||||||
| ATACseqQC 1.22.0 (landing page) Jianhong Ou
| kjohnson | macOS 13.0 Ventura / arm64 | OK | OK | OK | ||||||||||||
| Package 4/97 | Hostname | OS / Arch | INSTALL | BUILD | BUILD BIN | ||||||||||||
| atSNP 1.14.0 (landing page) Sunyoung Shin
| kjohnson | macOS 13.0 Ventura / arm64 | OK | OK | OK | ||||||||||||
| Package 5/97 | Hostname | OS / Arch | INSTALL | BUILD | BUILD BIN | ||||||||||||
| bambu 3.0.8 (landing page) Ying Chen
| kjohnson | macOS 13.0 Ventura / arm64 | OK | OK | OK | ||||||||||||
| Package 6/97 | Hostname | OS / Arch | INSTALL | BUILD | BUILD BIN | ||||||||||||
| BEAT 1.36.0 (landing page) Kemal Akman
| kjohnson | macOS 13.0 Ventura / arm64 | OK | OK | OK | ||||||||||||
| Package 7/97 | Hostname | OS / Arch | INSTALL | BUILD | BUILD BIN | ||||||||||||
| bsseq 1.34.0 (landing page) Kasper Daniel Hansen
| kjohnson | macOS 13.0 Ventura / arm64 | OK | OK | OK | ||||||||||||
| Package 8/97 | Hostname | OS / Arch | INSTALL | BUILD | BUILD BIN | ||||||||||||
| BUSpaRse 1.12.2 (landing page) Lambda Moses
| kjohnson | macOS 13.0 Ventura / arm64 | OK | OK | OK | ||||||||||||
| Package 9/97 | Hostname | OS / Arch | INSTALL | BUILD | BUILD BIN | ||||||||||||
| CAGEr 2.4.0 (landing page) Charles Plessy
| kjohnson | macOS 13.0 Ventura / arm64 | OK | OK | OK | ||||||||||||
| Package 10/97 | Hostname | OS / Arch | INSTALL | BUILD | BUILD BIN | ||||||||||||
| ChIPanalyser 1.20.0 (landing page) Patrick C.N. Martin
| kjohnson | macOS 13.0 Ventura / arm64 | OK | OK | OK | ||||||||||||
| Package 11/97 | Hostname | OS / Arch | INSTALL | BUILD | BUILD BIN | ||||||||||||
| chromVAR 1.20.2 (landing page) Alicia Schep
| kjohnson | macOS 13.0 Ventura / arm64 | OK | OK | OK | ||||||||||||
| Package 12/97 | Hostname | OS / Arch | INSTALL | BUILD | BUILD BIN | ||||||||||||
| circRNAprofiler 1.12.2 (landing page) Simona Aufiero
| kjohnson | macOS 13.0 Ventura / arm64 | OK | OK | OK | ||||||||||||
| Package 13/97 | Hostname | OS / Arch | INSTALL | BUILD | BUILD BIN | ||||||||||||
| cleanUpdTSeq 1.36.0 (landing page) Jianhong Ou
| kjohnson | macOS 13.0 Ventura / arm64 | OK | OK | OK | ||||||||||||
| Package 14/97 | Hostname | OS / Arch | INSTALL | BUILD | BUILD BIN | ||||||||||||
| cliProfiler 1.4.0 (landing page) You Zhou
| kjohnson | macOS 13.0 Ventura / arm64 | OK | OK | OK | ||||||||||||
| Package 15/97 | Hostname | OS / Arch | INSTALL | BUILD | BUILD BIN | ||||||||||||
| crisprBowtie 1.2.0 (landing page) Jean-Philippe Fortin
| kjohnson | macOS 13.0 Ventura / arm64 | OK | OK | OK | ||||||||||||
| Package 16/97 | Hostname | OS / Arch | INSTALL | BUILD | BUILD BIN | ||||||||||||
| crisprBwa 1.2.0 (landing page) Jean-Philippe Fortin
| kjohnson | macOS 13.0 Ventura / arm64 | ERROR | ERROR | skipped | ||||||||||||
| Package 17/97 | Hostname | OS / Arch | INSTALL | BUILD | BUILD BIN | ||||||||||||
| crisprDesign 1.0.0 (landing page) Jean-Philippe Fortin
| kjohnson | macOS 13.0 Ventura / arm64 | OK | OK | OK | ||||||||||||
| Package 18/97 | Hostname | OS / Arch | INSTALL | BUILD | BUILD BIN | ||||||||||||
| CRISPRseek 1.38.0 (landing page) Lihua Julie Zhu
| kjohnson | macOS 13.0 Ventura / arm64 | OK | OK | OK | ||||||||||||
| Package 19/97 | Hostname | OS / Arch | INSTALL | BUILD | BUILD BIN | ||||||||||||
| crisprseekplus 1.24.0 (landing page) Alper Kucukural
| kjohnson | macOS 13.0 Ventura / arm64 | OK | OK | OK | ||||||||||||
| Package 20/97 | Hostname | OS / Arch | INSTALL | BUILD | BUILD BIN | ||||||||||||
| crisprViz 1.0.0 (landing page) Jean-Philippe Fortin
| kjohnson | macOS 13.0 Ventura / arm64 | OK | OK | OK | ||||||||||||
| Package 21/97 | Hostname | OS / Arch | INSTALL | BUILD | BUILD BIN | ||||||||||||
| diffHic 1.30.0 (landing page) Aaron Lun
| kjohnson | macOS 13.0 Ventura / arm64 | OK | OK | OK | ||||||||||||
| Package 22/97 | Hostname | OS / Arch | INSTALL | BUILD | BUILD BIN | ||||||||||||
| dpeak 1.10.0 (landing page) Dongjun Chung
| kjohnson | macOS 13.0 Ventura / arm64 | OK | OK | OK | ||||||||||||
| Package 23/97 | Hostname | OS / Arch | INSTALL | BUILD | BUILD BIN | ||||||||||||
| enhancerHomologSearch 1.4.2 (landing page) Jianhong Ou
| kjohnson | macOS 13.0 Ventura / arm64 | OK | OK | OK | ||||||||||||
| Package 24/97 | Hostname | OS / Arch | INSTALL | BUILD | BUILD BIN | ||||||||||||
| enrichTF 1.14.0 (landing page) Zheng Wei
| kjohnson | macOS 13.0 Ventura / arm64 | OK | OK | OK | ||||||||||||
| Package 25/97 | Hostname | OS / Arch | INSTALL | BUILD | BUILD BIN | ||||||||||||
| esATAC 1.20.0 (landing page) Zheng Wei
| kjohnson | macOS 13.0 Ventura / arm64 | OK | OK | OK | ||||||||||||
| Package 26/97 | Hostname | OS / Arch | INSTALL | BUILD | BUILD BIN | ||||||||||||
| EventPointer 3.6.0 (landing page) Juan A. Ferrer-Bonsoms
| kjohnson | macOS 13.0 Ventura / arm64 | OK | OK | OK | ||||||||||||
| Package 27/97 | Hostname | OS / Arch | INSTALL | BUILD | BUILD BIN | ||||||||||||
| exomePeak2 1.10.0 (landing page) Zhen Wei
| kjohnson | macOS 13.0 Ventura / arm64 | OK | OK | OK | ||||||||||||
| Package 28/97 | Hostname | OS / Arch | INSTALL | BUILD | BUILD BIN | ||||||||||||
| FRASER 1.10.2 (landing page) Christian Mertes
| kjohnson | macOS 13.0 Ventura / arm64 | OK | OK | OK | ||||||||||||
| Package 29/97 | Hostname | OS / Arch | INSTALL | BUILD | BUILD BIN | ||||||||||||
| gcapc 1.22.0 (landing page) Mingxiang Teng
| kjohnson | macOS 13.0 Ventura / arm64 | OK | OK | OK | ||||||||||||
| Package 30/97 | Hostname | OS / Arch | INSTALL | BUILD | BUILD BIN | ||||||||||||
| genomation 1.30.0 (landing page) Altuna Akalin
| kjohnson | macOS 13.0 Ventura / arm64 | OK | OK | OK | ||||||||||||
| Package 31/97 | Hostname | OS / Arch | INSTALL | BUILD | BUILD BIN | ||||||||||||
| GenVisR 1.30.0 (landing page) Zachary Skidmore
| kjohnson | macOS 13.0 Ventura / arm64 | OK | OK | OK | ||||||||||||
| Package 32/97 | Hostname | OS / Arch | INSTALL | BUILD | BUILD BIN | ||||||||||||
| ggbio 1.46.0 (landing page) Michael Lawrence
| kjohnson | macOS 13.0 Ventura / arm64 | OK | OK | OK | ||||||||||||
| Package 33/97 | Hostname | OS / Arch | INSTALL | BUILD | BUILD BIN | ||||||||||||
| gmapR 1.40.0 (landing page) Michael Lawrence
| kjohnson | macOS 13.0 Ventura / arm64 | ERROR | ERROR | skipped | ||||||||||||
| Package 34/97 | Hostname | OS / Arch | INSTALL | BUILD | BUILD BIN | ||||||||||||
| GOTHiC 1.34.0 (landing page) Borbala Mifsud
| kjohnson | macOS 13.0 Ventura / arm64 | OK | OK | OK | ||||||||||||
| Package 35/97 | Hostname | OS / Arch | INSTALL | BUILD | BUILD BIN | ||||||||||||
| GreyListChIP 1.30.0 (landing page) Rory Stark
| kjohnson | macOS 13.0 Ventura / arm64 | OK | OK | OK | ||||||||||||
| Package 36/97 | Hostname | OS / Arch | INSTALL | BUILD | BUILD BIN | ||||||||||||
| GUIDEseq 1.28.0 (landing page) Lihua Julie Zhu
| kjohnson | macOS 13.0 Ventura / arm64 | OK | OK | OK | ||||||||||||
| Package 37/97 | Hostname | OS / Arch | INSTALL | BUILD | BUILD BIN | ||||||||||||
| Gviz 1.42.1 (landing page) Robert Ivanek
| kjohnson | macOS 13.0 Ventura / arm64 | OK | OK | OK | ||||||||||||
| Package 38/97 | Hostname | OS / Arch | INSTALL | BUILD | BUILD BIN | ||||||||||||
| HelloRanges 1.24.0 (landing page) Michael Lawrence
| kjohnson | macOS 13.0 Ventura / arm64 | OK | OK | OK | ||||||||||||
| Package 39/97 | Hostname | OS / Arch | INSTALL | BUILD | BUILD BIN | ||||||||||||
| hiAnnotator 1.32.0 (landing page) Nirav V Malani
| kjohnson | macOS 13.0 Ventura / arm64 | OK | OK | OK | ||||||||||||
| Package 40/97 | Hostname | OS / Arch | INSTALL | BUILD | BUILD BIN | ||||||||||||
| HiCDCPlus 1.6.0 (landing page) Merve Sahin
| kjohnson | macOS 13.0 Ventura / arm64 | OK | OK | OK | ||||||||||||
| Package 41/97 | Hostname | OS / Arch | INSTALL | BUILD | BUILD BIN | ||||||||||||
| InPAS 2.6.0 (landing page) Jianhong Ou
| kjohnson | macOS 13.0 Ventura / arm64 | OK | OK | OK | ||||||||||||
| Package 42/97 | Hostname | OS / Arch | INSTALL | BUILD | BUILD BIN | ||||||||||||
| IsoformSwitchAnalyzeR 1.20.0 (landing page) Kristoffer Vitting-Seerup
| kjohnson | macOS 13.0 Ventura / arm64 | OK | OK | OK | ||||||||||||
| Package 43/97 | Hostname | OS / Arch | INSTALL | BUILD | BUILD BIN | ||||||||||||
| katdetectr 1.0.0 (landing page) Daan Hazelaar
| kjohnson | macOS 13.0 Ventura / arm64 | OK | OK | OK | ||||||||||||
| Package 44/97 | Hostname | OS / Arch | INSTALL | BUILD | BUILD BIN | ||||||||||||
| m6Aboost 1.4.0 (landing page) You Zhou
| kjohnson | macOS 13.0 Ventura / arm64 | OK | OK | OK | ||||||||||||
| Package 45/97 | Hostname | OS / Arch | INSTALL | BUILD | BUILD BIN | ||||||||||||
| MADSEQ 1.24.0 (landing page) Yu Kong
| kjohnson | macOS 13.0 Ventura / arm64 | OK | OK | OK | ||||||||||||
| Package 46/97 | Hostname | OS / Arch | INSTALL | BUILD | BUILD BIN | ||||||||||||
| MEDIPS 1.50.0 (landing page) Lukas Chavez
| kjohnson | macOS 13.0 Ventura / arm64 | OK | OK | OK | ||||||||||||
| Package 47/97 | Hostname | OS / Arch | INSTALL | BUILD | BUILD BIN | ||||||||||||
| methrix 1.12.0 (landing page) Anand Mayakonda
| kjohnson | macOS 13.0 Ventura / arm64 | OK | OK | OK | ||||||||||||
| Package 48/97 | Hostname | OS / Arch | INSTALL | BUILD | BUILD BIN | ||||||||||||
| MethylSeekR 1.38.0 (landing page) Lukas Burger
| kjohnson | macOS 13.0 Ventura / arm64 | OK | OK | OK | ||||||||||||
| Package 49/97 | Hostname | OS / Arch | INSTALL | BUILD | BUILD BIN | ||||||||||||
| MMDiff2 1.26.0 (landing page) Gabriele Schweikert
| kjohnson | macOS 13.0 Ventura / arm64 | OK | OK | OK | ||||||||||||
| Package 50/97 | Hostname | OS / Arch | INSTALL | BUILD | BUILD BIN | ||||||||||||
| monaLisa 1.4.0 (landing page) Michael Stadler
| kjohnson | macOS 13.0 Ventura / arm64 | OK | OK | OK | ||||||||||||
| Package 51/97 | Hostname | OS / Arch | INSTALL | BUILD | BUILD BIN | ||||||||||||
| Motif2Site 1.2.0 (landing page) Peyman Zarrineh
| kjohnson | macOS 13.0 Ventura / arm64 | OK | OK | OK | ||||||||||||
| Package 52/97 | Hostname | OS / Arch | INSTALL | BUILD | BUILD BIN | ||||||||||||
| motifbreakR 2.12.4 (landing page) Simon Gert Coetzee
| kjohnson | macOS 13.0 Ventura / arm64 | OK | TIMEOUT | skipped | ||||||||||||
| Package 53/97 | Hostname | OS / Arch | INSTALL | BUILD | BUILD BIN | ||||||||||||
| motifmatchr 1.20.0 (landing page) Alicia Schep
| kjohnson | macOS 13.0 Ventura / arm64 | OK | OK | OK | ||||||||||||
| Package 54/97 | Hostname | OS / Arch | INSTALL | BUILD | BUILD BIN | ||||||||||||
| msgbsR 1.22.0 (landing page) Benjamin Mayne
| kjohnson | macOS 13.0 Ventura / arm64 | OK | OK | OK | ||||||||||||
| Package 55/97 | Hostname | OS / Arch | INSTALL | BUILD | BUILD BIN | ||||||||||||
| multicrispr 1.8.0 (landing page) Aditya Bhagwat
| kjohnson | macOS 13.0 Ventura / arm64 | OK | OK | OK | ||||||||||||
| Package 56/97 | Hostname | OS / Arch | INSTALL | BUILD | BUILD BIN | ||||||||||||
| MungeSumstats 1.6.0 (landing page) Alan Murphy
| kjohnson | macOS 13.0 Ventura / arm64 | OK | OK | OK | ||||||||||||
| Package 57/97 | Hostname | OS / Arch | INSTALL | BUILD | BUILD BIN | ||||||||||||
| musicatk 1.8.0 (landing page) Aaron Chevalier
| kjohnson | macOS 13.0 Ventura / arm64 | OK | OK | OK | ||||||||||||
| Package 58/97 | Hostname | OS / Arch | INSTALL | BUILD | BUILD BIN | ||||||||||||
| MutationalPatterns 3.8.1 (landing page) Mark van Roosmalen
| kjohnson | macOS 13.0 Ventura / arm64 | OK | OK | OK | ||||||||||||
| Package 59/97 | Hostname | OS / Arch | INSTALL | BUILD | BUILD BIN | ||||||||||||
| NxtIRFcore 1.4.0 (landing page) Alex Chit Hei Wong
| kjohnson | macOS 13.0 Ventura / arm64 | OK | OK | OK | ||||||||||||
| Package 60/97 | Hostname | OS / Arch | INSTALL | BUILD | BUILD BIN | ||||||||||||
| ORFik 1.18.2 (landing page) Haakon Tjeldnes
| kjohnson | macOS 13.0 Ventura / arm64 | OK | OK | OK | ||||||||||||
| Package 61/97 | Hostname | OS / Arch | INSTALL | BUILD | BUILD BIN | ||||||||||||
| periodicDNA 1.8.0 (landing page) Jacques Serizay
| kjohnson | macOS 13.0 Ventura / arm64 | OK | OK | OK | ||||||||||||
| Package 62/97 | Hostname | OS / Arch | INSTALL | BUILD | BUILD BIN | ||||||||||||
| PING 2.42.0 (landing page) Renan Sauteraud
| kjohnson | macOS 13.0 Ventura / arm64 | OK | OK | OK | ||||||||||||
| Package 63/97 | Hostname | OS / Arch | INSTALL | BUILD | BUILD BIN | ||||||||||||
| pipeFrame 1.14.0 (landing page) Zheng Wei
| kjohnson | macOS 13.0 Ventura / arm64 | OK | OK | OK | ||||||||||||
| Package 64/97 | Hostname | OS / Arch | INSTALL | BUILD | BUILD BIN | ||||||||||||
| podkat 1.30.0 (landing page) Ulrich Bodenhofer
| kjohnson | macOS 13.0 Ventura / arm64 | OK | OK | OK | ||||||||||||
| Package 65/97 | Hostname | OS / Arch | INSTALL | BUILD | BUILD BIN | ||||||||||||
| qsea 1.24.0 (landing page) Matthias Lienhard
| kjohnson | macOS 13.0 Ventura / arm64 | OK | OK | OK | ||||||||||||
| Package 66/97 | Hostname | OS / Arch | INSTALL | BUILD | BUILD BIN | ||||||||||||
| QuasR 1.38.0 (landing page) Michael Stadler
| kjohnson | macOS 13.0 Ventura / arm64 | OK | OK | OK | ||||||||||||
| Package 67/97 | Hostname | OS / Arch | INSTALL | BUILD | BUILD BIN | ||||||||||||
| R453Plus1Toolbox 1.48.0 (landing page) Hans-Ulrich Klein
| kjohnson | macOS 13.0 Ventura / arm64 | OK | OK | OK | ||||||||||||
| Package 68/97 | Hostname | OS / Arch | INSTALL | BUILD | BUILD BIN | ||||||||||||
| RareVariantVis 2.26.0 (landing page) Tomasz Stokowy
| kjohnson | macOS 13.0 Ventura / arm64 | OK | OK | OK | ||||||||||||
| Package 69/97 | Hostname | OS / Arch | INSTALL | BUILD | BUILD BIN | ||||||||||||
| RCAS 1.24.0 (landing page) Bora Uyar
| kjohnson | macOS 13.0 Ventura / arm64 | OK | OK | OK | ||||||||||||
| Package 70/97 | Hostname | OS / Arch | INSTALL | BUILD | BUILD BIN | ||||||||||||
| REDseq 1.44.0 (landing page) Lihua Julie Zhu
| kjohnson | macOS 13.0 Ventura / arm64 | OK | OK | OK | ||||||||||||
| Package 71/97 | Hostname | OS / Arch | INSTALL | BUILD | BUILD BIN | ||||||||||||
| regioneR 1.30.0 (landing page) Bernat Gel
| kjohnson | macOS 13.0 Ventura / arm64 | OK | OK | OK | ||||||||||||
| Package 72/97 | Hostname | OS / Arch | INSTALL | BUILD | BUILD BIN | ||||||||||||
| REMP 1.22.0 (landing page) Yinan Zheng
| kjohnson | macOS 13.0 Ventura / arm64 | OK | OK | OK | ||||||||||||
| Package 73/97 | Hostname | OS / Arch | INSTALL | BUILD | BUILD BIN | ||||||||||||
| Repitools 1.44.0 (landing page) Mark Robinson
| kjohnson | macOS 13.0 Ventura / arm64 | OK | OK | OK | ||||||||||||
| Package 74/97 | Hostname | OS / Arch | INSTALL | BUILD | BUILD BIN | ||||||||||||
| RESOLVE 1.0.0 (landing page) Luca De Sano
| kjohnson | macOS 13.0 Ventura / arm64 | OK | OK | OK | ||||||||||||
| Package 75/97 | Hostname | OS / Arch | INSTALL | BUILD | BUILD BIN | ||||||||||||
| rGADEM 2.46.0 (landing page) Arnaud Droit
| kjohnson | macOS 13.0 Ventura / arm64 | OK | OK | OK | ||||||||||||
| Package 76/97 | Hostname | OS / Arch | INSTALL | BUILD | BUILD BIN | ||||||||||||
| ribosomeProfilingQC 1.10.0 (landing page) Jianhong Ou
| kjohnson | macOS 13.0 Ventura / arm64 | OK | OK | OK | ||||||||||||
| Package 77/97 | Hostname | OS / Arch | INSTALL | BUILD | BUILD BIN | ||||||||||||
| RNAmodR 1.12.0 (landing page) Felix G.M. Ernst
| kjohnson | macOS 13.0 Ventura / arm64 | OK | OK | OK | ||||||||||||
| Package 78/97 | Hostname | OS / Arch | INSTALL | BUILD | BUILD BIN | ||||||||||||
| scmeth 1.18.0 (landing page) Divy Kangeyan
| kjohnson | macOS 13.0 Ventura / arm64 | OK | OK | OK | ||||||||||||
| Package 79/97 | Hostname | OS / Arch | INSTALL | BUILD | BUILD BIN | ||||||||||||
| SCOPE 1.10.0 (landing page) Rujin Wang
| kjohnson | macOS 13.0 Ventura / arm64 | OK | OK | OK | ||||||||||||
| Package 80/97 | Hostname | OS / Arch | INSTALL | BUILD | BUILD BIN | ||||||||||||
| signeR 2.0.2 (landing page) Renan Valieris
| kjohnson | macOS 13.0 Ventura / arm64 | OK | OK | OK | ||||||||||||
| Package 81/97 | Hostname | OS / Arch | INSTALL | BUILD | BUILD BIN | ||||||||||||
| SigsPack 1.12.0 (landing page) Franziska Schumann
| kjohnson | macOS 13.0 Ventura / arm64 | OK | OK | OK | ||||||||||||
| Package 82/97 | Hostname | OS / Arch | INSTALL | BUILD | BUILD BIN | ||||||||||||
| SingleMoleculeFootprinting 1.6.0 (landing page) Guido Barzaghi
| kjohnson | macOS 13.0 Ventura / arm64 | OK | OK | OK | ||||||||||||
| Package 83/97 | Hostname | OS / Arch | INSTALL | BUILD | BUILD BIN | ||||||||||||
| SparseSignatures 2.8.0 (landing page) Luca De Sano
| kjohnson | macOS 13.0 Ventura / arm64 | OK | OK | OK | ||||||||||||
| Package 84/97 | Hostname | OS / Arch | INSTALL | BUILD | BUILD BIN | ||||||||||||
| spatzie 1.4.0 (landing page) Jennifer Hammelman
| kjohnson | macOS 13.0 Ventura / arm64 | OK | OK | OK | ||||||||||||
| Package 85/97 | Hostname | OS / Arch | INSTALL | BUILD | BUILD BIN | ||||||||||||
| spiky 1.4.0 (landing page) Tim Triche
| kjohnson | macOS 13.0 Ventura / arm64 | OK | OK | OK | ||||||||||||
| Package 86/97 | Hostname | OS / Arch | INSTALL | BUILD | BUILD BIN | ||||||||||||
| SpliceWiz 1.0.4 (landing page) Alex Chit Hei Wong
| kjohnson | macOS 13.0 Ventura / arm64 | OK | OK | OK | ||||||||||||
| Package 87/97 | Hostname | OS / Arch | INSTALL | BUILD | BUILD BIN | ||||||||||||
| TAPseq 1.10.0 (landing page) Andreas R. Gschwind
| kjohnson | macOS 13.0 Ventura / arm64 | OK | OK | OK | ||||||||||||
| Package 88/97 | Hostname | OS / Arch | INSTALL | BUILD | BUILD BIN | ||||||||||||
| TFBSTools 1.36.0 (landing page) Ge Tan
| kjohnson | macOS 13.0 Ventura / arm64 | OK | OK | OK | ||||||||||||
| Package 89/97 | Hostname | OS / Arch | INSTALL | BUILD | BUILD BIN | ||||||||||||
| trena 1.20.0 (landing page) Paul Shannon
| kjohnson | macOS 13.0 Ventura / arm64 | OK | OK | OK | ||||||||||||
| Package 90/97 | Hostname | OS / Arch | INSTALL | BUILD | BUILD BIN | ||||||||||||
| tRNAscanImport 1.18.0 (landing page) Felix G.M. Ernst
| kjohnson | macOS 13.0 Ventura / arm64 | OK | OK | OK | ||||||||||||
| Package 91/97 | Hostname | OS / Arch | INSTALL | BUILD | BUILD BIN | ||||||||||||
| Ularcirc 1.16.0 (landing page) David Humphreys
| kjohnson | macOS 13.0 Ventura / arm64 | OK | OK | OK | ||||||||||||
| Package 92/97 | Hostname | OS / Arch | INSTALL | BUILD | BUILD BIN | ||||||||||||
| UMI4Cats 1.8.1 (landing page) Mireia Ramos-Rodriguez
| kjohnson | macOS 13.0 Ventura / arm64 | OK | OK | OK | ||||||||||||
| Package 93/97 | Hostname | OS / Arch | INSTALL | BUILD | BUILD BIN | ||||||||||||
| VarCon 1.6.0 (landing page) Johannes Ptok
| kjohnson | macOS 13.0 Ventura / arm64 | OK | OK | OK | ||||||||||||
| Package 94/97 | Hostname | OS / Arch | INSTALL | BUILD | BUILD BIN | ||||||||||||
| VariantAnnotation 1.44.1 (landing page) Bioconductor Package Maintainer
| kjohnson | macOS 13.0 Ventura / arm64 | OK | OK | OK | ||||||||||||
| Package 95/97 | Hostname | OS / Arch | INSTALL | BUILD | BUILD BIN | ||||||||||||
| VariantFiltering 1.34.0 (landing page) Robert Castelo
| kjohnson | macOS 13.0 Ventura / arm64 | OK | ERROR | skipped | ||||||||||||
| Package 96/97 | Hostname | OS / Arch | INSTALL | BUILD | BUILD BIN | ||||||||||||
| VariantTools 1.40.0 (landing page) Michael Lawrence
| kjohnson | macOS 13.0 Ventura / arm64 | OK | OK | OK | ||||||||||||
| Package 97/97 | Hostname | OS / Arch | INSTALL | BUILD | BUILD BIN | ||||||||||||
| XNAString 1.6.0 (landing page) Marianna Plucinska
| kjohnson | macOS 13.0 Ventura / arm64 | OK | OK | OK | ||||||||||||