| Back to Mac ARM64 build report for BioC 3.16 |
|
This page was generated on 2023-04-19 11:01:53 -0400 (Wed, 19 Apr 2023).
| Hostname | OS | Arch (*) | R version | Installed pkgs |
|---|---|---|---|---|
| kjohnson | macOS 13.0 Ventura | arm64 | 4.2.2 (2022-10-31) -- "Innocent and Trusting" | 4256 |
| Click on any hostname to see more info about the system (e.g. compilers) (*) as reported by 'uname -p', except on Windows and Mac OS X | ||||
|
To the developers/maintainers of the ARRmNormalization package: Make sure to use the following settings in order to reproduce any error or warning you see on this page. |
| Package 80/2183 | Hostname | OS / Arch | INSTALL | BUILD | BUILD BIN | ||||||||
| ARRmNormalization 1.38.0 (landing page) Jean-Philippe Fortin
| kjohnson | macOS 13.0 Ventura / arm64 | OK | OK | OK | ||||||||
| Package: ARRmNormalization |
| Version: 1.38.0 |
| Command: /Library/Frameworks/R.framework/Resources/bin/R CMD build --keep-empty-dirs --no-resave-data ARRmNormalization |
| StartedAt: 2023-04-16 20:03:05 -0400 (Sun, 16 Apr 2023) |
| EndedAt: 2023-04-16 20:03:44 -0400 (Sun, 16 Apr 2023) |
| EllapsedTime: 38.3 seconds |
| RetCode: 0 |
| Status: OK |
| PackageFile: ARRmNormalization_1.38.0.tar.gz |
| PackageFileSize: 1.075 MiB |
############################################################################## ############################################################################## ### ### Running command: ### ### /Library/Frameworks/R.framework/Resources/bin/R CMD build --keep-empty-dirs --no-resave-data ARRmNormalization ### ############################################################################## ############################################################################## * checking for file ‘ARRmNormalization/DESCRIPTION’ ... OK * preparing ‘ARRmNormalization’: * checking DESCRIPTION meta-information ... OK * installing the package to build vignettes * creating vignettes ... OK * checking for LF line-endings in source and make files and shell scripts * checking for empty or unneeded directories * looking to see if a ‘data/datalist’ file should be added * building ‘ARRmNormalization_1.38.0.tar.gz’