| Back to Long Tests report for BioC 3.16 |
This page was generated on 2023-04-15 21:30:02 -0400 (Sat, 15 Apr 2023).
| Hostname | OS | Arch (*) | R version | Installed pkgs |
|---|---|---|---|---|
| nebbiolo2 | Linux (Ubuntu 20.04.5 LTS) | x86_64 | 4.2.3 (2023-03-15) -- "Shortstop Beagle" | 4502 |
| palomino4 | Windows Server 2022 Datacenter | x64 | 4.2.3 (2023-03-15 ucrt) -- "Shortstop Beagle" | 4282 |
| lconway | macOS 12.5.1 Monterey | x86_64 | 4.2.3 (2023-03-15) -- "Shortstop Beagle" | 4310 |
| Click on any hostname to see more info about the system (e.g. compilers) (*) as reported by 'uname -p', except on Windows and Mac OS X | ||||
|
To the developers/maintainers of the zellkonverter package: Make sure to use the following settings in order to reproduce any error or warning you see on this page. |
| Package 28/28 | Hostname | OS / Arch | CHECK | |||||||
| zellkonverter 1.8.0 (landing page) Luke Zappia
| nebbiolo2 | Linux (Ubuntu 20.04.5 LTS) / x86_64 | OK | |||||||
| palomino4 | Windows Server 2022 Datacenter / x64 | ERROR | ||||||||
| lconway | macOS 12.5.1 Monterey / x86_64 | OK | ||||||||
| Package: zellkonverter |
| Version: 1.8.0 |
| Command: F:\biocbuild\bbs-3.16-bioc\R\bin\R.exe CMD check --no-multiarch --test-dir=longtests --no-stop-on-test-error --no-codoc --no-examples --no-manual --ignore-vignettes --check-subdirs=no zellkonverter_1.8.0.tar.gz |
| StartedAt: 2023-04-15 08:36:24 -0400 (Sat, 15 Apr 2023) |
| EndedAt: 2023-04-15 09:11:21 -0400 (Sat, 15 Apr 2023) |
| EllapsedTime: 2096.8 seconds |
| RetCode: 1 |
| Status: ERROR |
| CheckDir: zellkonverter.Rcheck |
| Warnings: NA |
zellkonverter.Rcheck/tests/testthat.Rout.fail
R version 4.2.3 (2023-03-15 ucrt) -- "Shortstop Beagle"
Copyright (C) 2023 The R Foundation for Statistical Computing
Platform: x86_64-w64-mingw32/x64 (64-bit)
R is free software and comes with ABSOLUTELY NO WARRANTY.
You are welcome to redistribute it under certain conditions.
Type 'license()' or 'licence()' for distribution details.
R is a collaborative project with many contributors.
Type 'contributors()' for more information and
'citation()' on how to cite R or R packages in publications.
Type 'demo()' for some demos, 'help()' for on-line help, or
'help.start()' for an HTML browser interface to help.
Type 'q()' to quit R.
> library(testthat)
> library(zellkonverter)
Registered S3 method overwritten by 'zellkonverter':
method from
py_to_r.numpy.ndarray reticulate
>
> test_check("zellkonverter")
C:\Users\BIOCBU~1\AppData\Local\R\cache\R\basilisk\110~1.2\ZELLKO~1\189D56~1.0\ZELLKO~1.0\lib\site-packages\anndata\_core\anndata.py:1828: UserWarning: Observation names are not unique. To make them unique, call `.obs_names_make_unique`.
utils.warn_names_duplicates("obs")
C:\Users\BIOCBU~1\AppData\Local\R\cache\R\basilisk\110~1.2\ZELLKO~1\189D56~1.0\ZELLKO~1.0\lib\site-packages\anndata\_core\anndata.py:1828: UserWarning: Observation names are not unique. To make them unique, call `.obs_names_make_unique`.
utils.warn_names_duplicates("obs")
C:\Users\BIOCBU~1\AppData\Local\R\cache\R\basilisk\110~1.2\ZELLKO~1\189D56~1.0\ZELLKO~1.0\lib\site-packages\anndata\_core\anndata.py:1828: UserWarning: Observation names are not unique. To make them unique, call `.obs_names_make_unique`.
utils.warn_names_duplicates("obs")
C:\Users\BIOCBU~1\AppData\Local\R\cache\R\basilisk\110~1.2\ZELLKO~1\189D56~1.0\ZELLKO~1.0\lib\site-packages\anndata\_core\anndata.py:1828: UserWarning: Observation names are not unique. To make them unique, call `.obs_names_make_unique`.
utils.warn_names_duplicates("obs")
[ FAIL 3 | WARN 0 | SKIP 0 | PASS 178 ]
══ Failed tests ════════════════════════════════════════════════════════════════
── Error ('test-gtex_8tissues.R:52:5'): Reading H5AD works ─────────────────────
Error in `h(simpleError(msg, call))`: error in evaluating the argument 'x' in selecting a method for function 'colnames': INTEGER() can only be applied to a 'integer', not a 'double'
Backtrace:
▆
1. ├─testthat::expect_warning(...) at test-gtex_8tissues.R:52:4
2. │ └─testthat:::quasi_capture(...)
3. │ ├─testthat (local) .capture(...)
4. │ │ └─base::withCallingHandlers(...)
5. │ └─rlang::eval_bare(quo_get_expr(.quo), quo_get_env(.quo))
6. ├─zellkonverter::readH5AD(file) at test-gtex_8tissues.R:53:9
7. │ └─basilisk::basiliskRun(...)
8. │ └─zellkonverter (local) fun(...)
9. │ └─zellkonverter::AnnData2SCE(...)
10. │ ├─zellkonverter:::.convert_anndata_df(...)
11. │ │ └─BiocGenerics::colnames(adata_df)
12. │ ├─reticulate::py_to_r(adata$obs)
13. │ └─reticulate:::py_to_r.pandas.core.frame.DataFrame(adata$obs)
14. │ └─reticulate:::py_convert_pandas_df(x)
15. └─base::.handleSimpleError(...)
16. └─base (local) h(simpleError(msg, call))
── Error ('test-gtex_8tissues.R:59:1'): (code run outside of `test_that()`) ────
Error in `h(simpleError(msg, call))`: error in evaluating the argument 'x' in selecting a method for function 'colnames': INTEGER() can only be applied to a 'integer', not a 'double'
Backtrace:
▆
1. ├─base::suppressWarnings(readH5AD(file)) at test-gtex_8tissues.R:59:0
2. │ └─base::withCallingHandlers(...)
3. ├─zellkonverter::readH5AD(file)
4. │ └─basilisk::basiliskRun(...)
5. │ └─zellkonverter (local) fun(...)
6. │ └─zellkonverter::AnnData2SCE(...)
7. │ ├─zellkonverter:::.convert_anndata_df(...)
8. │ │ └─BiocGenerics::colnames(adata_df)
9. │ ├─reticulate::py_to_r(adata$obs)
10. │ └─reticulate:::py_to_r.pandas.core.frame.DataFrame(adata$obs)
11. │ └─reticulate:::py_convert_pandas_df(x)
12. └─base::.handleSimpleError(...)
13. └─base (local) h(simpleError(msg, call))
── Failure ('test-scvi_citeseq.R:45:5'): Round trip is as expected ─────────────
SummarizedExperiment::colData(sce) not identical to SummarizedExperiment::colData(expected).
Objects equal but not identical
Backtrace:
▆
1. └─zellkonverter:::expectSCE(out, sce) at test-scvi_citeseq.R:45:4
2. └─testthat::expect_identical(...)
[ FAIL 3 | WARN 0 | SKIP 0 | PASS 178 ]
Error: Test failures
Execution halted
##############################################################################
##############################################################################
###
### Running command:
###
### F:\biocbuild\bbs-3.16-bioc\R\bin\R.exe CMD check --no-multiarch --test-dir=longtests --no-stop-on-test-error --no-codoc --no-examples --no-manual --ignore-vignettes --check-subdirs=no zellkonverter_1.8.0.tar.gz
###
##############################################################################
##############################################################################
* using log directory 'F:/biocbuild/bbs-3.16-bioc-longtests/meat/zellkonverter.Rcheck'
* using R version 4.2.3 (2023-03-15 ucrt)
* using platform: x86_64-w64-mingw32 (64-bit)
* using session charset: UTF-8
* using options '--no-codoc --no-examples --no-manual --ignore-vignettes --no-stop-on-test-error'
* checking for file 'zellkonverter/DESCRIPTION' ... OK
* this is package 'zellkonverter' version '1.8.0'
* package encoding: UTF-8
* checking package namespace information ... OK
* checking package dependencies ... OK
* checking if this is a source package ... OK
* checking if there is a namespace ... OK
* checking for hidden files and directories ... OK
* checking for portable file names ... OK
* checking whether package 'zellkonverter' can be installed ... NOTE
Found the following notes/warnings:
Non-staged installation was used
See 'F:/biocbuild/bbs-3.16-bioc-longtests/meat/zellkonverter.Rcheck/00install.out' for details.
* checking installed package size ... OK
* checking package directory ... OK
* checking DESCRIPTION meta-information ... OK
* checking top-level files ... OK
* checking for left-over files ... OK
* checking index information ... OK
* checking package subdirectories ... OK
* checking R files for non-ASCII characters ... OK
* checking R files for syntax errors ... OK
* checking whether the package can be loaded ... OK
* checking whether the package can be loaded with stated dependencies ... OK
* checking whether the package can be unloaded cleanly ... OK
* checking whether the namespace can be loaded with stated dependencies ... OK
* checking whether the namespace can be unloaded cleanly ... OK
* checking dependencies in R code ... OK
* checking S3 generic/method consistency ... OK
* checking replacement functions ... OK
* checking foreign function calls ... OK
* checking R code for possible problems ... OK
* checking Rd files ... OK
* checking Rd metadata ... OK
* checking Rd cross-references ... OK
* checking for missing documentation entries ... OK
* checking for code/documentation mismatches ... SKIPPED
* checking Rd \usage sections ... OK
* checking Rd contents ... OK
* checking for unstated dependencies in examples ... OK
* checking line endings in shell scripts ... OK
* checking files in 'vignettes' ... SKIPPED
* checking examples ... SKIPPED
* checking for unstated dependencies in 'longtests' ... OK
* checking tests in 'longtests' ...
Running 'testthat.R'
ERROR
Running the tests in 'longtests/testthat.R' failed.
Last 13 lines of output:
10. │ └─reticulate:::py_to_r.pandas.core.frame.DataFrame(adata$obs)
11. │ └─reticulate:::py_convert_pandas_df(x)
12. └─base::.handleSimpleError(...)
13. └─base (local) h(simpleError(msg, call))
── Failure ('test-scvi_citeseq.R:45:5'): Round trip is as expected ─────────────
SummarizedExperiment::colData(sce) not identical to SummarizedExperiment::colData(expected).
Objects equal but not identical
Backtrace:
▆
1. └─zellkonverter:::expectSCE(out, sce) at test-scvi_citeseq.R:45:4
2. └─testthat::expect_identical(...)
[ FAIL 3 | WARN 0 | SKIP 0 | PASS 178 ]
Error: Test failures
Execution halted
* DONE
Status: 1 ERROR, 1 NOTE
See
'F:/biocbuild/bbs-3.16-bioc-longtests/meat/zellkonverter.Rcheck/00check.log'
for details.
zellkonverter.Rcheck/00install.out
* installing *source* package 'zellkonverter' ... ** using non-staged installation via StagedInstall field ** R ** inst ** byte-compile and prepare package for lazy loading ** help *** installing help indices *** copying figures ** building package indices ** installing vignettes ** testing if installed package can be loaded * DONE (zellkonverter)