| Back to Multiple platform build/check report for BioC 3.16: simplified long |
|
This page was generated on 2023-04-12 11:05:55 -0400 (Wed, 12 Apr 2023).
| Hostname | OS | Arch (*) | R version | Installed pkgs |
|---|---|---|---|---|
| nebbiolo2 | Linux (Ubuntu 20.04.5 LTS) | x86_64 | 4.2.3 (2023-03-15) -- "Shortstop Beagle" | 4502 |
| palomino4 | Windows Server 2022 Datacenter | x64 | 4.2.3 (2023-03-15 ucrt) -- "Shortstop Beagle" | 4282 |
| lconway | macOS 12.5.1 Monterey | x86_64 | 4.2.3 (2023-03-15) -- "Shortstop Beagle" | 4310 |
| Click on any hostname to see more info about the system (e.g. compilers) (*) as reported by 'uname -p', except on Windows and Mac OS X | ||||
|
To the developers/maintainers of the tLOH package: - Please allow up to 24 hours (and sometimes 48 hours) for your latest push to git@git.bioconductor.org:packages/tLOH.git to reflect on this report. See How and When does the builder pull? When will my changes propagate? for more information. - Make sure to use the following settings in order to reproduce any error or warning you see on this page. |
| Package 2058/2183 | Hostname | OS / Arch | INSTALL | BUILD | CHECK | BUILD BIN | ||||||||
| tLOH 1.6.0 (landing page) Michelle Webb
| nebbiolo2 | Linux (Ubuntu 20.04.5 LTS) / x86_64 | OK | OK | OK | |||||||||
| palomino4 | Windows Server 2022 Datacenter / x64 | OK | OK | OK | OK | |||||||||
| lconway | macOS 12.5.1 Monterey / x86_64 | OK | OK | OK | OK | |||||||||
| Package: tLOH |
| Version: 1.6.0 |
| Command: F:\biocbuild\bbs-3.16-bioc\R\bin\R.exe CMD check --no-multiarch --install=check:tLOH.install-out.txt --library=F:\biocbuild\bbs-3.16-bioc\R\library --no-vignettes --timings tLOH_1.6.0.tar.gz |
| StartedAt: 2023-04-11 06:48:25 -0400 (Tue, 11 Apr 2023) |
| EndedAt: 2023-04-11 06:59:27 -0400 (Tue, 11 Apr 2023) |
| EllapsedTime: 661.4 seconds |
| RetCode: 0 |
| Status: OK |
| CheckDir: tLOH.Rcheck |
| Warnings: 0 |
##############################################################################
##############################################################################
###
### Running command:
###
### F:\biocbuild\bbs-3.16-bioc\R\bin\R.exe CMD check --no-multiarch --install=check:tLOH.install-out.txt --library=F:\biocbuild\bbs-3.16-bioc\R\library --no-vignettes --timings tLOH_1.6.0.tar.gz
###
##############################################################################
##############################################################################
* using log directory 'F:/biocbuild/bbs-3.16-bioc/meat/tLOH.Rcheck'
* using R version 4.2.3 (2023-03-15 ucrt)
* using platform: x86_64-w64-mingw32 (64-bit)
* using session charset: UTF-8
* using option '--no-vignettes'
* checking for file 'tLOH/DESCRIPTION' ... OK
* checking extension type ... Package
* this is package 'tLOH' version '1.6.0'
* package encoding: UTF-8
* checking package namespace information ... OK
* checking package dependencies ... OK
* checking if this is a source package ... OK
* checking if there is a namespace ... OK
* checking for hidden files and directories ... OK
* checking for portable file names ... OK
* checking whether package 'tLOH' can be installed ... OK
* checking installed package size ... OK
* checking package directory ... OK
* checking 'build' directory ... OK
* checking DESCRIPTION meta-information ... OK
* checking top-level files ... OK
* checking for left-over files ... OK
* checking index information ... OK
* checking package subdirectories ... OK
* checking R files for non-ASCII characters ... OK
* checking R files for syntax errors ... OK
* checking whether the package can be loaded ... OK
* checking whether the package can be loaded with stated dependencies ... OK
* checking whether the package can be unloaded cleanly ... OK
* checking whether the namespace can be loaded with stated dependencies ... OK
* checking whether the namespace can be unloaded cleanly ... OK
* checking dependencies in R code ... OK
* checking S3 generic/method consistency ... OK
* checking replacement functions ... OK
* checking foreign function calls ... OK
* checking R code for possible problems ... OK
* checking Rd files ... OK
* checking Rd metadata ... OK
* checking Rd cross-references ... OK
* checking for missing documentation entries ... OK
* checking for code/documentation mismatches ... OK
* checking Rd \usage sections ... OK
* checking Rd contents ... OK
* checking for unstated dependencies in examples ... OK
* checking contents of 'data' directory ... OK
* checking data for non-ASCII characters ... OK
* checking data for ASCII and uncompressed saves ... OK
* checking files in 'vignettes' ... OK
* checking examples ... OK
Examples with CPU (user + system) or elapsed time > 5s
user system elapsed
hiddenMarkovAnalysis 73.02 3.77 76.81
regionAnalysis 61.84 0.52 65.66
runHMM_3 49.72 0.25 49.97
runHMM_2 47.66 0.27 47.95
runHMM_1 37.95 0.09 38.48
prepareHMMdataframes 30.10 0.15 30.25
splitByChromosome 28.58 0.04 28.61
tLOHCalcUpdate 28.10 0.10 28.20
alleleFrequencyPlot 7.00 0.20 7.20
aggregateCHRPlot 6.53 0.05 6.56
* checking for unstated dependencies in vignettes ... OK
* checking package vignettes in 'inst/doc' ... OK
* checking running R code from vignettes ... SKIPPED
* checking re-building of vignette outputs ... SKIPPED
* checking PDF version of manual ... OK
* DONE
Status: OK
tLOH.Rcheck/00install.out
############################################################################## ############################################################################## ### ### Running command: ### ### F:\biocbuild\bbs-3.16-bioc\R\bin\R.exe CMD INSTALL tLOH ### ############################################################################## ############################################################################## * installing to library 'F:/biocbuild/bbs-3.16-bioc/R/library' * installing *source* package 'tLOH' ... ** using staged installation ** R ** data ** inst ** byte-compile and prepare package for lazy loading ** help *** installing help indices ** building package indices ** installing vignettes ** testing if installed package can be loaded from temporary location ** testing if installed package can be loaded from final location ** testing if installed package keeps a record of temporary installation path * DONE (tLOH)
tLOH.Rcheck/tLOH-Ex.timings
| name | user | system | elapsed | |
| aggregateCHRPlot | 6.53 | 0.05 | 6.56 | |
| alleleFrequencyPlot | 7.0 | 0.2 | 7.2 | |
| documentErrorRegions | 0 | 0 | 0 | |
| hiddenMarkovAnalysis | 73.02 | 3.77 | 76.81 | |
| humanGBMsampleAC | 0.04 | 0.00 | 0.05 | |
| initialStartProbabilities | 0 | 0 | 0 | |
| marginalLikelihoodM1 | 0 | 0 | 0 | |
| marginalLikelihoodM2 | 0 | 0 | 0 | |
| marginalM1Calc | 0 | 0 | 0 | |
| marginalM2CalcBHET | 0 | 0 | 0 | |
| marginalM2CalcBLOH | 0 | 0 | 0 | |
| modePeakCalc | 0 | 0 | 0 | |
| prepareHMMdataframes | 30.10 | 0.15 | 30.25 | |
| regionAnalysis | 61.84 | 0.52 | 65.66 | |
| regionFinalize | 0 | 0 | 0 | |
| removeOutlierFromCalc | 0 | 0 | 0 | |
| runHMM_1 | 37.95 | 0.09 | 38.48 | |
| runHMM_2 | 47.66 | 0.27 | 47.95 | |
| runHMM_3 | 49.72 | 0.25 | 49.97 | |
| splitByChromosome | 28.58 | 0.04 | 28.61 | |
| summarizeRegions1 | 0 | 0 | 0 | |
| summarizeRegions2 | 0.01 | 0.00 | 0.00 | |
| tLOHCalc | 4.67 | 0.00 | 4.68 | |
| tLOHCalcUpdate | 28.1 | 0.1 | 28.2 | |
| tLOHDataImport | 0 | 0 | 0 | |