| Back to Multiple platform build/check report for BioC 3.16: simplified long |
|
This page was generated on 2023-04-12 11:05:48 -0400 (Wed, 12 Apr 2023).
| Hostname | OS | Arch (*) | R version | Installed pkgs |
|---|---|---|---|---|
| nebbiolo2 | Linux (Ubuntu 20.04.5 LTS) | x86_64 | 4.2.3 (2023-03-15) -- "Shortstop Beagle" | 4502 |
| palomino4 | Windows Server 2022 Datacenter | x64 | 4.2.3 (2023-03-15 ucrt) -- "Shortstop Beagle" | 4282 |
| lconway | macOS 12.5.1 Monterey | x86_64 | 4.2.3 (2023-03-15) -- "Shortstop Beagle" | 4310 |
| Click on any hostname to see more info about the system (e.g. compilers) (*) as reported by 'uname -p', except on Windows and Mac OS X | ||||
|
To the developers/maintainers of the regioneReloaded package: - Please allow up to 24 hours (and sometimes 48 hours) for your latest push to git@git.bioconductor.org:packages/regioneReloaded.git to reflect on this report. See How and When does the builder pull? When will my changes propagate? for more information. - Make sure to use the following settings in order to reproduce any error or warning you see on this page. |
| Package 1644/2183 | Hostname | OS / Arch | INSTALL | BUILD | CHECK | BUILD BIN | ||||||||
| regioneReloaded 1.0.0 (landing page) Roberto Malinverni
| nebbiolo2 | Linux (Ubuntu 20.04.5 LTS) / x86_64 | OK | OK | OK | |||||||||
| palomino4 | Windows Server 2022 Datacenter / x64 | OK | OK | OK | OK | |||||||||
| lconway | macOS 12.5.1 Monterey / x86_64 | OK | OK | OK | OK | |||||||||
| Package: regioneReloaded |
| Version: 1.0.0 |
| Command: F:\biocbuild\bbs-3.16-bioc\R\bin\R.exe CMD check --no-multiarch --install=check:regioneReloaded.install-out.txt --library=F:\biocbuild\bbs-3.16-bioc\R\library --no-vignettes --timings regioneReloaded_1.0.0.tar.gz |
| StartedAt: 2023-04-11 05:05:51 -0400 (Tue, 11 Apr 2023) |
| EndedAt: 2023-04-11 05:13:05 -0400 (Tue, 11 Apr 2023) |
| EllapsedTime: 433.2 seconds |
| RetCode: 0 |
| Status: OK |
| CheckDir: regioneReloaded.Rcheck |
| Warnings: 0 |
##############################################################################
##############################################################################
###
### Running command:
###
### F:\biocbuild\bbs-3.16-bioc\R\bin\R.exe CMD check --no-multiarch --install=check:regioneReloaded.install-out.txt --library=F:\biocbuild\bbs-3.16-bioc\R\library --no-vignettes --timings regioneReloaded_1.0.0.tar.gz
###
##############################################################################
##############################################################################
* using log directory 'F:/biocbuild/bbs-3.16-bioc/meat/regioneReloaded.Rcheck'
* using R version 4.2.3 (2023-03-15 ucrt)
* using platform: x86_64-w64-mingw32 (64-bit)
* using session charset: UTF-8
* using option '--no-vignettes'
* checking for file 'regioneReloaded/DESCRIPTION' ... OK
* checking extension type ... Package
* this is package 'regioneReloaded' version '1.0.0'
* package encoding: UTF-8
* checking package namespace information ... OK
* checking package dependencies ... OK
* checking if this is a source package ... OK
* checking if there is a namespace ... OK
* checking for hidden files and directories ... OK
* checking for portable file names ... OK
* checking whether package 'regioneReloaded' can be installed ... OK
* checking installed package size ... OK
* checking package directory ... OK
* checking 'build' directory ... OK
* checking DESCRIPTION meta-information ... OK
* checking top-level files ... OK
* checking for left-over files ... OK
* checking index information ... OK
* checking package subdirectories ... OK
* checking R files for non-ASCII characters ... OK
* checking R files for syntax errors ... OK
* checking whether the package can be loaded ... OK
* checking whether the package can be loaded with stated dependencies ... OK
* checking whether the package can be unloaded cleanly ... OK
* checking whether the namespace can be loaded with stated dependencies ... OK
* checking whether the namespace can be unloaded cleanly ... OK
* checking dependencies in R code ... OK
* checking S3 generic/method consistency ... OK
* checking replacement functions ... OK
* checking foreign function calls ... OK
* checking R code for possible problems ... OK
* checking Rd files ... OK
* checking Rd metadata ... OK
* checking Rd cross-references ... OK
* checking for missing documentation entries ... OK
* checking for code/documentation mismatches ... OK
* checking Rd \usage sections ... OK
* checking Rd contents ... OK
* checking for unstated dependencies in examples ... OK
* checking contents of 'data' directory ... OK
* checking data for non-ASCII characters ... OK
* checking data for ASCII and uncompressed saves ... OK
* checking R/sysdata.rda ... OK
* checking files in 'vignettes' ... OK
* checking examples ... OK
Examples with CPU (user + system) or elapsed time > 5s
user system elapsed
crosswisePermTest 15.18 0.12 15.29
multiLocalZscore 6.43 0.05 6.47
* checking for unstated dependencies in 'tests' ... OK
* checking tests ...
Running 'testthat.R'
OK
* checking for unstated dependencies in vignettes ... OK
* checking package vignettes in 'inst/doc' ... OK
* checking running R code from vignettes ... SKIPPED
* checking re-building of vignette outputs ... SKIPPED
* checking PDF version of manual ... OK
* DONE
Status: OK
regioneReloaded.Rcheck/00install.out
############################################################################## ############################################################################## ### ### Running command: ### ### F:\biocbuild\bbs-3.16-bioc\R\bin\R.exe CMD INSTALL regioneReloaded ### ############################################################################## ############################################################################## * installing to library 'F:/biocbuild/bbs-3.16-bioc/R/library' * installing *source* package 'regioneReloaded' ... ** using staged installation ** R ** data ** byte-compile and prepare package for lazy loading ** help *** installing help indices ** building package indices ** installing vignettes ** testing if installed package can be loaded from temporary location ** testing if installed package can be loaded from final location ** testing if installed package keeps a record of temporary installation path * DONE (regioneReloaded)
regioneReloaded.Rcheck/tests/testthat.Rout
R version 4.2.3 (2023-03-15 ucrt) -- "Shortstop Beagle"
Copyright (C) 2023 The R Foundation for Statistical Computing
Platform: x86_64-w64-mingw32/x64 (64-bit)
R is free software and comes with ABSOLUTELY NO WARRANTY.
You are welcome to redistribute it under certain conditions.
Type 'license()' or 'licence()' for distribution details.
R is a collaborative project with many contributors.
Type 'contributors()' for more information and
'citation()' on how to cite R or R packages in publications.
Type 'demo()' for some demos, 'help()' for on-line help, or
'help.start()' for an HTML browser interface to help.
Type 'q()' to quit R.
> # This file is part of the standard setup for testthat.
> # It is recommended that you do not modify it.
> #
> # Where should you do additional test configuration?
> # Learn more about the roles of various files in:
> # * https://r-pkgs.org/tests.html
> # * https://testthat.r-lib.org/reference/test_package.html#special-files
>
> library(testthat)
> library(regioneReloaded)
Loading required package: regioneR
Loading required package: GenomicRanges
Loading required package: stats4
Loading required package: BiocGenerics
Attaching package: 'BiocGenerics'
The following objects are masked from 'package:stats':
IQR, mad, sd, var, xtabs
The following objects are masked from 'package:base':
Filter, Find, Map, Position, Reduce, anyDuplicated, aperm, append,
as.data.frame, basename, cbind, colnames, dirname, do.call,
duplicated, eval, evalq, get, grep, grepl, intersect, is.unsorted,
lapply, mapply, match, mget, order, paste, pmax, pmax.int, pmin,
pmin.int, rank, rbind, rownames, sapply, setdiff, sort, table,
tapply, union, unique, unsplit, which.max, which.min
Loading required package: S4Vectors
Attaching package: 'S4Vectors'
The following objects are masked from 'package:base':
I, expand.grid, unname
Loading required package: IRanges
Attaching package: 'IRanges'
The following object is masked from 'package:grDevices':
windows
Loading required package: GenomeInfoDb
>
> test_check("regioneReloaded")
[1] "method selected for hclustering: average"
complete average single ward.D2 median centroid mcquitty
0.7497654 0.7857181 0.6514804 0.7363304 0.3459672 0.4561003 0.7516609
[1] "method selected for hclustering: complete"
complete average single ward.D2 median centroid mcquitty
0.9098230 0.8541174 0.7986368 0.8320493 0.8348816 0.8510903 0.8475492
[1] "method selected for hclustering: average"
complete average single ward.D2 median centroid mcquitty
0.8909663 0.8944326 0.7892161 0.8311822 0.8813696 0.8857083 0.8784679
[1] "resampleRegions function need that universe parameters in not NULL universe will created using all the regions present in Blist"
[1] "resampleRegions function need that universe parameters in not NULL universe will created using all the regions present in Blist"
[1] "resampleRegions function need that universe parameters in not NULL universe will created using all the regions present in Blist"
[1] "resampleRegions function need that universe parameters in not NULL universe will created using all the regions present in Blist"
[1] "resampleRegions function need that universe parameters in not NULL universe will created using all the regions present in Blist"
[1] "resampleRegions function need that universe parameters in not NULL universe will created using all the regions present in Blist"
[1] "method selected for hclustering: average"
complete average single ward.D2 median centroid mcquitty
0.7515325 0.7716179 0.6542890 0.7136237 0.2223408 0.5618311 0.7245865
[1] "method selected for hclustering: average"
complete average single ward.D2 median centroid mcquitty
0.7497654 0.7857181 0.6514804 0.7363304 0.3459672 0.4561003 0.7516609
[1] "method selected for hclustering: complete"
complete average single ward.D2 median centroid mcquitty
0.9098230 0.8541174 0.7986368 0.8320493 0.8348816 0.8510903 0.8475492
[1] "method selected for hclustering: average"
complete average single ward.D2 median centroid mcquitty
0.8909663 0.8944326 0.7892161 0.8311822 0.8813696 0.8857083 0.8784679
[ FAIL 0 | WARN 132 | SKIP 6 | PASS 60 ]
══ Skipped tests ═══════════════════════════════════════════════════════════════
• On CRAN (6)
[ FAIL 0 | WARN 132 | SKIP 6 | PASS 60 ]
>
> proc.time()
user system elapsed
163.65 2.32 166.21
regioneReloaded.Rcheck/regioneReloaded-Ex.timings
| name | user | system | elapsed | |
| chooseHclustMet | 0.01 | 0.00 | 0.02 | |
| createUniverse | 0.25 | 0.00 | 0.25 | |
| crosswisePermTest | 15.18 | 0.12 | 15.29 | |
| genoMatriXeR-class | 3.50 | 0.05 | 3.55 | |
| getHClust | 0.03 | 0.01 | 0.04 | |
| getMatrix | 0.07 | 0.04 | 0.10 | |
| getMultiEvaluation | 0.01 | 0.01 | 0.03 | |
| getParameters | 0.02 | 0.00 | 0.01 | |
| makeCrosswiseMatrix | 0.01 | 0.00 | 0.02 | |
| makeLZMatrix | 0.01 | 0.00 | 0.01 | |
| multiLocalZScore-class | 3.50 | 0.03 | 3.53 | |
| multiLocalZscore | 6.43 | 0.05 | 6.47 | |
| plotCrosswiseDimRed | 2.14 | 0.03 | 2.19 | |
| plotCrosswiseMatrix | 0.45 | 0.00 | 0.45 | |
| plotLocalZScoreMatrix | 0.02 | 0.00 | 0.02 | |
| plotSingleLZ | 0.43 | 0.05 | 0.48 | |
| plotSinglePT | 1.61 | 0.00 | 1.61 | |
| randomizeRegionsPerc | 0.24 | 0.03 | 0.27 | |
| similarRegionSet | 1.17 | 0.16 | 1.32 | |