| Back to Multiple platform build/check report for BioC 3.16: simplified long |
|
This page was generated on 2023-04-12 11:05:46 -0400 (Wed, 12 Apr 2023).
| Hostname | OS | Arch (*) | R version | Installed pkgs |
|---|---|---|---|---|
| nebbiolo2 | Linux (Ubuntu 20.04.5 LTS) | x86_64 | 4.2.3 (2023-03-15) -- "Shortstop Beagle" | 4502 |
| palomino4 | Windows Server 2022 Datacenter | x64 | 4.2.3 (2023-03-15 ucrt) -- "Shortstop Beagle" | 4282 |
| lconway | macOS 12.5.1 Monterey | x86_64 | 4.2.3 (2023-03-15) -- "Shortstop Beagle" | 4310 |
| Click on any hostname to see more info about the system (e.g. compilers) (*) as reported by 'uname -p', except on Windows and Mac OS X | ||||
|
To the developers/maintainers of the psichomics package: - Please allow up to 24 hours (and sometimes 48 hours) for your latest push to git@git.bioconductor.org:packages/psichomics.git to reflect on this report. See How and When does the builder pull? When will my changes propagate? for more information. - Make sure to use the following settings in order to reproduce any error or warning you see on this page. |
| Package 1545/2183 | Hostname | OS / Arch | INSTALL | BUILD | CHECK | BUILD BIN | ||||||||
| psichomics 1.24.0 (landing page) Nuno Saraiva-Agostinho
| nebbiolo2 | Linux (Ubuntu 20.04.5 LTS) / x86_64 | OK | OK | OK | |||||||||
| palomino4 | Windows Server 2022 Datacenter / x64 | OK | OK | OK | OK | |||||||||
| lconway | macOS 12.5.1 Monterey / x86_64 | OK | ERROR | skipped | skipped | |||||||||
| Package: psichomics |
| Version: 1.24.0 |
| Command: F:\biocbuild\bbs-3.16-bioc\R\bin\R.exe CMD check --no-multiarch --install=check:psichomics.install-out.txt --library=F:\biocbuild\bbs-3.16-bioc\R\library --no-vignettes --timings psichomics_1.24.0.tar.gz |
| StartedAt: 2023-04-11 04:47:07 -0400 (Tue, 11 Apr 2023) |
| EndedAt: 2023-04-11 04:55:01 -0400 (Tue, 11 Apr 2023) |
| EllapsedTime: 473.6 seconds |
| RetCode: 0 |
| Status: OK |
| CheckDir: psichomics.Rcheck |
| Warnings: 0 |
##############################################################################
##############################################################################
###
### Running command:
###
### F:\biocbuild\bbs-3.16-bioc\R\bin\R.exe CMD check --no-multiarch --install=check:psichomics.install-out.txt --library=F:\biocbuild\bbs-3.16-bioc\R\library --no-vignettes --timings psichomics_1.24.0.tar.gz
###
##############################################################################
##############################################################################
* using log directory 'F:/biocbuild/bbs-3.16-bioc/meat/psichomics.Rcheck'
* using R version 4.2.3 (2023-03-15 ucrt)
* using platform: x86_64-w64-mingw32 (64-bit)
* using session charset: UTF-8
* using option '--no-vignettes'
* checking for file 'psichomics/DESCRIPTION' ... OK
* this is package 'psichomics' version '1.24.0'
* package encoding: UTF-8
* checking package namespace information ... OK
* checking package dependencies ... OK
* checking if this is a source package ... OK
* checking if there is a namespace ... OK
* checking for hidden files and directories ... NOTE
Found the following hidden files and directories:
.devcontainer
These were most likely included in error. See section 'Package
structure' in the 'Writing R Extensions' manual.
* checking for portable file names ... OK
* checking whether package 'psichomics' can be installed ... OK
* checking installed package size ... OK
* checking package directory ... OK
* checking 'build' directory ... OK
* checking DESCRIPTION meta-information ... OK
* checking top-level files ... OK
* checking for left-over files ... OK
* checking index information ... OK
* checking package subdirectories ... OK
* checking R files for non-ASCII characters ... OK
* checking R files for syntax errors ... OK
* checking whether the package can be loaded ... OK
* checking whether the package can be loaded with stated dependencies ... OK
* checking whether the package can be unloaded cleanly ... OK
* checking whether the namespace can be loaded with stated dependencies ... OK
* checking whether the namespace can be unloaded cleanly ... OK
* checking dependencies in R code ... OK
* checking S3 generic/method consistency ... OK
* checking replacement functions ... OK
* checking foreign function calls ... OK
* checking R code for possible problems ... OK
* checking Rd files ... OK
* checking Rd metadata ... OK
* checking Rd cross-references ... OK
* checking for missing documentation entries ... OK
* checking for code/documentation mismatches ... OK
* checking Rd \usage sections ... OK
* checking Rd contents ... OK
* checking for unstated dependencies in examples ... OK
* checking line endings in C/C++/Fortran sources/headers ... OK
* checking compiled code ... NOTE
Note: information on .o files for x64 is not available
File 'F:/biocbuild/bbs-3.16-bioc/R/library/psichomics/libs/x64/psichomics.dll':
Found 'abort', possibly from 'abort' (C), 'runtime' (Fortran)
Found 'exit', possibly from 'exit' (C), 'stop' (Fortran)
Compiled code should not call entry points which might terminate R nor
write to stdout/stderr instead of to the console, nor use Fortran I/O
nor system RNGs. The detected symbols are linked into the code but
might come from libraries and not actually be called.
See 'Writing portable packages' in the 'Writing R Extensions' manual.
* checking files in 'vignettes' ... OK
* checking examples ... OK
Examples with CPU (user + system) or elapsed time > 5s
user system elapsed
convertGeneIdentifiers 22.94 1.42 24.78
listSplicingAnnotations 20.32 1.18 21.64
loadAnnotation 6.45 0.24 6.72
* checking for unstated dependencies in 'tests' ... OK
* checking tests ...
Running 'spelling.R'
Running 'testthat.R'
OK
* checking for unstated dependencies in vignettes ... OK
* checking package vignettes in 'inst/doc' ... OK
* checking running R code from vignettes ... SKIPPED
* checking re-building of vignette outputs ... SKIPPED
* checking PDF version of manual ... OK
* DONE
Status: 2 NOTEs
See
'F:/biocbuild/bbs-3.16-bioc/meat/psichomics.Rcheck/00check.log'
for details.
psichomics.Rcheck/00install.out
############################################################################## ############################################################################## ### ### Running command: ### ### F:\biocbuild\bbs-3.16-bioc\R\bin\R.exe CMD INSTALL psichomics ### ############################################################################## ############################################################################## * installing to library 'F:/biocbuild/bbs-3.16-bioc/R/library' * installing *source* package 'psichomics' ... ** using staged installation ** libs g++ -std=gnu++14 -I"F:/biocbuild/bbs-3.16-bioc/R/include" -DNDEBUG -I'F:/biocbuild/bbs-3.16-bioc/R/library/Rcpp/include' -I"C:/rtools42/x86_64-w64-mingw32.static.posix/include" -O2 -Wall -mfpmath=sse -msse2 -mstackrealign -c RcppExports.cpp -o RcppExports.o g++ -std=gnu++14 -I"F:/biocbuild/bbs-3.16-bioc/R/include" -DNDEBUG -I'F:/biocbuild/bbs-3.16-bioc/R/library/Rcpp/include' -I"C:/rtools42/x86_64-w64-mingw32.static.posix/include" -O2 -Wall -mfpmath=sse -msse2 -mstackrealign -c progressBar.cpp -o progressBar.o g++ -std=gnu++14 -I"F:/biocbuild/bbs-3.16-bioc/R/include" -DNDEBUG -I'F:/biocbuild/bbs-3.16-bioc/R/library/Rcpp/include' -I"C:/rtools42/x86_64-w64-mingw32.static.posix/include" -O2 -Wall -mfpmath=sse -msse2 -mstackrealign -c psiFastCalc.cpp -o psiFastCalc.o g++ -std=gnu++14 -I"F:/biocbuild/bbs-3.16-bioc/R/include" -DNDEBUG -I'F:/biocbuild/bbs-3.16-bioc/R/library/Rcpp/include' -I"C:/rtools42/x86_64-w64-mingw32.static.posix/include" -O2 -Wall -mfpmath=sse -msse2 -mstackrealign -c vastToolsParser.cpp -o vastToolsParser.o g++ -std=gnu++14 -shared -s -static-libgcc -o psichomics.dll tmp.def RcppExports.o progressBar.o psiFastCalc.o vastToolsParser.o -LC:/rtools42/x86_64-w64-mingw32.static.posix/lib/x64 -LC:/rtools42/x86_64-w64-mingw32.static.posix/lib -LF:/biocbuild/bbs-3.16-bioc/R/bin/x64 -lR installing to F:/biocbuild/bbs-3.16-bioc/R/library/00LOCK-psichomics/00new/psichomics/libs/x64 ** R ** inst ** byte-compile and prepare package for lazy loading Creating a generic function for 'colSums' from package 'base' in package 'psichomics' ** help *** installing help indices *** copying figures ** building package indices ** installing vignettes ** testing if installed package can be loaded from temporary location ** testing if installed package can be loaded from final location ** testing if installed package keeps a record of temporary installation path * DONE (psichomics)
psichomics.Rcheck/tests/spelling.Rout
R version 4.2.3 (2023-03-15 ucrt) -- "Shortstop Beagle"
Copyright (C) 2023 The R Foundation for Statistical Computing
Platform: x86_64-w64-mingw32/x64 (64-bit)
R is free software and comes with ABSOLUTELY NO WARRANTY.
You are welcome to redistribute it under certain conditions.
Type 'license()' or 'licence()' for distribution details.
R is a collaborative project with many contributors.
Type 'contributors()' for more information and
'citation()' on how to cite R or R packages in publications.
Type 'demo()' for some demos, 'help()' for on-line help, or
'help.start()' for an HTML browser interface to help.
Type 'q()' to quit R.
> if(requireNamespace('spelling', quietly = TRUE))
+ spelling::spell_check_test(vignettes = TRUE, error = FALSE,
+ skip_on_cran = TRUE)
NULL
>
> proc.time()
user system elapsed
0.20 0.04 0.21
psichomics.Rcheck/tests/testthat.Rout
R version 4.2.3 (2023-03-15 ucrt) -- "Shortstop Beagle"
Copyright (C) 2023 The R Foundation for Statistical Computing
Platform: x86_64-w64-mingw32/x64 (64-bit)
R is free software and comes with ABSOLUTELY NO WARRANTY.
You are welcome to redistribute it under certain conditions.
Type 'license()' or 'licence()' for distribution details.
R is a collaborative project with many contributors.
Type 'contributors()' for more information and
'citation()' on how to cite R or R packages in publications.
Type 'demo()' for some demos, 'help()' for on-line help, or
'help.start()' for an HTML browser interface to help.
Type 'q()' to quit R.
> library(testthat)
> library(psichomics)
Loading required package: shiny
Loading required package: shinyBS
Setting options('download.file.method.GEOquery'='auto')
Setting options('GEOquery.inmemory.gpl'=FALSE)
psichomics 1.24.0: start the visual interface by running psichomics()
Full documentation and tutorials at https://nuno-agostinho.github.io/psichomics
>
> test_check("psichomics")
| | 0%
|======== | 20%
|================ | 40%
|======================== | 60%
|================================ | 80%
|========================================| 100%
| | 0%
|======== | 20%
|================ | 40%
|======================== | 60%
|================================ | 80%
|========================================| 100%
| | 0%
|======== | 20%
|================ | 40%
|======================== | 60%
|================================ | 80%
|========================================| 100%
| | 0%
|======== | 20%
|================ | 40%
|======================== | 60%
|================================ | 80%
|========================================| 100%
Retrieving rMATS annotation...
Parsing rMATS annotation...
Retrieving rMATS annotation...
Parsing rMATS annotation...
Retrieving MISO annotation...
Parsing MISO annotation...
| | 0%
|======== | 20%
|================ | 40%
|======================== | 60%
|================================ | 80%
|========================================| 100%
| | 0%
|======== | 20%
|================ | 40%
|======================== | 60%
|================================ | 80%
|========================================| 100%
| | 0%
|======== | 20%
|================ | 40%
|======================== | 60%
|================================ | 80%
|========================================| 100%
| | 0%
|======== | 20%
|================ | 40%
|======================== | 60%
|================================ | 80%
|========================================| 100%
| | 0%
|======== | 20%
|================ | 40%
|======================== | 60%
|================================ | 80%
|========================================| 100%
| | 0%
|======== | 20%
|================ | 40%
|======================== | 60%
|================================ | 80%
|========================================| 100%
| | 0%
|======== | 20%
|================ | 40%
|======================== | 60%
|================================ | 80%
|========================================| 100%
| | 0%
|======== | 20%
|================ | 40%
|======================== | 60%
|================================ | 80%
|========================================| 100%
Retrieving SUPPA annotation...
Parsing SUPPA annotation...
Retrieving VAST-TOOLS annotation...
Parsing VAST-TOOLS annotation...
ALT3
ALT5
COMBI
EXSK
IR
MERGE3m
MIC
MULTI
[ FAIL 0 | WARN 1 | SKIP 4 | PASS 1418 ]
══ Skipped tests ═══════════════════════════════════════════════════════════════
• Couldn't resolve host name (1)
• On Bioconductor (2)
• On CRAN (1)
[ FAIL 0 | WARN 1 | SKIP 4 | PASS 1418 ]
>
> proc.time()
user system elapsed
22.54 1.53 26.81
psichomics.Rcheck/psichomics-Ex.timings
| name | user | system | elapsed | |
| addObjectAttrs | 0 | 0 | 0 | |
| assignValuePerSubject | 0.06 | 0.00 | 0.06 | |
| blendColours | 0 | 0 | 0 | |
| calculateLoadingsContribution | 0.02 | 0.00 | 0.04 | |
| convertGeneIdentifiers | 22.94 | 1.42 | 24.78 | |
| correlateGEandAS | 0.01 | 0.00 | 0.01 | |
| createGroupByAttribute | 0.00 | 0.01 | 0.00 | |
| createJunctionsTemplate | 0 | 0 | 0 | |
| customRowMeans | 0 | 0 | 0 | |
| diffAnalyses | 0.08 | 0.00 | 0.08 | |
| downloadFiles | 0 | 0 | 0 | |
| ensemblToUniprot | 0.00 | 0.00 | 1.09 | |
| filterGeneExpr | 0.02 | 0.00 | 0.02 | |
| filterGroups | 0 | 0 | 0 | |
| filterPSI | 0.01 | 0.00 | 0.01 | |
| getAttributesTime | 0.02 | 0.00 | 0.02 | |
| getDownloadsFolder | 0 | 0 | 0 | |
| getFirebrowseDateFormat | 0 | 0 | 0 | |
| getGeneList | 0 | 0 | 0 | |
| getGtexDataTypes | 0.04 | 0.00 | 0.20 | |
| getGtexTissues | 0 | 0 | 0 | |
| getNumerics | 0 | 0 | 0 | |
| getSampleFromSubject | 0 | 0 | 0 | |
| getSplicingEventFromGenes | 0 | 0 | 0 | |
| getSplicingEventTypes | 0 | 0 | 0 | |
| getSubjectFromSample | 0 | 0 | 0 | |
| getTCGAdataTypes | 0.02 | 0.02 | 0.31 | |
| getValidEvents | 0 | 0 | 0 | |
| groupPerElem | 0 | 0 | 0 | |
| hchart.survfit | 0.32 | 0.20 | 2.75 | |
| isFirebrowseUp | 0.00 | 0.00 | 0.02 | |
| labelBasedOnCutoff | 0 | 0 | 0 | |
| leveneTest | 0.01 | 0.00 | 0.02 | |
| listAllAnnotations | 3.72 | 0.40 | 4.17 | |
| listSplicingAnnotations | 20.32 | 1.18 | 21.64 | |
| loadAnnotation | 6.45 | 0.24 | 6.72 | |
| loadGtexData | 0 | 0 | 0 | |
| loadLocalFiles | 0 | 0 | 0 | |
| loadSRAproject | 0.00 | 0.01 | 0.01 | |
| loadTCGAdata | 0.01 | 0.00 | 0.05 | |
| missingDataModal | 0 | 0 | 0 | |
| normaliseGeneExpression | 0.02 | 0.00 | 0.02 | |
| optimalSurvivalCutoff | 0.09 | 0.00 | 0.09 | |
| parseCategoricalGroups | 0 | 0 | 0 | |
| parseFirebrowseMetadata | 0.05 | 0.00 | 0.12 | |
| parseMatsEvent | 0.02 | 0.00 | 0.02 | |
| parseMatsGeneric | 0.00 | 0.02 | 0.02 | |
| parseMisoAnnotation | 0.12 | 0.00 | 0.12 | |
| parseMisoEvent | 0.02 | 0.00 | 0.02 | |
| parseMisoEventID | 0 | 0 | 0 | |
| parseMisoGeneric | 0.03 | 0.00 | 0.03 | |
| parseMisoId | 0 | 0 | 0 | |
| parseSplicingEvent | 0.01 | 0.00 | 0.01 | |
| parseSuppaEvent | 0 | 0 | 0 | |
| parseSuppaGeneric | 0.04 | 0.00 | 0.03 | |
| parseTcgaSampleInfo | 0 | 0 | 0 | |
| parseUrlsFromFirebrowseResponse | 0.03 | 0.00 | 0.09 | |
| parseVastToolsEvent | 0 | 0 | 0 | |
| parseVastToolsSE | 0.02 | 0.00 | 0.01 | |
| performICA | 0.00 | 0.02 | 0.02 | |
| performPCA | 0 | 0 | 0 | |
| plot.GEandAScorrelation | 0.40 | 0.00 | 0.41 | |
| plotDistribution | 0.66 | 0.36 | 1.03 | |
| plotGeneExprPerSample | 0.13 | 0.11 | 0.23 | |
| plotGroupIndependence | 0.15 | 0.00 | 0.16 | |
| plotICA | 0.14 | 0.00 | 0.58 | |
| plotLibrarySize | 0.19 | 0.11 | 0.29 | |
| plotPCA | 0.25 | 0.33 | 0.61 | |
| plotPCAvariance | 0.06 | 0.06 | 0.50 | |
| plotProtein | 0.78 | 0.22 | 2.52 | |
| plotRowStats | 0.36 | 0.00 | 0.36 | |
| plotSingleICA | 0.19 | 0.31 | 0.50 | |
| plotSplicingEvent | 0.05 | 0.02 | 0.06 | |
| plotSurvivalCurves | 0.08 | 0.06 | 0.44 | |
| plotSurvivalPvaluesByCutoff | 0.42 | 0.09 | 0.70 | |
| plotTranscripts | 0.02 | 0.00 | 1.85 | |
| prepareAnnotationFromEvents | 0.14 | 0.02 | 0.15 | |
| prepareFirebrowseArchives | 0 | 0 | 0 | |
| prepareJunctionQuantSTAR | 0 | 0 | 0 | |
| prepareSRAmetadata | 0 | 0 | 0 | |
| processSurvTerms | 0.01 | 0.00 | 0.02 | |
| psichomics | 0 | 0 | 0 | |
| quantifySplicing | 0 | 0 | 0 | |
| queryEnsembl | 0.05 | 0.00 | 0.92 | |
| queryEnsemblByGene | 0.11 | 0.01 | 4.94 | |
| queryFirebrowseData | 0.06 | 0.00 | 0.19 | |
| queryPubMed | 0.05 | 0.02 | 0.45 | |
| queryUniprot | 0.09 | 0.00 | 1.16 | |
| readFile | 0 | 0 | 0 | |
| renameDuplicated | 0 | 0 | 0 | |
| renderBoxplot | 0.10 | 0.10 | 0.19 | |
| survdiffTerms | 0 | 0 | 0 | |
| survfit.survTerms | 0.01 | 0.00 | 0.01 | |
| testGroupIndependence | 0 | 0 | 0 | |
| testSurvival | 0.02 | 0.00 | 0.01 | |
| textSuggestions | 0 | 0 | 0 | |
| trimWhitespace | 0 | 0 | 0 | |