| Back to Multiple platform build/check report for BioC 3.16: simplified long |
|
This page was generated on 2023-04-12 11:05:45 -0400 (Wed, 12 Apr 2023).
| Hostname | OS | Arch (*) | R version | Installed pkgs |
|---|---|---|---|---|
| nebbiolo2 | Linux (Ubuntu 20.04.5 LTS) | x86_64 | 4.2.3 (2023-03-15) -- "Shortstop Beagle" | 4502 |
| palomino4 | Windows Server 2022 Datacenter | x64 | 4.2.3 (2023-03-15 ucrt) -- "Shortstop Beagle" | 4282 |
| lconway | macOS 12.5.1 Monterey | x86_64 | 4.2.3 (2023-03-15) -- "Shortstop Beagle" | 4310 |
| Click on any hostname to see more info about the system (e.g. compilers) (*) as reported by 'uname -p', except on Windows and Mac OS X | ||||
|
To the developers/maintainers of the peakPantheR package: - Please allow up to 24 hours (and sometimes 48 hours) for your latest push to git@git.bioconductor.org:packages/peakPantheR.git to reflect on this report. See How and When does the builder pull? When will my changes propagate? for more information. - Make sure to use the following settings in order to reproduce any error or warning you see on this page. |
| Package 1457/2183 | Hostname | OS / Arch | INSTALL | BUILD | CHECK | BUILD BIN | ||||||||
| peakPantheR 1.12.2 (landing page) Arnaud Wolfer
| nebbiolo2 | Linux (Ubuntu 20.04.5 LTS) / x86_64 | OK | OK | OK | |||||||||
| palomino4 | Windows Server 2022 Datacenter / x64 | OK | OK | OK | OK | |||||||||
| lconway | macOS 12.5.1 Monterey / x86_64 | OK | OK | OK | OK | |||||||||
| Package: peakPantheR |
| Version: 1.12.2 |
| Command: F:\biocbuild\bbs-3.16-bioc\R\bin\R.exe CMD check --no-multiarch --install=check:peakPantheR.install-out.txt --library=F:\biocbuild\bbs-3.16-bioc\R\library --no-vignettes --timings peakPantheR_1.12.2.tar.gz |
| StartedAt: 2023-04-11 04:24:59 -0400 (Tue, 11 Apr 2023) |
| EndedAt: 2023-04-11 04:41:22 -0400 (Tue, 11 Apr 2023) |
| EllapsedTime: 983.6 seconds |
| RetCode: 0 |
| Status: OK |
| CheckDir: peakPantheR.Rcheck |
| Warnings: 0 |
##############################################################################
##############################################################################
###
### Running command:
###
### F:\biocbuild\bbs-3.16-bioc\R\bin\R.exe CMD check --no-multiarch --install=check:peakPantheR.install-out.txt --library=F:\biocbuild\bbs-3.16-bioc\R\library --no-vignettes --timings peakPantheR_1.12.2.tar.gz
###
##############################################################################
##############################################################################
* using log directory 'F:/biocbuild/bbs-3.16-bioc/meat/peakPantheR.Rcheck'
* using R version 4.2.3 (2023-03-15 ucrt)
* using platform: x86_64-w64-mingw32 (64-bit)
* using session charset: UTF-8
* using option '--no-vignettes'
* checking for file 'peakPantheR/DESCRIPTION' ... OK
* this is package 'peakPantheR' version '1.12.2'
* package encoding: UTF-8
* checking package namespace information ... OK
* checking package dependencies ... OK
* checking if this is a source package ... OK
* checking if there is a namespace ... OK
* checking for hidden files and directories ... OK
* checking for portable file names ... OK
* checking whether package 'peakPantheR' can be installed ... OK
* checking installed package size ... OK
* checking package directory ... OK
* checking 'build' directory ... OK
* checking DESCRIPTION meta-information ... OK
* checking top-level files ... OK
* checking for left-over files ... OK
* checking index information ... OK
* checking package subdirectories ... OK
* checking R files for non-ASCII characters ... OK
* checking R files for syntax errors ... OK
* checking whether the package can be loaded ... OK
* checking whether the package can be loaded with stated dependencies ... OK
* checking whether the package can be unloaded cleanly ... OK
* checking whether the namespace can be loaded with stated dependencies ... OK
* checking whether the namespace can be unloaded cleanly ... OK
* checking dependencies in R code ... OK
* checking S3 generic/method consistency ... OK
* checking replacement functions ... OK
* checking foreign function calls ... OK
* checking R code for possible problems ... OK
* checking Rd files ... OK
* checking Rd metadata ... OK
* checking Rd cross-references ... OK
* checking for missing documentation entries ... OK
* checking for code/documentation mismatches ... OK
* checking Rd \usage sections ... OK
* checking Rd contents ... OK
* checking for unstated dependencies in examples ... OK
* checking files in 'vignettes' ... OK
* checking examples ... OK
Examples with CPU (user + system) or elapsed time > 5s
user system elapsed
peakPantheR_ROIStatistics 17.26 0.24 17.51
peakPantheR_parallelAnnotation 12.92 0.07 13.00
outputAnnotationDiagnostic-peakPantheRAnnotation-method 12.75 0.10 12.97
outputAnnotationResult-peakPantheRAnnotation-method 12.36 0.06 12.42
EICs-peakPantheRAnnotation-method 8.19 0.41 8.93
retentionTimeCorrection-peakPantheRAnnotation-method 8.42 0.03 8.45
* checking for unstated dependencies in 'tests' ... OK
* checking tests ...
Running 'testthat.R'
OK
* checking for unstated dependencies in vignettes ... OK
* checking package vignettes in 'inst/doc' ... OK
* checking running R code from vignettes ... SKIPPED
* checking re-building of vignette outputs ... SKIPPED
* checking PDF version of manual ... OK
* DONE
Status: OK
peakPantheR.Rcheck/00install.out
############################################################################## ############################################################################## ### ### Running command: ### ### F:\biocbuild\bbs-3.16-bioc\R\bin\R.exe CMD INSTALL peakPantheR ### ############################################################################## ############################################################################## * installing to library 'F:/biocbuild/bbs-3.16-bioc/R/library' * installing *source* package 'peakPantheR' ... ** using staged installation ** R ** inst ** byte-compile and prepare package for lazy loading ** help *** installing help indices *** copying figures ** building package indices ** installing vignettes ** testing if installed package can be loaded from temporary location ** testing if installed package can be loaded from final location ** testing if installed package keeps a record of temporary installation path * DONE (peakPantheR)
peakPantheR.Rcheck/tests/testthat.Rout
R version 4.2.3 (2023-03-15 ucrt) -- "Shortstop Beagle"
Copyright (C) 2023 The R Foundation for Statistical Computing
Platform: x86_64-w64-mingw32/x64 (64-bit)
R is free software and comes with ABSOLUTELY NO WARRANTY.
You are welcome to redistribute it under certain conditions.
Type 'license()' or 'licence()' for distribution details.
R is a collaborative project with many contributors.
Type 'contributors()' for more information and
'citation()' on how to cite R or R packages in publications.
Type 'demo()' for some demos, 'help()' for on-line help, or
'help.start()' for an HTML browser interface to help.
Type 'q()' to quit R.
> library(testthat)
> library(peakPantheR)
This is peakPantheR version 1.12.2
>
> test_check("peakPantheR")
[ FAIL 0 | WARN 1 | SKIP 0 | PASS 1438 ]
[ FAIL 0 | WARN 1 | SKIP 0 | PASS 1438 ]
Warning messages:
1: In .Internal(gc(verbose, reset, full)) :
closing unused connection 10 (F:\biocbuild\bbs-3.16-bioc\tmpdir\RtmpWMEWsQ\notValidXML.mzML)
2: In .Internal(gc(verbose, reset, full)) :
closing unused connection 9 (F:\biocbuild\bbs-3.16-bioc\tmpdir\RtmpWMEWsQ\notValidXML.mzML)
3: In .Internal(gc(verbose, reset, full)) :
closing unused connection 8 (F:\biocbuild\bbs-3.16-bioc\tmpdir\RtmpWMEWsQ\notValidXML.mzML)
4: In .Internal(gc(verbose, reset, full)) :
closing unused connection 7 (F:\biocbuild\bbs-3.16-bioc\tmpdir\RtmpWMEWsQ\notValidXML.mzML)
5: In .Internal(gc(verbose, reset, full)) :
closing unused connection 6 (F:\biocbuild\bbs-3.16-bioc\R\library\peakPantheR\extdata\test_fakemzML.mzML)
6: In .Internal(gc(verbose, reset, full)) :
closing unused connection 5 (F:\biocbuild\bbs-3.16-bioc\R\library\peakPantheR\extdata\test_fakemzML.mzML)
>
> proc.time()
user system elapsed
643.64 4.81 809.35
peakPantheR.Rcheck/peakPantheR-Ex.timings
| name | user | system | elapsed | |
| EICs-peakPantheRAnnotation-method | 8.19 | 0.41 | 8.93 | |
| FIR-peakPantheRAnnotation-method | 0.23 | 0.04 | 0.28 | |
| ROI-peakPantheRAnnotation-method | 0.14 | 0.05 | 0.18 | |
| TIC-peakPantheRAnnotation-method | 0.14 | 0.05 | 0.19 | |
| acquisitionTime-peakPantheRAnnotation-method | 0.86 | 0.03 | 0.89 | |
| annotationDiagnosticPlots-peakPantheRAnnotation-method | 0.18 | 0.01 | 0.19 | |
| annotationParamsDiagnostic-peakPantheRAnnotation-method | 0.17 | 0.02 | 0.18 | |
| annotationTable-peakPantheRAnnotation-method | 0.15 | 0.01 | 0.18 | |
| annotation_diagnostic_multiplot_UI_helper | 0.14 | 0.00 | 0.14 | |
| annotation_fit_summary_UI_helper | 0 | 0 | 0 | |
| annotation_showMethod_UI_helper | 0.00 | 0.02 | 0.02 | |
| annotation_showText_UI_helper | 0 | 0 | 0 | |
| cpdID-peakPantheRAnnotation-method | 0.16 | 0.01 | 0.17 | |
| cpdMetadata-peakPantheRAnnotation-method | 0.13 | 0.05 | 0.17 | |
| cpdName-peakPantheRAnnotation-method | 0.12 | 0.06 | 0.19 | |
| dataPoints-peakPantheRAnnotation-method | 0.14 | 0.03 | 0.17 | |
| filename-peakPantheRAnnotation-method | 0.24 | 0.00 | 0.23 | |
| filepath-peakPantheRAnnotation-method | 0.10 | 0.08 | 0.19 | |
| initialise_annotation_from_files_UI_helper | 0.07 | 0.00 | 0.06 | |
| isAnnotated-peakPantheRAnnotation-method | 0.22 | 0.02 | 0.24 | |
| load_annotation_from_file_UI_helper | 0.00 | 0.01 | 0.01 | |
| nbCompounds-peakPantheRAnnotation-method | 0.20 | 0.02 | 0.22 | |
| nbSamples-peakPantheRAnnotation-method | 0.23 | 0.01 | 0.25 | |
| outputAnnotationDiagnostic-peakPantheRAnnotation-method | 12.75 | 0.10 | 12.97 | |
| outputAnnotationFeatureMetadata_UI_helper | 0 | 0 | 0 | |
| outputAnnotationParamsCSV-peakPantheRAnnotation-method | 0.03 | 0.00 | 0.03 | |
| outputAnnotationResult-peakPantheRAnnotation-method | 12.36 | 0.06 | 12.42 | |
| outputAnnotationSpectraMetadata_UI_helper | 0 | 0 | 0 | |
| peakFit-peakPantheRAnnotation-method | 0.27 | 0.00 | 0.26 | |
| peakPantheRAnnotation | 0.23 | 0.05 | 0.28 | |
| peakPantheR_ROIStatistics | 17.26 | 0.24 | 17.51 | |
| peakPantheR_loadAnnotationParamsCSV | 0.00 | 0.00 | 0.05 | |
| peakPantheR_parallelAnnotation | 12.92 | 0.07 | 13.00 | |
| peakPantheR_plotEICFit | 0.47 | 0.02 | 0.48 | |
| peakPantheR_plotPeakwidth | 0.57 | 0.00 | 0.56 | |
| peakPantheR_singleFileSearch | 4.35 | 0.00 | 4.36 | |
| peakPantheR_start_GUI | 0 | 0 | 0 | |
| peakTables-peakPantheRAnnotation-method | 0.17 | 0.00 | 0.18 | |
| resetAnnotation-peakPantheRAnnotation-method | 0.16 | 0.05 | 0.20 | |
| resetFIR-peakPantheRAnnotation-method | 0 | 0 | 0 | |
| retentionTimeCorrection-peakPantheRAnnotation-method | 8.42 | 0.03 | 8.45 | |
| spectraMetadata-peakPantheRAnnotation-method | 0.25 | 0.03 | 0.28 | |
| spectraPaths_and_metadata_UI_helper | 0.00 | 0.00 | 0.02 | |
| spectra_metadata_colourScheme_UI_helper | 0 | 0 | 0 | |
| uROI-peakPantheRAnnotation-method | 0.17 | 0.03 | 0.20 | |
| uROIExist-peakPantheRAnnotation-method | 0.19 | 0.00 | 0.19 | |
| useFIR-peakPantheRAnnotation-method | 0.26 | 0.02 | 0.28 | |
| useUROI-peakPantheRAnnotation-method | 0.19 | 0.01 | 0.20 | |