| Back to Multiple platform build/check report for BioC 3.16: simplified long |
|
This page was generated on 2023-04-12 11:05:45 -0400 (Wed, 12 Apr 2023).
| Hostname | OS | Arch (*) | R version | Installed pkgs |
|---|---|---|---|---|
| nebbiolo2 | Linux (Ubuntu 20.04.5 LTS) | x86_64 | 4.2.3 (2023-03-15) -- "Shortstop Beagle" | 4502 |
| palomino4 | Windows Server 2022 Datacenter | x64 | 4.2.3 (2023-03-15 ucrt) -- "Shortstop Beagle" | 4282 |
| lconway | macOS 12.5.1 Monterey | x86_64 | 4.2.3 (2023-03-15) -- "Shortstop Beagle" | 4310 |
| Click on any hostname to see more info about the system (e.g. compilers) (*) as reported by 'uname -p', except on Windows and Mac OS X | ||||
|
To the developers/maintainers of the pdInfoBuilder package: - Please allow up to 24 hours (and sometimes 48 hours) for your latest push to git@git.bioconductor.org:packages/pdInfoBuilder.git to reflect on this report. See How and When does the builder pull? When will my changes propagate? for more information. - Make sure to use the following settings in order to reproduce any error or warning you see on this page. |
| Package 1455/2183 | Hostname | OS / Arch | INSTALL | BUILD | CHECK | BUILD BIN | ||||||||
| pdInfoBuilder 1.62.0 (landing page) Benilton Carvalho
| nebbiolo2 | Linux (Ubuntu 20.04.5 LTS) / x86_64 | OK | OK | OK | |||||||||
| palomino4 | Windows Server 2022 Datacenter / x64 | OK | OK | OK | OK | |||||||||
| lconway | macOS 12.5.1 Monterey / x86_64 | OK | OK | OK | OK | |||||||||
| Package: pdInfoBuilder |
| Version: 1.62.0 |
| Command: F:\biocbuild\bbs-3.16-bioc\R\bin\R.exe CMD check --no-multiarch --install=check:pdInfoBuilder.install-out.txt --library=F:\biocbuild\bbs-3.16-bioc\R\library --no-vignettes --timings pdInfoBuilder_1.62.0.tar.gz |
| StartedAt: 2023-04-11 04:24:38 -0400 (Tue, 11 Apr 2023) |
| EndedAt: 2023-04-11 04:27:38 -0400 (Tue, 11 Apr 2023) |
| EllapsedTime: 179.9 seconds |
| RetCode: 0 |
| Status: OK |
| CheckDir: pdInfoBuilder.Rcheck |
| Warnings: 0 |
##############################################################################
##############################################################################
###
### Running command:
###
### F:\biocbuild\bbs-3.16-bioc\R\bin\R.exe CMD check --no-multiarch --install=check:pdInfoBuilder.install-out.txt --library=F:\biocbuild\bbs-3.16-bioc\R\library --no-vignettes --timings pdInfoBuilder_1.62.0.tar.gz
###
##############################################################################
##############################################################################
* using log directory 'F:/biocbuild/bbs-3.16-bioc/meat/pdInfoBuilder.Rcheck'
* using R version 4.2.3 (2023-03-15 ucrt)
* using platform: x86_64-w64-mingw32 (64-bit)
* using session charset: UTF-8
* using option '--no-vignettes'
* checking for file 'pdInfoBuilder/DESCRIPTION' ... OK
* this is package 'pdInfoBuilder' version '1.62.0'
* checking package namespace information ... OK
* checking package dependencies ... OK
* checking if this is a source package ... OK
* checking if there is a namespace ... OK
* checking for hidden files and directories ... OK
* checking for portable file names ... OK
* checking whether package 'pdInfoBuilder' can be installed ... OK
* checking installed package size ... OK
* checking package directory ... OK
* checking 'build' directory ... OK
* checking DESCRIPTION meta-information ... OK
* checking top-level files ... OK
* checking for left-over files ... OK
* checking index information ... OK
* checking package subdirectories ... OK
* checking R files for non-ASCII characters ... OK
* checking R files for syntax errors ... OK
* checking whether the package can be loaded ... OK
* checking whether the package can be loaded with stated dependencies ... OK
* checking whether the package can be unloaded cleanly ... OK
* checking whether the namespace can be loaded with stated dependencies ... OK
* checking whether the namespace can be unloaded cleanly ... OK
* checking dependencies in R code ... NOTE
Namespaces in Imports field not imported from:
'BiocGenerics' 'IRanges' 'oligoClasses'
All declared Imports should be used.
* checking S3 generic/method consistency ... OK
* checking replacement functions ... OK
* checking foreign function calls ... OK
* checking R code for possible problems ... NOTE
cdf2table: no visible global function definition for 'getDoParWorkers'
cdf2table: no visible global function definition for '%dopar%'
cdf2table: no visible global function definition for 'foreach'
cdf2table: no visible binding for global variable 'unitLst'
cdfUnits2table: no visible global function definition for '%do%'
cdfUnits2table: no visible global function definition for 'foreach'
cdfUnits2table: no visible binding for global variable 'i'
connectDb: no visible global function definition for 'dbGetQuery'
createChrDict: no visible global function definition for 'na.omit'
createIndicesDb : makeIndex: no visible global function definition for
'dbGetQuery'
createIndicesDb: no visible global function definition for 'dbGetQuery'
createSeqMat: no visible global function definition for 'dbGetQuery'
createSeqMat.cnv: no visible global function definition for
'dbGetQuery'
createTableInfoTable: no visible global function definition for
'dbGetQuery'
dbCreateIndex: no visible global function definition for 'dbGetQuery'
dbCreateTable: no visible global function definition for 'dbGetQuery'
dbCreateTableInfo: no visible global function definition for
'dbGetQuery'
getAllFSetMpsTables: no visible global function definition for
'%dopar%'
getAllFSetMpsTables: no visible global function definition for
'foreach'
getAllFSetMpsTables: no visible binding for global variable 'i'
increaseDbPerformance: no visible global function definition for
'dbGetQuery'
initDb: no visible global function definition for 'dbGetQuery'
insertInFragmentLengthTable: no visible global function definition for
'dbGetQuery'
loadAffySeqCsv: no visible global function definition for 'dbGetQuery'
loadUnits: no visible global function definition for 'dbGetQuery'
parseBpmapCel: no visible global function definition for 'aggregate'
parseCdfSeqAnnotSnp: no visible global function definition for
'aggregate'
parseNgsTrio: no visible global function definition for 'aggregate'
snp6.createIndicesDb : makeIndex: no visible global function definition
for 'dbGetQuery'
snp6.createIndicesDb: no visible global function definition for
'dbGetQuery'
snp6.createTableInfoTable: no visible global function definition for
'dbGetQuery'
snp6.initDb: no visible global function definition for 'dbGetQuery'
snp6.loadUnits.cnv: no visible global function definition for
'dbGetQuery'
snp6.loadUnits.snp: no visible global function definition for
'dbGetQuery'
snp6.sortFeatureTables: no visible global function definition for
'dbGetQuery'
sortFeatureTables: no visible global function definition for
'dbGetQuery'
makePdInfoPackage,AffyClariomSPDInfoPkgSeed: no visible global function
definition for 'dbGetQuery'
makePdInfoPackage,AffyExpressionPDInfoPkgSeed: no visible global
function definition for 'dbGetQuery'
makePdInfoPackage,AffyHTAPDInfoPkgSeed: no visible global function
definition for 'dbGetQuery'
makePdInfoPackage,AffyMiRNAPDInfoPkgSeed: no visible global function
definition for 'dbGetQuery'
makePdInfoPackage,AffySNPCNVPDInfoPkgSeed2: no visible global function
definition for 'dbGetQuery'
makePdInfoPackage,AffySNPPDInfoPkgSeed2: no visible global function
definition for 'dbGetQuery'
makePdInfoPackage,AffySTPDInfoPkgSeed: no visible global function
definition for 'dbGetQuery'
makePdInfoPackage,AffyTilingPDInfoPkgSeed: no visible global function
definition for 'dbGetQuery'
makePdInfoPackage,GenericPDInfoPkgSeed: no visible global function
definition for 'dbGetQuery'
makePdInfoPackage,NgsExpressionPDInfoPkgSeed: no visible global
function definition for 'dbGetQuery'
makePdInfoPackage,NgsTilingPDInfoPkgSeed: no visible global function
definition for 'dbGetQuery'
Undefined global functions or variables:
%do% %dopar% aggregate dbGetQuery foreach getDoParWorkers i na.omit
unitLst
Consider adding
importFrom("stats", "aggregate", "na.omit")
to your NAMESPACE file.
* checking Rd files ... OK
* checking Rd metadata ... OK
* checking Rd cross-references ... OK
* checking for missing documentation entries ... OK
* checking for code/documentation mismatches ... OK
* checking Rd \usage sections ... OK
* checking Rd contents ... OK
* checking for unstated dependencies in examples ... OK
* checking line endings in C/C++/Fortran sources/headers ... OK
* checking line endings in Makefiles ... OK
* checking for GNU extensions in Makefiles ... OK
* checking include directives in Makefiles ... OK
* checking compiled code ... NOTE
Note: information on .o files for x64 is not available
File 'F:/biocbuild/bbs-3.16-bioc/R/library/pdInfoBuilder/libs/x64/pdInfoBuilder.dll':
Found 'abort', possibly from 'abort' (C), 'runtime' (Fortran)
Compiled code should not call entry points which might terminate R nor
write to stdout/stderr instead of to the console, nor use Fortran I/O
nor system RNGs. The detected symbols are linked into the code but
might come from libraries and not actually be called.
See 'Writing portable packages' in the 'Writing R Extensions' manual.
* checking sizes of PDF files under 'inst/doc' ... OK
* checking installed files from 'inst/doc' ... OK
* checking files in 'vignettes' ... OK
* checking examples ... OK
* checking for unstated dependencies in vignettes ... OK
* checking package vignettes in 'inst/doc' ... OK
* checking running R code from vignettes ... SKIPPED
* checking re-building of vignette outputs ... SKIPPED
* checking PDF version of manual ... OK
* DONE
Status: 3 NOTEs
See
'F:/biocbuild/bbs-3.16-bioc/meat/pdInfoBuilder.Rcheck/00check.log'
for details.
pdInfoBuilder.Rcheck/00install.out
############################################################################## ############################################################################## ### ### Running command: ### ### F:\biocbuild\bbs-3.16-bioc\R\bin\R.exe CMD INSTALL pdInfoBuilder ### ############################################################################## ############################################################################## * installing to library 'F:/biocbuild/bbs-3.16-bioc/R/library' * installing *source* package 'pdInfoBuilder' ... ** using staged installation ** libs gcc -I"F:/biocbuild/bbs-3.16-bioc/R/include" -DNDEBUG -I"C:/rtools42/x86_64-w64-mingw32.static.posix/include" -O2 -Wall -std=gnu99 -mfpmath=sse -msse2 -mstackrealign -c pdInfoBuilder.c -o pdInfoBuilder.o gcc -shared -s -static-libgcc -o pdInfoBuilder.dll tmp.def pdInfoBuilder.o -LC:/rtools42/x86_64-w64-mingw32.static.posix/lib/x64 -LC:/rtools42/x86_64-w64-mingw32.static.posix/lib -LF:/biocbuild/bbs-3.16-bioc/R/bin/x64 -lR installing to F:/biocbuild/bbs-3.16-bioc/R/library/00LOCK-pdInfoBuilder/00new/pdInfoBuilder/libs/x64 ** R ** inst ** byte-compile and prepare package for lazy loading No methods found in package 'RSQLite' for request: 'dbGetQuery' when loading 'pdInfoBuilder' ** help *** installing help indices ** building package indices ** installing vignettes ** testing if installed package can be loaded from temporary location No methods found in package 'RSQLite' for request: 'dbGetQuery' when loading 'pdInfoBuilder' ** testing if installed package can be loaded from final location No methods found in package 'RSQLite' for request: 'dbGetQuery' when loading 'pdInfoBuilder' ** testing if installed package keeps a record of temporary installation path * DONE (pdInfoBuilder)
pdInfoBuilder.Rcheck/pdInfoBuilder-Ex.timings
| name | user | system | elapsed | |
| AffyClariomSPDInfoPkgSeed-class | 0 | 0 | 0 | |
| AffyExpressionPDInfoPkgSeed-class | 0 | 0 | 0 | |
| AffySNPCNVPDInfoPkgSeed-class | 0 | 0 | 0 | |
| AffySNPCNVPDInfoPkgSeed2-class | 0 | 0 | 0 | |
| AffySNPPDInfoPkgSeed-class | 0.30 | 0.03 | 0.32 | |
| AffySNPPDInfoPkgSeed2-class | 0 | 0 | 0 | |
| AffySTPDInfoPkgSeed-class | 0 | 0 | 0 | |
| AffyTilingPDInfoPkgSeed-class | 0 | 0 | 0 | |
| NgsExpressionPDInfoPkgSeed-class | 0 | 0 | 0 | |
| NgsTilingPDInfoPkgSeed-class | 0 | 0 | 0 | |
| NimbleGenPDInfoPkgSeed-class | 0 | 0 | 0 | |
| makePdInfoPackage | 0 | 0 | 0 | |