| Back to Multiple platform build/check report for BioC 3.16: simplified long |
|
This page was generated on 2023-03-20 11:05:39 -0400 (Mon, 20 Mar 2023).
| Hostname | OS | Arch (*) | R version | Installed pkgs |
|---|---|---|---|---|
| nebbiolo2 | Linux (Ubuntu 20.04.5 LTS) | x86_64 | 4.2.2 (2022-10-31) -- "Innocent and Trusting" | 4516 |
| palomino4 | Windows Server 2022 Datacenter | x64 | 4.2.2 (2022-10-31 ucrt) -- "Innocent and Trusting" | 4295 |
| lconway | macOS 12.5.1 Monterey | x86_64 | 4.2.2 (2022-10-31) -- "Innocent and Trusting" | 4324 |
| Click on any hostname to see more info about the system (e.g. compilers) (*) as reported by 'uname -p', except on Windows and Mac OS X | ||||
|
To the developers/maintainers of the omada package: - Please allow up to 24 hours (and sometimes 48 hours) for your latest push to git@git.bioconductor.org:packages/omada.git to reflect on this report. See How and When does the builder pull? When will my changes propagate? for more information. - Make sure to use the following settings in order to reproduce any error or warning you see on this page. |
| Package 1382/2183 | Hostname | OS / Arch | INSTALL | BUILD | CHECK | BUILD BIN | ||||||||
| omada 1.0.0 (landing page) Sokratis Kariotis
| nebbiolo2 | Linux (Ubuntu 20.04.5 LTS) / x86_64 | OK | OK | OK | |||||||||
| palomino4 | Windows Server 2022 Datacenter / x64 | OK | OK | OK | OK | |||||||||
| lconway | macOS 12.5.1 Monterey / x86_64 | OK | OK | OK | OK | |||||||||
| Package: omada |
| Version: 1.0.0 |
| Command: F:\biocbuild\bbs-3.16-bioc\R\bin\R.exe CMD check --no-multiarch --install=check:omada.install-out.txt --library=F:\biocbuild\bbs-3.16-bioc\R\library --no-vignettes --timings omada_1.0.0.tar.gz |
| StartedAt: 2023-03-18 04:12:05 -0400 (Sat, 18 Mar 2023) |
| EndedAt: 2023-03-18 04:23:29 -0400 (Sat, 18 Mar 2023) |
| EllapsedTime: 684.2 seconds |
| RetCode: 0 |
| Status: OK |
| CheckDir: omada.Rcheck |
| Warnings: 0 |
##############################################################################
##############################################################################
###
### Running command:
###
### F:\biocbuild\bbs-3.16-bioc\R\bin\R.exe CMD check --no-multiarch --install=check:omada.install-out.txt --library=F:\biocbuild\bbs-3.16-bioc\R\library --no-vignettes --timings omada_1.0.0.tar.gz
###
##############################################################################
##############################################################################
* using log directory 'F:/biocbuild/bbs-3.16-bioc/meat/omada.Rcheck'
* using R version 4.2.2 (2022-10-31 ucrt)
* using platform: x86_64-w64-mingw32 (64-bit)
* using session charset: UTF-8
* using option '--no-vignettes'
* checking for file 'omada/DESCRIPTION' ... OK
* checking extension type ... Package
* this is package 'omada' version '1.0.0'
* package encoding: UTF-8
* checking package namespace information ... OK
* checking package dependencies ... NOTE
Depends: includes the non-default packages:
'pdfCluster', 'kernlab', 'fpc', 'Rcpp', 'diceR', 'ggplot2',
'reshape', 'clusterCrit', 'clValid', 'glmnet', 'dplyr'
Adding so many packages to the search path is excessive and importing
selectively is preferable.
* checking if this is a source package ... OK
* checking if there is a namespace ... OK
* checking for hidden files and directories ... OK
* checking for portable file names ... OK
* checking whether package 'omada' can be installed ... OK
* checking installed package size ... OK
* checking package directory ... OK
* checking 'build' directory ... OK
* checking DESCRIPTION meta-information ... OK
* checking top-level files ... NOTE
File
LICENSE
is not mentioned in the DESCRIPTION file.
* checking for left-over files ... OK
* checking index information ... OK
* checking package subdirectories ... OK
* checking R files for non-ASCII characters ... OK
* checking R files for syntax errors ... OK
* checking whether the package can be loaded ... OK
* checking whether the package can be loaded with stated dependencies ... OK
* checking whether the package can be unloaded cleanly ... OK
* checking whether the namespace can be loaded with stated dependencies ... OK
* checking whether the namespace can be unloaded cleanly ... OK
* checking dependencies in R code ... NOTE
Packages in Depends field not imported from:
'Rcpp' 'clusterCrit' 'glmnet' 'kernlab' 'reshape'
These packages need to be imported from (in the NAMESPACE file)
for when this namespace is loaded but not attached.
* checking S3 generic/method consistency ... OK
* checking replacement functions ... OK
* checking foreign function calls ... OK
* checking R code for possible problems ... NOTE
clusterVoting: no visible binding for global variable 'k'
clusterVoting: no visible binding for global variable 'Frequency'
clusteringMethodSelection: no visible binding for global variable
'value'
clusteringMethodSelection: no visible binding for global variable
'methods'
featureSelection: no visible binding for global variable 'featureSet'
featureSelection: no visible binding for global variable 'means'
geneSignatures: no visible global function definition for 'where'
geneSignatures: no visible binding for global variable 'features'
geneSignatures: no visible binding for global variable 'value'
geneSignatures: no visible binding for global variable 'variable'
Undefined global functions or variables:
Frequency featureSet features k means methods value variable where
Consider adding
importFrom("utils", "methods")
to your NAMESPACE file.
* checking Rd files ... OK
* checking Rd metadata ... OK
* checking Rd cross-references ... OK
* checking for missing documentation entries ... OK
* checking for code/documentation mismatches ... OK
* checking Rd \usage sections ... OK
* checking Rd contents ... OK
* checking for unstated dependencies in examples ... OK
* checking contents of 'data' directory ... OK
* checking data for non-ASCII characters ... OK
* checking LazyData ... OK
* checking data for ASCII and uncompressed saves ... OK
* checking files in 'vignettes' ... OK
* checking examples ... OK
Examples with CPU (user + system) or elapsed time > 5s
user system elapsed
get_feature_selection_scores 43.63 0.23 43.86
get_feature_selection_optimal_number_of_features 39.04 0.28 39.33
get_partition_agreement_scores 31.04 0.22 31.25
get_cluster_voting_memberships 29.89 0.28 30.17
get_feature_selection_optimal_features 29.88 0.21 30.07
get_cluster_voting_k_votes 29.06 0.22 29.30
get_cluster_voting_scores 28.85 0.14 29.00
get_signature_feature_coefs 27.89 0.21 28.11
plot_feature_selection 27.76 0.20 27.97
get_sample_memberships 27.39 0.21 27.69
get_cluster_voting_metric_votes 27.30 0.19 27.51
plot_partition_agreement 26.45 0.11 26.61
plot_signature_feature 25.94 0.13 26.08
plot_cluster_voting 21.86 0.14 22.00
omada 20.89 0.18 21.08
get_optimal_number_of_features 10.53 0.13 10.65
get_optimal_features 10.20 0.00 10.20
plot_average_stabilities 8.97 0.07 9.03
get_optimal_parameter_used 8.89 0.01 8.91
get_optimal_memberships 8.39 0.06 8.46
get_optimal_stability_score 8.11 0.02 8.12
featureSelection 7.75 0.16 7.90
get_average_feature_k_stabilities 5.03 0.05 5.08
* checking for unstated dependencies in 'tests' ... OK
* checking tests ...
Running 'testthat.R'
OK
* checking for unstated dependencies in vignettes ... OK
* checking package vignettes in 'inst/doc' ... OK
* checking running R code from vignettes ... SKIPPED
* checking re-building of vignette outputs ... SKIPPED
* checking PDF version of manual ... OK
* DONE
Status: 4 NOTEs
See
'F:/biocbuild/bbs-3.16-bioc/meat/omada.Rcheck/00check.log'
for details.
omada.Rcheck/00install.out
############################################################################## ############################################################################## ### ### Running command: ### ### F:\biocbuild\bbs-3.16-bioc\R\bin\R.exe CMD INSTALL omada ### ############################################################################## ############################################################################## * installing to library 'F:/biocbuild/bbs-3.16-bioc/R/library' * installing *source* package 'omada' ... ** using staged installation ** R ** data *** moving datasets to lazyload DB ** inst ** byte-compile and prepare package for lazy loading ** help *** installing help indices ** building package indices ** installing vignettes ** testing if installed package can be loaded from temporary location ** testing if installed package can be loaded from final location ** testing if installed package keeps a record of temporary installation path * DONE (omada)
omada.Rcheck/tests/testthat.Rout
R version 4.2.2 (2022-10-31 ucrt) -- "Innocent and Trusting"
Copyright (C) 2022 The R Foundation for Statistical Computing
Platform: x86_64-w64-mingw32/x64 (64-bit)
R is free software and comes with ABSOLUTELY NO WARRANTY.
You are welcome to redistribute it under certain conditions.
Type 'license()' or 'licence()' for distribution details.
R is a collaborative project with many contributors.
Type 'contributors()' for more information and
'citation()' on how to cite R or R packages in publications.
Type 'demo()' for some demos, 'help()' for on-line help, or
'help.start()' for an HTML browser interface to help.
Type 'q()' to quit R.
> library(testthat)
> library(omada)
Loading required package: pdfCluster
pdfCluster 1.0-4
Loading required package: kernlab
Loading required package: fpc
Loading required package: Rcpp
Loading required package: diceR
Loading required package: ggplot2
Attaching package: 'ggplot2'
The following object is masked from 'package:kernlab':
alpha
Loading required package: reshape
Loading required package: clusterCrit
Loading required package: clValid
Loading required package: cluster
Loading required package: glmnet
Loading required package: Matrix
Attaching package: 'Matrix'
The following object is masked from 'package:reshape':
expand
Loaded glmnet 4.1-6
Loading required package: dplyr
Attaching package: 'dplyr'
The following object is masked from 'package:reshape':
rename
The following object is masked from 'package:pdfCluster':
groups
The following object is masked from 'package:testthat':
matches
The following objects are masked from 'package:stats':
filter, lag
The following objects are masked from 'package:base':
intersect, setdiff, setequal, union
>
> test_check("omada")
[ FAIL 0 | WARN 1 | SKIP 0 | PASS 39 ]
[ FAIL 0 | WARN 1 | SKIP 0 | PASS 39 ]
>
> proc.time()
user system elapsed
71.95 1.34 73.37
omada.Rcheck/omada-Ex.timings
| name | user | system | elapsed | |
| clusterVoting | 1.98 | 0.13 | 2.12 | |
| clusteringMethodSelection | 1.42 | 0.12 | 1.55 | |
| feasibilityAnalysis | 1.48 | 0.02 | 1.50 | |
| feasibilityAnalysisDataBased | 2.55 | 0.17 | 2.72 | |
| featureSelection | 7.75 | 0.16 | 7.90 | |
| geneSignatures | 0.81 | 0.03 | 0.85 | |
| get_agreement_scores | 0.17 | 0.00 | 0.17 | |
| get_average_feature_k_stabilities | 5.03 | 0.05 | 5.08 | |
| get_average_stabilities_per_k | 0.86 | 0.03 | 0.89 | |
| get_average_stability | 0.89 | 0.00 | 0.89 | |
| get_cluster_memberships_k | 0.29 | 0.02 | 0.30 | |
| get_cluster_voting_k_votes | 29.06 | 0.22 | 29.30 | |
| get_cluster_voting_memberships | 29.89 | 0.28 | 30.17 | |
| get_cluster_voting_metric_votes | 27.30 | 0.19 | 27.51 | |
| get_cluster_voting_scores | 28.85 | 0.14 | 29.00 | |
| get_coefficient_dataset | 0.41 | 0.04 | 0.46 | |
| get_feature_selection_optimal_features | 29.88 | 0.21 | 30.07 | |
| get_feature_selection_optimal_number_of_features | 39.04 | 0.28 | 39.33 | |
| get_feature_selection_scores | 43.63 | 0.23 | 43.86 | |
| get_generated_dataset | 3.44 | 0.00 | 3.44 | |
| get_internal_metric_scores | 0.25 | 0.00 | 0.25 | |
| get_max_stability | 1.03 | 0.02 | 1.05 | |
| get_metric_votes_k | 0.56 | 0.00 | 0.56 | |
| get_optimal_features | 10.2 | 0.0 | 10.2 | |
| get_optimal_memberships | 8.39 | 0.06 | 8.46 | |
| get_optimal_number_of_features | 10.53 | 0.13 | 10.65 | |
| get_optimal_parameter_used | 8.89 | 0.01 | 8.91 | |
| get_optimal_stability_score | 8.11 | 0.02 | 8.12 | |
| get_partition_agreement_scores | 31.04 | 0.22 | 31.25 | |
| get_sample_memberships | 27.39 | 0.21 | 27.69 | |
| get_signature_feature_coefs | 27.89 | 0.21 | 28.11 | |
| get_vote_frequencies_k | 0.25 | 0.00 | 0.25 | |
| omada | 20.89 | 0.18 | 21.08 | |
| optimalClustering | 0.09 | 0.00 | 0.09 | |
| partitionAgreement | 0.3 | 0.0 | 0.3 | |
| plot_average_stabilities | 8.97 | 0.07 | 9.03 | |
| plot_cluster_voting | 21.86 | 0.14 | 22.00 | |
| plot_feature_selection | 27.76 | 0.20 | 27.97 | |
| plot_partition_agreement | 26.45 | 0.11 | 26.61 | |
| plot_signature_feature | 25.94 | 0.13 | 26.08 | |
| plot_top30percent_coefficients | 0.73 | 0.01 | 0.75 | |
| plot_vote_frequencies | 0.55 | 0.00 | 0.55 | |
| toy_gene_memberships | 0.01 | 0.02 | 0.05 | |
| toy_genes | 0 | 0 | 0 | |