| Back to Multiple platform build/check report for BioC 3.16: simplified long |
|
This page was generated on 2023-04-12 11:05:42 -0400 (Wed, 12 Apr 2023).
| Hostname | OS | Arch (*) | R version | Installed pkgs |
|---|---|---|---|---|
| nebbiolo2 | Linux (Ubuntu 20.04.5 LTS) | x86_64 | 4.2.3 (2023-03-15) -- "Shortstop Beagle" | 4502 |
| palomino4 | Windows Server 2022 Datacenter | x64 | 4.2.3 (2023-03-15 ucrt) -- "Shortstop Beagle" | 4282 |
| lconway | macOS 12.5.1 Monterey | x86_64 | 4.2.3 (2023-03-15) -- "Shortstop Beagle" | 4310 |
| Click on any hostname to see more info about the system (e.g. compilers) (*) as reported by 'uname -p', except on Windows and Mac OS X | ||||
|
To the developers/maintainers of the muscat package: - Please allow up to 24 hours (and sometimes 48 hours) for your latest push to git@git.bioconductor.org:packages/muscat.git to reflect on this report. See How and When does the builder pull? When will my changes propagate? for more information. - Make sure to use the following settings in order to reproduce any error or warning you see on this page. |
| Package 1310/2183 | Hostname | OS / Arch | INSTALL | BUILD | CHECK | BUILD BIN | ||||||||
| muscat 1.12.1 (landing page) Helena L. Crowell
| nebbiolo2 | Linux (Ubuntu 20.04.5 LTS) / x86_64 | OK | OK | OK | |||||||||
| palomino4 | Windows Server 2022 Datacenter / x64 | OK | OK | ERROR | OK | |||||||||
| lconway | macOS 12.5.1 Monterey / x86_64 | OK | ERROR | skipped | skipped | |||||||||
| Package: muscat |
| Version: 1.12.1 |
| Command: F:\biocbuild\bbs-3.16-bioc\R\bin\R.exe CMD check --no-multiarch --install=check:muscat.install-out.txt --library=F:\biocbuild\bbs-3.16-bioc\R\library --no-vignettes --timings muscat_1.12.1.tar.gz |
| StartedAt: 2023-04-11 03:48:39 -0400 (Tue, 11 Apr 2023) |
| EndedAt: 2023-04-11 03:55:57 -0400 (Tue, 11 Apr 2023) |
| EllapsedTime: 438.0 seconds |
| RetCode: 1 |
| Status: ERROR |
| CheckDir: muscat.Rcheck |
| Warnings: NA |
##############################################################################
##############################################################################
###
### Running command:
###
### F:\biocbuild\bbs-3.16-bioc\R\bin\R.exe CMD check --no-multiarch --install=check:muscat.install-out.txt --library=F:\biocbuild\bbs-3.16-bioc\R\library --no-vignettes --timings muscat_1.12.1.tar.gz
###
##############################################################################
##############################################################################
* using log directory 'F:/biocbuild/bbs-3.16-bioc/meat/muscat.Rcheck'
* using R version 4.2.3 (2023-03-15 ucrt)
* using platform: x86_64-w64-mingw32 (64-bit)
* using session charset: UTF-8
* using option '--no-vignettes'
* checking for file 'muscat/DESCRIPTION' ... OK
* checking extension type ... Package
* this is package 'muscat' version '1.12.1'
* package encoding: UTF-8
* checking package namespace information ... OK
* checking package dependencies ... OK
* checking if this is a source package ... OK
* checking if there is a namespace ... OK
* checking for hidden files and directories ... OK
* checking for portable file names ... OK
* checking whether package 'muscat' can be installed ... OK
* checking installed package size ... OK
* checking package directory ... OK
* checking 'build' directory ... OK
* checking DESCRIPTION meta-information ... OK
* checking top-level files ... OK
* checking for left-over files ... OK
* checking index information ... OK
* checking package subdirectories ... OK
* checking R files for non-ASCII characters ... OK
* checking R files for syntax errors ... OK
* checking whether the package can be loaded ... OK
* checking whether the package can be loaded with stated dependencies ... OK
* checking whether the package can be unloaded cleanly ... OK
* checking whether the namespace can be loaded with stated dependencies ... OK
* checking whether the namespace can be unloaded cleanly ... OK
* checking dependencies in R code ... OK
* checking S3 generic/method consistency ... OK
* checking replacement functions ... OK
* checking foreign function calls ... OK
* checking R code for possible problems ... NOTE
pbHeatmap: no visible binding for global variable 'gene'
pbHeatmap: no visible binding for global variable 'p_adj.loc'
pbHeatmap: no visible binding for global variable 'logFC'
Undefined global functions or variables:
gene logFC p_adj.loc
* checking Rd files ... OK
* checking Rd metadata ... OK
* checking Rd cross-references ... OK
* checking for missing documentation entries ... OK
* checking for code/documentation mismatches ... OK
* checking Rd \usage sections ... OK
* checking Rd contents ... OK
* checking for unstated dependencies in examples ... OK
* checking contents of 'data' directory ... OK
* checking data for non-ASCII characters ... OK
* checking data for ASCII and uncompressed saves ... OK
* checking files in 'vignettes' ... OK
* checking examples ... OK
Examples with CPU (user + system) or elapsed time > 5s
user system elapsed
simData 13.72 0.07 13.83
prepSim 10.25 0.10 10.36
mmDS 8.41 0.18 8.59
pbHeatmap 6.49 0.08 6.55
* checking for unstated dependencies in 'tests' ... OK
* checking tests ...
Running 'testthat.R'
ERROR
Running the tests in 'tests/testthat.R' failed.
Last 13 lines of output:
`expected`: TRUE
── Failure ('test-pbDS.R:72:13'): pbDS.limma-trend ─────────────────────────────
all(unlist(map(top, setequal, degs))) is not TRUE
`actual`: FALSE
`expected`: TRUE
── Failure ('test-pbDS.R:72:13'): pbDS.limma-trend ─────────────────────────────
all(unlist(map(top, setequal, degs))) is not TRUE
`actual`: FALSE
`expected`: TRUE
[ FAIL 3 | WARN 1 | SKIP 0 | PASS 548 ]
Error: Test failures
Execution halted
* checking for unstated dependencies in vignettes ... OK
* checking package vignettes in 'inst/doc' ... OK
* checking running R code from vignettes ... SKIPPED
* checking re-building of vignette outputs ... SKIPPED
* checking PDF version of manual ... OK
* DONE
Status: 1 ERROR, 1 NOTE
See
'F:/biocbuild/bbs-3.16-bioc/meat/muscat.Rcheck/00check.log'
for details.
muscat.Rcheck/00install.out
##############################################################################
##############################################################################
###
### Running command:
###
### F:\biocbuild\bbs-3.16-bioc\R\bin\R.exe CMD INSTALL muscat
###
##############################################################################
##############################################################################
* installing to library 'F:/biocbuild/bbs-3.16-bioc/R/library'
* installing *source* package 'muscat' ...
** using staged installation
** R
** data
** inst
** byte-compile and prepare package for lazy loading
Warning in checkMatrixPackageVersion() :
Package version inconsistency detected.
TMB was built with Matrix version 1.5.3
Current Matrix version is 1.5.4
Please re-install 'TMB' from source using install.packages('TMB', type = 'source') or ask CRAN for a binary version of 'TMB' matching CRAN's 'Matrix' package
** help
*** installing help indices
** building package indices
** installing vignettes
** testing if installed package can be loaded from temporary location
Warning in checkMatrixPackageVersion() :
Package version inconsistency detected.
TMB was built with Matrix version 1.5.3
Current Matrix version is 1.5.4
Please re-install 'TMB' from source using install.packages('TMB', type = 'source') or ask CRAN for a binary version of 'TMB' matching CRAN's 'Matrix' package
** testing if installed package can be loaded from final location
Warning in checkMatrixPackageVersion() :
Package version inconsistency detected.
TMB was built with Matrix version 1.5.3
Current Matrix version is 1.5.4
Please re-install 'TMB' from source using install.packages('TMB', type = 'source') or ask CRAN for a binary version of 'TMB' matching CRAN's 'Matrix' package
** testing if installed package keeps a record of temporary installation path
* DONE (muscat)
muscat.Rcheck/tests/testthat.Rout.fail
R version 4.2.3 (2023-03-15 ucrt) -- "Shortstop Beagle"
Copyright (C) 2023 The R Foundation for Statistical Computing
Platform: x86_64-w64-mingw32/x64 (64-bit)
R is free software and comes with ABSOLUTELY NO WARRANTY.
You are welcome to redistribute it under certain conditions.
Type 'license()' or 'licence()' for distribution details.
R is a collaborative project with many contributors.
Type 'contributors()' for more information and
'citation()' on how to cite R or R packages in publications.
Type 'demo()' for some demos, 'help()' for on-line help, or
'help.start()' for an HTML browser interface to help.
Type 'q()' to quit R.
> library(testthat)
> library(muscat)
Warning message:
In checkMatrixPackageVersion() : Package version inconsistency detected.
TMB was built with Matrix version 1.5.3
Current Matrix version is 1.5.4
Please re-install 'TMB' from source using install.packages('TMB', type = 'source') or ask CRAN for a binary version of 'TMB' matching CRAN's 'Matrix' package
>
> test_check("muscat")
[ FAIL 3 | WARN 1 | SKIP 0 | PASS 548 ]
══ Failed tests ════════════════════════════════════════════════════════════════
── Failure ('test-pbDS.R:45:9'): defaults - pbDS.limma-trend ───────────────────
all(vapply(top, setequal, y = degs, logical(1))) is not TRUE
`actual`: FALSE
`expected`: TRUE
── Failure ('test-pbDS.R:72:13'): pbDS.limma-trend ─────────────────────────────
all(unlist(map(top, setequal, degs))) is not TRUE
`actual`: FALSE
`expected`: TRUE
── Failure ('test-pbDS.R:72:13'): pbDS.limma-trend ─────────────────────────────
all(unlist(map(top, setequal, degs))) is not TRUE
`actual`: FALSE
`expected`: TRUE
[ FAIL 3 | WARN 1 | SKIP 0 | PASS 548 ]
Error: Test failures
Execution halted
muscat.Rcheck/muscat-Ex.timings
| name | user | system | elapsed | |
| aggregateData | 3.61 | 0.06 | 3.67 | |
| calcExprFreqs | 0.53 | 0.05 | 0.57 | |
| data | 0 | 0 | 0 | |
| mmDS | 8.41 | 0.18 | 8.59 | |
| pbDS | 2.39 | 0.00 | 2.39 | |
| pbFlatten | 0.89 | 0.02 | 0.91 | |
| pbHeatmap | 6.49 | 0.08 | 6.55 | |
| pbMDS | 0.76 | 0.04 | 0.81 | |
| prepSCE | 0.72 | 0.00 | 0.72 | |
| prepSim | 10.25 | 0.10 | 10.36 | |
| resDS | 2.81 | 0.08 | 2.89 | |
| simData | 13.72 | 0.07 | 13.83 | |