| Back to Multiple platform build/check report for BioC 3.16: simplified long |
|
This page was generated on 2023-04-12 11:05:39 -0400 (Wed, 12 Apr 2023).
| Hostname | OS | Arch (*) | R version | Installed pkgs |
|---|---|---|---|---|
| nebbiolo2 | Linux (Ubuntu 20.04.5 LTS) | x86_64 | 4.2.3 (2023-03-15) -- "Shortstop Beagle" | 4502 |
| palomino4 | Windows Server 2022 Datacenter | x64 | 4.2.3 (2023-03-15 ucrt) -- "Shortstop Beagle" | 4282 |
| lconway | macOS 12.5.1 Monterey | x86_64 | 4.2.3 (2023-03-15) -- "Shortstop Beagle" | 4310 |
| Click on any hostname to see more info about the system (e.g. compilers) (*) as reported by 'uname -p', except on Windows and Mac OS X | ||||
|
To the developers/maintainers of the memes package: - Please allow up to 24 hours (and sometimes 48 hours) for your latest push to git@git.bioconductor.org:packages/memes.git to reflect on this report. See How and When does the builder pull? When will my changes propagate? for more information. - Make sure to use the following settings in order to reproduce any error or warning you see on this page. |
| Package 1131/2183 | Hostname | OS / Arch | INSTALL | BUILD | CHECK | BUILD BIN | ||||||||
| memes 1.6.0 (landing page) Spencer Nystrom
| nebbiolo2 | Linux (Ubuntu 20.04.5 LTS) / x86_64 | OK | OK | OK | |||||||||
| palomino4 | Windows Server 2022 Datacenter / x64 | OK | OK | OK | OK | |||||||||
| lconway | macOS 12.5.1 Monterey / x86_64 | OK | OK | OK | OK | |||||||||
| Package: memes |
| Version: 1.6.0 |
| Command: F:\biocbuild\bbs-3.16-bioc\R\bin\R.exe CMD check --no-multiarch --install=check:memes.install-out.txt --library=F:\biocbuild\bbs-3.16-bioc\R\library --no-vignettes --timings memes_1.6.0.tar.gz |
| StartedAt: 2023-04-11 03:04:10 -0400 (Tue, 11 Apr 2023) |
| EndedAt: 2023-04-11 03:06:22 -0400 (Tue, 11 Apr 2023) |
| EllapsedTime: 131.4 seconds |
| RetCode: 0 |
| Status: OK |
| CheckDir: memes.Rcheck |
| Warnings: 0 |
##############################################################################
##############################################################################
###
### Running command:
###
### F:\biocbuild\bbs-3.16-bioc\R\bin\R.exe CMD check --no-multiarch --install=check:memes.install-out.txt --library=F:\biocbuild\bbs-3.16-bioc\R\library --no-vignettes --timings memes_1.6.0.tar.gz
###
##############################################################################
##############################################################################
* using log directory 'F:/biocbuild/bbs-3.16-bioc/meat/memes.Rcheck'
* using R version 4.2.3 (2023-03-15 ucrt)
* using platform: x86_64-w64-mingw32 (64-bit)
* using session charset: UTF-8
* using option '--no-vignettes'
* checking for file 'memes/DESCRIPTION' ... OK
* checking extension type ... Package
* this is package 'memes' version '1.6.0'
* package encoding: UTF-8
* checking package namespace information ... OK
* checking package dependencies ... OK
* checking if this is a source package ... OK
* checking if there is a namespace ... OK
* checking for hidden files and directories ... OK
* checking for portable file names ... OK
* checking whether package 'memes' can be installed ... OK
* checking installed package size ... OK
* checking package directory ... OK
* checking 'build' directory ... OK
* checking DESCRIPTION meta-information ... OK
* checking top-level files ... OK
* checking for left-over files ... OK
* checking index information ... OK
* checking package subdirectories ... OK
* checking R files for non-ASCII characters ... OK
* checking R files for syntax errors ... OK
* checking whether the package can be loaded ... OK
* checking whether the package can be loaded with stated dependencies ... OK
* checking whether the package can be unloaded cleanly ... OK
* checking whether the namespace can be loaded with stated dependencies ... OK
* checking whether the namespace can be unloaded cleanly ... OK
* checking dependencies in R code ... OK
* checking S3 generic/method consistency ... OK
* checking replacement functions ... OK
* checking foreign function calls ... OK
* checking R code for possible problems ... OK
* checking Rd files ... OK
* checking Rd metadata ... OK
* checking Rd cross-references ... OK
* checking for missing documentation entries ... OK
* checking for code/documentation mismatches ... OK
* checking Rd \usage sections ... OK
* checking Rd contents ... OK
* checking for unstated dependencies in examples ... OK
* checking contents of 'data' directory ... OK
* checking data for non-ASCII characters ... OK
* checking LazyData ... OK
* checking data for ASCII and uncompressed saves ... OK
* checking files in 'vignettes' ... OK
* checking examples ... OK
Examples with CPU (user + system) or elapsed time > 5s
user system elapsed
add_sequence 6.9 0.24 7.14
* checking for unstated dependencies in vignettes ... OK
* checking package vignettes in 'inst/doc' ... OK
* checking running R code from vignettes ... SKIPPED
* checking re-building of vignette outputs ... SKIPPED
* checking PDF version of manual ... OK
* DONE
Status: OK
memes.Rcheck/00install.out
############################################################################## ############################################################################## ### ### Running command: ### ### F:\biocbuild\bbs-3.16-bioc\R\bin\R.exe CMD INSTALL memes ### ############################################################################## ############################################################################## * installing to library 'F:/biocbuild/bbs-3.16-bioc/R/library' * installing *source* package 'memes' ... ** using staged installation ** R ** data *** moving datasets to lazyload DB ** inst ** byte-compile and prepare package for lazy loading ** help *** installing help indices *** copying figures ** building package indices ** installing vignettes ** testing if installed package can be loaded from temporary location ** testing if installed package can be loaded from final location ** testing if installed package keeps a record of temporary installation path * DONE (memes)
memes.Rcheck/memes-Ex.timings
| name | user | system | elapsed | |
| add_sequence | 6.90 | 0.24 | 7.14 | |
| ame_compare_heatmap_methods | 0.97 | 0.11 | 1.08 | |
| check_meme_install | 0.42 | 0.07 | 0.51 | |
| drop_best_match | 0 | 0 | 0 | |
| example_ame | 0.07 | 0.00 | 0.06 | |
| example_ame_large | 0.04 | 0.00 | 0.05 | |
| force_best_match | 0.05 | 0.00 | 0.04 | |
| get_sequence | 0.36 | 0.03 | 0.41 | |
| has_duplicate_motifs | 0.17 | 0.02 | 0.19 | |
| importAme | 0.25 | 0.06 | 0.28 | |
| importDremeXML | 0.24 | 0.00 | 0.23 | |
| importFimo | 0.10 | 0.03 | 0.11 | |
| importMeme | 0.25 | 0.02 | 0.28 | |
| importStremeXML | 0.18 | 0.01 | 0.19 | |
| importTomTomXML | 0.40 | 0.00 | 0.41 | |
| meme_is_installed | 0.05 | 0.00 | 0.05 | |
| nest_tomtom | 0.05 | 0.00 | 0.05 | |
| plot_ame_heatmap | 0.37 | 0.01 | 0.39 | |
| plot_sequence_heatmap | 3.19 | 0.08 | 3.31 | |
| remove_duplicate_motifs | 0.01 | 0.00 | 0.02 | |
| runAme | 0.05 | 0.00 | 0.04 | |
| runDreme | 0.05 | 0.02 | 0.06 | |
| runFimo | 0.06 | 0.00 | 0.07 | |
| runMeme | 0.06 | 0.00 | 0.06 | |
| runTomTom | 0.08 | 0.00 | 0.08 | |
| update_best_match | 0.16 | 0.00 | 0.15 | |
| view_tomtom_hits | 1.09 | 0.00 | 1.10 | |
| write_fasta | 0 | 0 | 0 | |