| Back to Multiple platform build/check report for BioC 3.16: simplified long |
|
This page was generated on 2023-04-12 11:05:30 -0400 (Wed, 12 Apr 2023).
| Hostname | OS | Arch (*) | R version | Installed pkgs |
|---|---|---|---|---|
| nebbiolo2 | Linux (Ubuntu 20.04.5 LTS) | x86_64 | 4.2.3 (2023-03-15) -- "Shortstop Beagle" | 4502 |
| palomino4 | Windows Server 2022 Datacenter | x64 | 4.2.3 (2023-03-15 ucrt) -- "Shortstop Beagle" | 4282 |
| lconway | macOS 12.5.1 Monterey | x86_64 | 4.2.3 (2023-03-15) -- "Shortstop Beagle" | 4310 |
| Click on any hostname to see more info about the system (e.g. compilers) (*) as reported by 'uname -p', except on Windows and Mac OS X | ||||
|
To the developers/maintainers of the cyanoFilter package: - Please allow up to 24 hours (and sometimes 48 hours) for your latest push to git@git.bioconductor.org:packages/cyanoFilter.git to reflect on this report. See How and When does the builder pull? When will my changes propagate? for more information. - Make sure to use the following settings in order to reproduce any error or warning you see on this page. |
| Package 459/2183 | Hostname | OS / Arch | INSTALL | BUILD | CHECK | BUILD BIN | ||||||||
| cyanoFilter 1.6.0 (landing page) Oluwafemi Olusoji
| nebbiolo2 | Linux (Ubuntu 20.04.5 LTS) / x86_64 | OK | OK | OK | |||||||||
| palomino4 | Windows Server 2022 Datacenter / x64 | OK | OK | OK | OK | |||||||||
| lconway | macOS 12.5.1 Monterey / x86_64 | OK | OK | OK | OK | |||||||||
| Package: cyanoFilter |
| Version: 1.6.0 |
| Command: F:\biocbuild\bbs-3.16-bioc\R\bin\R.exe CMD check --no-multiarch --install=check:cyanoFilter.install-out.txt --library=F:\biocbuild\bbs-3.16-bioc\R\library --no-vignettes --timings cyanoFilter_1.6.0.tar.gz |
| StartedAt: 2023-04-11 00:31:32 -0400 (Tue, 11 Apr 2023) |
| EndedAt: 2023-04-11 00:33:18 -0400 (Tue, 11 Apr 2023) |
| EllapsedTime: 105.6 seconds |
| RetCode: 0 |
| Status: OK |
| CheckDir: cyanoFilter.Rcheck |
| Warnings: 0 |
##############################################################################
##############################################################################
###
### Running command:
###
### F:\biocbuild\bbs-3.16-bioc\R\bin\R.exe CMD check --no-multiarch --install=check:cyanoFilter.install-out.txt --library=F:\biocbuild\bbs-3.16-bioc\R\library --no-vignettes --timings cyanoFilter_1.6.0.tar.gz
###
##############################################################################
##############################################################################
* using log directory 'F:/biocbuild/bbs-3.16-bioc/meat/cyanoFilter.Rcheck'
* using R version 4.2.3 (2023-03-15 ucrt)
* using platform: x86_64-w64-mingw32 (64-bit)
* using session charset: UTF-8
* using option '--no-vignettes'
* checking for file 'cyanoFilter/DESCRIPTION' ... OK
* checking extension type ... Package
* this is package 'cyanoFilter' version '1.6.0'
* package encoding: UTF-8
* checking package namespace information ... OK
* checking package dependencies ... OK
* checking if this is a source package ... OK
* checking if there is a namespace ... OK
* checking for hidden files and directories ... OK
* checking for portable file names ... OK
* checking whether package 'cyanoFilter' can be installed ... OK
* checking installed package size ... OK
* checking package directory ... OK
* checking 'build' directory ... OK
* checking DESCRIPTION meta-information ... OK
* checking top-level files ... OK
* checking for left-over files ... OK
* checking index information ... OK
* checking package subdirectories ... OK
* checking R files for non-ASCII characters ... OK
* checking R files for syntax errors ... OK
* checking whether the package can be loaded ... OK
* checking whether the package can be loaded with stated dependencies ... OK
* checking whether the package can be unloaded cleanly ... OK
* checking whether the namespace can be loaded with stated dependencies ... OK
* checking whether the namespace can be unloaded cleanly ... OK
* checking dependencies in R code ... OK
* checking S3 generic/method consistency ... OK
* checking replacement functions ... OK
* checking foreign function calls ... OK
* checking R code for possible problems ... OK
* checking Rd files ... OK
* checking Rd metadata ... OK
* checking Rd cross-references ... OK
* checking for missing documentation entries ... OK
* checking for code/documentation mismatches ... OK
* checking Rd \usage sections ... OK
* checking Rd contents ... OK
* checking for unstated dependencies in examples ... OK
* checking files in 'vignettes' ... OK
* checking examples ... OK
Examples with CPU (user + system) or elapsed time > 5s
user system elapsed
gateFunc 10.55 0.08 10.72
* checking for unstated dependencies in vignettes ... OK
* checking package vignettes in 'inst/doc' ... OK
* checking running R code from vignettes ... SKIPPED
* checking re-building of vignette outputs ... SKIPPED
* checking PDF version of manual ... OK
* DONE
Status: OK
cyanoFilter.Rcheck/00install.out
############################################################################## ############################################################################## ### ### Running command: ### ### F:\biocbuild\bbs-3.16-bioc\R\bin\R.exe CMD INSTALL cyanoFilter ### ############################################################################## ############################################################################## * installing to library 'F:/biocbuild/bbs-3.16-bioc/R/library' * installing *source* package 'cyanoFilter' ... ** using staged installation ** R ** inst ** byte-compile and prepare package for lazy loading ** help *** installing help indices ** building package indices ** installing vignettes ** testing if installed package can be loaded from temporary location ** testing if installed package can be loaded from final location ** testing if installed package keeps a record of temporary installation path * DONE (cyanoFilter)
cyanoFilter.Rcheck/cyanoFilter-Ex.timings
| name | user | system | elapsed | |
| MarginEvents | 2.47 | 0.13 | 2.65 | |
| PhytoFilter | 1.03 | 0.08 | 1.19 | |
| PhytopFilter | 0.80 | 0.09 | 1.07 | |
| accTest | 0.50 | 0.00 | 0.61 | |
| accuracy | 0.40 | 0.08 | 0.48 | |
| cellmargin | 0.74 | 0.01 | 0.81 | |
| clusterExtract | 0.89 | 0.02 | 1.00 | |
| clusterExtractp | 0.78 | 0.09 | 1.00 | |
| debrisNc | 0.44 | 0.01 | 0.52 | |
| fullFlowframe-MarginEvents-method | 0.29 | 0.04 | 0.37 | |
| fullFlowframe-PhytopFilter-method | 0.61 | 0.07 | 0.77 | |
| fullFlowframe | 0.33 | 0.05 | 0.42 | |
| gateFunc | 10.55 | 0.08 | 10.72 | |
| ggpairsDens | 2.87 | 0.17 | 3.11 | |
| ggplotDens | 0.58 | 0.02 | 0.62 | |
| ggplotDens2 | 0.86 | 0.07 | 1.00 | |
| goodfcs | 0.05 | 0.00 | 0.05 | |
| is.DebrisFilter | 0 | 0 | 0 | |
| is.MarginEvents | 0 | 0 | 0 | |
| is.PhytopFilter | 0 | 0 | 0 | |
| is.flowFrame | 0 | 0 | 0 | |
| is.flowSet | 0 | 0 | 0 | |
| lnTrans | 0.21 | 0.02 | 0.27 | |
| newFlowframe | 0.25 | 0.05 | 0.33 | |
| nona | 0.07 | 0.03 | 0.12 | |
| noneg | 0.14 | 0.03 | 0.21 | |
| oneDgate | 0.66 | 0.03 | 0.73 | |
| pairsPlot | 1.59 | 0.16 | 1.80 | |
| pigmentGate | 0.32 | 0.06 | 0.39 | |
| reducedFlowframe-MarginEvents-method | 0.42 | 0.00 | 0.48 | |
| reducedFlowframe | 0.34 | 0.06 | 0.47 | |
| retain | 0.02 | 0.00 | 0.02 | |
| rowNumbers | 0.25 | 0.02 | 0.30 | |
| summaries-DebrisFilter-method | 0.29 | 0.07 | 0.41 | |
| summaries-MarginEvents-method | 0.31 | 0.04 | 0.39 | |
| summaries-PhytopFilter-method | 0.64 | 0.07 | 0.80 | |
| summaries | 0.28 | 0.07 | 0.39 | |