| Back to Multiple platform build/check report for BioC 3.16: simplified long |
|
This page was generated on 2023-04-12 11:05:29 -0400 (Wed, 12 Apr 2023).
| Hostname | OS | Arch (*) | R version | Installed pkgs |
|---|---|---|---|---|
| nebbiolo2 | Linux (Ubuntu 20.04.5 LTS) | x86_64 | 4.2.3 (2023-03-15) -- "Shortstop Beagle" | 4502 |
| palomino4 | Windows Server 2022 Datacenter | x64 | 4.2.3 (2023-03-15 ucrt) -- "Shortstop Beagle" | 4282 |
| lconway | macOS 12.5.1 Monterey | x86_64 | 4.2.3 (2023-03-15) -- "Shortstop Beagle" | 4310 |
| Click on any hostname to see more info about the system (e.g. compilers) (*) as reported by 'uname -p', except on Windows and Mac OS X | ||||
|
To the developers/maintainers of the crlmm package: - Please allow up to 24 hours (and sometimes 48 hours) for your latest push to git@git.bioconductor.org:packages/crlmm.git to reflect on this report. See How and When does the builder pull? When will my changes propagate? for more information. - Make sure to use the following settings in order to reproduce any error or warning you see on this page. |
| Package 443/2183 | Hostname | OS / Arch | INSTALL | BUILD | CHECK | BUILD BIN | ||||||||
| crlmm 1.56.0 (landing page) Benilton S Carvalho
| nebbiolo2 | Linux (Ubuntu 20.04.5 LTS) / x86_64 | OK | OK | OK | |||||||||
| palomino4 | Windows Server 2022 Datacenter / x64 | OK | OK | OK | OK | |||||||||
| lconway | macOS 12.5.1 Monterey / x86_64 | OK | OK | OK | OK | |||||||||
| Package: crlmm |
| Version: 1.56.0 |
| Command: F:\biocbuild\bbs-3.16-bioc\R\bin\R.exe CMD check --no-multiarch --install=check:crlmm.install-out.txt --library=F:\biocbuild\bbs-3.16-bioc\R\library --no-vignettes --timings crlmm_1.56.0.tar.gz |
| StartedAt: 2023-04-11 00:27:30 -0400 (Tue, 11 Apr 2023) |
| EndedAt: 2023-04-11 00:37:10 -0400 (Tue, 11 Apr 2023) |
| EllapsedTime: 580.6 seconds |
| RetCode: 0 |
| Status: OK |
| CheckDir: crlmm.Rcheck |
| Warnings: 0 |
##############################################################################
##############################################################################
###
### Running command:
###
### F:\biocbuild\bbs-3.16-bioc\R\bin\R.exe CMD check --no-multiarch --install=check:crlmm.install-out.txt --library=F:\biocbuild\bbs-3.16-bioc\R\library --no-vignettes --timings crlmm_1.56.0.tar.gz
###
##############################################################################
##############################################################################
* using log directory 'F:/biocbuild/bbs-3.16-bioc/meat/crlmm.Rcheck'
* using R version 4.2.3 (2023-03-15 ucrt)
* using platform: x86_64-w64-mingw32 (64-bit)
* using session charset: UTF-8
* using option '--no-vignettes'
* checking for file 'crlmm/DESCRIPTION' ... OK
* checking extension type ... Package
* this is package 'crlmm' version '1.56.0'
* checking package namespace information ... OK
* checking package dependencies ... OK
* checking if this is a source package ... OK
* checking if there is a namespace ... OK
* checking for hidden files and directories ... OK
* checking for portable file names ... OK
* checking whether package 'crlmm' can be installed ... OK
* checking installed package size ... OK
* checking package directory ... OK
* checking 'build' directory ... OK
* checking DESCRIPTION meta-information ... NOTE
Versioned 'LinkingTo' value for 'preprocessCore' is only usable in R >= 3.0.2
* checking top-level files ... OK
* checking for left-over files ... OK
* checking index information ... OK
* checking package subdirectories ... OK
* checking R files for non-ASCII characters ... OK
* checking R files for syntax errors ... OK
* checking whether the package can be loaded ... OK
* checking whether the package can be loaded with stated dependencies ... OK
* checking whether the package can be unloaded cleanly ... OK
* checking whether the namespace can be loaded with stated dependencies ... OK
* checking whether the namespace can be unloaded cleanly ... OK
* checking dependencies in R code ... NOTE
'library' or 'require' call to 'RUnit' in package code.
Please use :: or requireNamespace() instead.
See section 'Suggested packages' in the 'Writing R Extensions' manual.
Namespace in Imports field not imported from: 'splines'
All declared Imports should be used.
Unexported object imported by a ':::' call: 'Biobase:::assayDataEnvLock'
See the note in ?`:::` about the use of this operator.
* checking S3 generic/method consistency ... OK
* checking replacement functions ... OK
* checking foreign function calls ... OK
* checking R code for possible problems ... NOTE
.test: no visible global function definition for 'defineTestSuite'
.test: no visible global function definition for 'runTestSuite'
.test: no visible global function definition for 'printTextProtocol'
calculateRBafCNSet : processByChromosome: no visible global function
definition for 'position'
genotypeInf: no visible binding for global variable 'anno'
krlmm: no visible binding for global variable 'VGLMparameters'
Undefined global functions or variables:
VGLMparameters anno defineTestSuite position printTextProtocol
runTestSuite
* checking Rd files ... OK
* checking Rd metadata ... OK
* checking Rd cross-references ... OK
* checking for missing documentation entries ... OK
* checking for code/documentation mismatches ... OK
* checking Rd \usage sections ... OK
* checking Rd contents ... OK
* checking for unstated dependencies in examples ... OK
* checking contents of 'data' directory ... OK
* checking data for non-ASCII characters ... OK
* checking data for ASCII and uncompressed saves ... OK
* checking line endings in C/C++/Fortran sources/headers ... OK
* checking line endings in Makefiles ... OK
* checking for GNU extensions in Makefiles ... OK
* checking include directives in Makefiles ... OK
* checking compiled code ... NOTE
Note: information on .o files for x64 is not available
File 'F:/biocbuild/bbs-3.16-bioc/R/library/crlmm/libs/x64/crlmm.dll':
Found 'abort', possibly from 'abort' (C), 'runtime' (Fortran)
Compiled code should not call entry points which might terminate R nor
write to stdout/stderr instead of to the console, nor use Fortran I/O
nor system RNGs. The detected symbols are linked into the code but
might come from libraries and not actually be called.
See 'Writing portable packages' in the 'Writing R Extensions' manual.
* checking sizes of PDF files under 'inst/doc' ... OK
* checking files in 'vignettes' ... OK
* checking examples ... OK
Examples with CPU (user + system) or elapsed time > 5s
user system elapsed
crlmm 78.73 1.10 81.45
genotype 71.86 1.93 74.50
snprma 15.13 0.45 15.57
* checking for unstated dependencies in 'tests' ... OK
* checking tests ...
Running 'crlmm_unit_tests.R'
Running 'doRUnit.R'
OK
* checking for unstated dependencies in vignettes ... OK
* checking package vignettes in 'inst/doc' ... OK
* checking running R code from vignettes ... SKIPPED
* checking re-building of vignette outputs ... SKIPPED
* checking PDF version of manual ... OK
* DONE
Status: 4 NOTEs
See
'F:/biocbuild/bbs-3.16-bioc/meat/crlmm.Rcheck/00check.log'
for details.
crlmm.Rcheck/00install.out
############################################################################## ############################################################################## ### ### Running command: ### ### F:\biocbuild\bbs-3.16-bioc\R\bin\R.exe CMD INSTALL crlmm ### ############################################################################## ############################################################################## * installing to library 'F:/biocbuild/bbs-3.16-bioc/R/library' * installing *source* package 'crlmm' ... ** using staged installation ** libs gcc -I"F:/biocbuild/bbs-3.16-bioc/R/include" -DNDEBUG -I'F:/biocbuild/bbs-3.16-bioc/R/library/preprocessCore/include' -I"C:/rtools42/x86_64-w64-mingw32.static.posix/include" -O2 -Wall -std=gnu99 -mfpmath=sse -msse2 -mstackrealign -c gtypeCaller.c -o gtypeCaller.o gcc -I"F:/biocbuild/bbs-3.16-bioc/R/include" -DNDEBUG -I'F:/biocbuild/bbs-3.16-bioc/R/library/preprocessCore/include' -I"C:/rtools42/x86_64-w64-mingw32.static.posix/include" -O2 -Wall -std=gnu99 -mfpmath=sse -msse2 -mstackrealign -c init.c -o init.o gcc -I"F:/biocbuild/bbs-3.16-bioc/R/include" -DNDEBUG -I'F:/biocbuild/bbs-3.16-bioc/R/library/preprocessCore/include' -I"C:/rtools42/x86_64-w64-mingw32.static.posix/include" -O2 -Wall -std=gnu99 -mfpmath=sse -msse2 -mstackrealign -c trimmed.c -o trimmed.o gcc -I"F:/biocbuild/bbs-3.16-bioc/R/include" -DNDEBUG -I'F:/biocbuild/bbs-3.16-bioc/R/library/preprocessCore/include' -I"C:/rtools42/x86_64-w64-mingw32.static.posix/include" -O2 -Wall -std=gnu99 -mfpmath=sse -msse2 -mstackrealign -c utils.c -o utils.o gcc -shared -s -static-libgcc -o crlmm.dll tmp.def gtypeCaller.o init.o trimmed.o utils.o -LC:/rtools42/x86_64-w64-mingw32.static.posix/lib/x64 -LC:/rtools42/x86_64-w64-mingw32.static.posix/lib -LF:/biocbuild/bbs-3.16-bioc/R/bin/x64 -lR installing to F:/biocbuild/bbs-3.16-bioc/R/library/00LOCK-crlmm/00new/crlmm/libs/x64 ** R ** data ** inst ** byte-compile and prepare package for lazy loading No methods found in package 'oligoClasses' for request: 'mean' when loading 'crlmm' ** help *** installing help indices ** building package indices ** installing vignettes ** testing if installed package can be loaded from temporary location No methods found in package 'oligoClasses' for request: 'mean' when loading 'crlmm' ** testing if installed package can be loaded from final location No methods found in package 'oligoClasses' for request: 'mean' when loading 'crlmm' ** testing if installed package keeps a record of temporary installation path * DONE (crlmm)
crlmm.Rcheck/tests/crlmm_unit_tests.Rout
R version 4.2.3 (2023-03-15 ucrt) -- "Shortstop Beagle"
Copyright (C) 2023 The R Foundation for Statistical Computing
Platform: x86_64-w64-mingw32/x64 (64-bit)
R is free software and comes with ABSOLUTELY NO WARRANTY.
You are welcome to redistribute it under certain conditions.
Type 'license()' or 'licence()' for distribution details.
R is a collaborative project with many contributors.
Type 'contributors()' for more information and
'citation()' on how to cite R or R packages in publications.
Type 'demo()' for some demos, 'help()' for on-line help, or
'help.start()' for an HTML browser interface to help.
Type 'q()' to quit R.
> require("crlmm") || stop("unable to load crlmm package")
Loading required package: crlmm
Loading required package: oligoClasses
Welcome to oligoClasses version 1.60.0
Loading required package: preprocessCore
No methods found in package 'oligoClasses' for request: 'mean' when loading 'crlmm'
Welcome to crlmm version 1.56.0
[1] TRUE
> crlmm:::.test()
Loading required package: genomewidesnp6Crlmm
Annotation for genomewidesnp6Crlmm version 1.0.7 supports UCSC builds hg18 and hg19.
Loading required package: hapmapsnp6
/-------------------------------------------\
| SAMPLE HAPMAP SNP 6.0 |
|-------------------------------------------|
| Data obtained from http://www.hapmap.org |
| This package is meant to be used only for |
| demonstration of BioConductor packages. |
| Access http://www.hapmap.org for details. |
|-------------------------------------------|
| The contents of this package are provided |
| in good faith and the maintainer does not |
| warrant their accuracy. |
\-------------------------------------------/
Loading annotations and mixture model parameters.
Processing 3 files.
|
| | 0%
|
|======================= | 33%
|
|=============================================== | 67%
|
|======================================================================| 100%
Loading annotations.
Determining gender.
Calling 906600 SNPs for recalibration... Done.
Estimating recalibration parameters.
Calling 906600 SNPs... Done.
Error in crlmm(cels[c(1, 1, 2)]) : sample identifiers are not unique
In addition: Warning message:
In crlmmGT(res[["A"]], res[["B"]], res[["SNR"]], res[["mixtureParams"]], :
Recalibration not possible. Possible cause: small sample size.
RUNIT TEST PROTOCOL -- Tue Apr 11 00:35:22 2023
***********************************************
Number of test functions: 3
Number of errors: 0
Number of failures: 0
1 Test Suite :
crlmm RUnit Tests - 3 test functions, 0 errors, 0 failures
Number of test functions: 3
Number of errors: 0
Number of failures: 0
>
> proc.time()
user system elapsed
90.03 1.59 91.79
crlmm.Rcheck/tests/doRUnit.Rout
R version 4.2.3 (2023-03-15 ucrt) -- "Shortstop Beagle"
Copyright (C) 2023 The R Foundation for Statistical Computing
Platform: x86_64-w64-mingw32/x64 (64-bit)
R is free software and comes with ABSOLUTELY NO WARRANTY.
You are welcome to redistribute it under certain conditions.
Type 'license()' or 'licence()' for distribution details.
R is a collaborative project with many contributors.
Type 'contributors()' for more information and
'citation()' on how to cite R or R packages in publications.
Type 'demo()' for some demos, 'help()' for on-line help, or
'help.start()' for an HTML browser interface to help.
Type 'q()' to quit R.
> ## from xmapcore package
> if( require( "RUnit", quietly=TRUE ) ) {
+ pkg <- "crlmm"
+
+ if( Sys.getenv( "RCMDCHECK" ) == "FALSE" ) {
+ path <- file.path( getwd(), "..", "inst", "unitTests" )
+ } else {
+ path <- system.file( package=pkg, "unitTests" )
+ }
+
+ cat( "\nRunning unit tests\n" )
+ print( list( pkg=pkg, getwd=getwd(), pathToUnitTests=path ) )
+ library( package=pkg, character.only=TRUE )
+
+ ##xmap.clear.cache()
+
+ ## do not fail on warnings (needed for crlmm() test)
+ options(warn=0)
+
+ ## Get the pattern (if there is one?)
+ patt <- Sys.getenv( "RUNITFILEPATTERN" )
+ if( is.null( patt ) || nchar( patt ) == 0 ) {
+ testSuite <- defineTestSuite(name=paste( pkg, "unit testing" ),
+ dirs=path,
+ testFileRegexp=paste( "^test.+", patt, "\\.[rR]$", sep="" ))
+ } else {
+ ##testSuite <- defineTestSuite( name=paste( pkg, "unit testing" ), testFileRegexp=paste( "^runit\\.", patt, "\\.[rR]$", sep="" ), dirs=path )
+ testSuite <- defineTestSuite(name=paste( pkg, "unit testing" ),
+ testFileRegexp=paste( "^test.+", patt, "\\.[rR]$", sep="" ),
+ dirs=path )
+ }
+ tests <- runTestSuite( testSuite )
+
+ pathReport <- file.path( path, "report" )
+
+ cat( "------------------- UNIT TEST SUMMARY ---------------------\n\n" )
+ printTextProtocol( tests, showDetails=FALSE )
+ printTextProtocol( tests, showDetails=FALSE, fileName=paste( pathReport, "Summary.txt", sep="" ) )
+ printTextProtocol( tests, showDetails=TRUE, fileName=paste( pathReport, ".txt", sep="" ) )
+
+ printHTMLProtocol( tests, fileName=paste( pathReport, ".html", sep="" ) )
+
+ tmp <- getErrors( tests )
+ if( tmp$nFail > 0 | tmp$nErr > 0 ){
+ stop( paste( "\n\nunit testing failed (#test failures: ", tmp$nFail, ", #R errors: ", tmp$nErr, ")\n\n", sep=""))
+ }
+ } else {
+ warning( "cannot run unit tests -- package RUnit is not available" )
+ }
Running unit tests
$pkg
[1] "crlmm"
$getwd
[1] "F:/biocbuild/bbs-3.16-bioc/meat/crlmm.Rcheck/tests"
$pathToUnitTests
[1] "F:/biocbuild/bbs-3.16-bioc/R/library/crlmm/unitTests"
Loading required package: oligoClasses
Welcome to oligoClasses version 1.60.0
Loading required package: preprocessCore
No methods found in package 'oligoClasses' for request: 'mean' when loading 'crlmm'
Welcome to crlmm version 1.56.0
Executing test function test_crlmm ... Loading required package: genomewidesnp6Crlmm
Annotation for genomewidesnp6Crlmm version 1.0.7 supports UCSC builds hg18 and hg19.
Loading required package: hapmapsnp6
/-------------------------------------------\
| SAMPLE HAPMAP SNP 6.0 |
|-------------------------------------------|
| Data obtained from http://www.hapmap.org |
| This package is meant to be used only for |
| demonstration of BioConductor packages. |
| Access http://www.hapmap.org for details. |
|-------------------------------------------|
| The contents of this package are provided |
| in good faith and the maintainer does not |
| warrant their accuracy. |
\-------------------------------------------/
Loading annotations and mixture model parameters.
Processing 3 files.
|
| | 0%
|
|======================= | 33%
|
|=============================================== | 67%
|
|======================================================================| 100%
Loading annotations.
Determining gender.
Calling 906600 SNPs for recalibration... Done.
Estimating recalibration parameters.
Calling 906600 SNPs... Done.
done successfully.
Executing test function test_duplicates ... Error in crlmm(cels[c(1, 1, 2)]) : sample identifiers are not unique
In addition: Warning messages:
1: In RNGkind(kind = testSuite$rngKind, normal.kind = testSuite$rngNormalKind) :
RNGkind: Marsaglia-Multicarry has poor statistical properties
2: In RNGkind(kind = testSuite$rngKind, normal.kind = testSuite$rngNormalKind) :
RNGkind: severe deviations from normality for Kinderman-Ramage + Marsaglia-Multicarry
3: In crlmmGT(res[["A"]], res[["B"]], res[["SNR"]], res[["mixtureParams"]], :
Recalibration not possible. Possible cause: small sample size.
done successfully.
Executing test function test_dataExamples ... done successfully.
------------------- UNIT TEST SUMMARY ---------------------
RUNIT TEST PROTOCOL -- Tue Apr 11 00:36:54 2023
***********************************************
Number of test functions: 3
Number of errors: 0
Number of failures: 0
1 Test Suite :
crlmm unit testing - 3 test functions, 0 errors, 0 failures
Warning messages:
1: In RNGkind(kind = testSuite$rngKind, normal.kind = testSuite$rngNormalKind) :
RNGkind: Marsaglia-Multicarry has poor statistical properties
2: In RNGkind(kind = testSuite$rngKind, normal.kind = testSuite$rngNormalKind) :
RNGkind: severe deviations from normality for Kinderman-Ramage + Marsaglia-Multicarry
3: In RNGkind(kind = testSuite$rngKind, normal.kind = testSuite$rngNormalKind) :
RNGkind: Marsaglia-Multicarry has poor statistical properties
4: In RNGkind(kind = testSuite$rngKind, normal.kind = testSuite$rngNormalKind) :
RNGkind: severe deviations from normality for Kinderman-Ramage + Marsaglia-Multicarry
>
> proc.time()
user system elapsed
90.50 1.39 91.89
crlmm.Rcheck/crlmm-Ex.timings
| name | user | system | elapsed | |
| ListClassConstructors | 1.61 | 0.06 | 1.67 | |
| PredictionRegion-class | 0 | 0 | 0 | |
| batchStatisticAccessors | 0.21 | 0.00 | 0.21 | |
| calculateRBaf | 0.89 | 0.00 | 0.89 | |
| celfile-utils | 1.69 | 0.49 | 3.75 | |
| cnSetExample | 0.92 | 0.04 | 0.97 | |
| constructInf | 0 | 0 | 0 | |
| copynumberAccessors | 0 | 0 | 0 | |
| crlmm | 78.73 | 1.10 | 81.45 | |
| genotype.Illumina | 0 | 0 | 0 | |
| genotype | 71.86 | 1.93 | 74.50 | |
| genotypeInf | 0 | 0 | 0 | |
| genotypes | 0 | 0 | 0 | |
| plotSNPs | 0 | 0 | 0 | |
| posteriorProbability | 1.08 | 0.22 | 1.29 | |
| predictionRegion | 0.46 | 0.02 | 0.49 | |
| preprocessInf | 0 | 0 | 0 | |
| readGenCallOutput | 0 | 0 | 0 | |
| readIdatFiles | 0 | 0 | 0 | |
| snprma | 15.13 | 0.45 | 15.57 | |
| validCdfNames | 0 | 0 | 0 | |
| xyplot | 0.45 | 0.02 | 0.47 | |