| Back to Multiple platform build/check report for BioC 3.16: simplified long |
|
This page was generated on 2023-04-12 11:05:28 -0400 (Wed, 12 Apr 2023).
| Hostname | OS | Arch (*) | R version | Installed pkgs |
|---|---|---|---|---|
| nebbiolo2 | Linux (Ubuntu 20.04.5 LTS) | x86_64 | 4.2.3 (2023-03-15) -- "Shortstop Beagle" | 4502 |
| palomino4 | Windows Server 2022 Datacenter | x64 | 4.2.3 (2023-03-15 ucrt) -- "Shortstop Beagle" | 4282 |
| lconway | macOS 12.5.1 Monterey | x86_64 | 4.2.3 (2023-03-15) -- "Shortstop Beagle" | 4310 |
| Click on any hostname to see more info about the system (e.g. compilers) (*) as reported by 'uname -p', except on Windows and Mac OS X | ||||
|
To the developers/maintainers of the cn.farms package: - Please allow up to 24 hours (and sometimes 48 hours) for your latest push to git@git.bioconductor.org:packages/cn.farms.git to reflect on this report. See How and When does the builder pull? When will my changes propagate? for more information. - Make sure to use the following settings in order to reproduce any error or warning you see on this page. |
| Package 358/2183 | Hostname | OS / Arch | INSTALL | BUILD | CHECK | BUILD BIN | ||||||||
| cn.farms 1.46.0 (landing page) Andreas Mitterecker
| nebbiolo2 | Linux (Ubuntu 20.04.5 LTS) / x86_64 | OK | OK | OK | |||||||||
| palomino4 | Windows Server 2022 Datacenter / x64 | OK | OK | OK | OK | |||||||||
| lconway | macOS 12.5.1 Monterey / x86_64 | OK | OK | OK | OK | |||||||||
| Package: cn.farms |
| Version: 1.46.0 |
| Command: rm -rf cn.farms.buildbin-libdir && mkdir cn.farms.buildbin-libdir && F:\biocbuild\bbs-3.16-bioc\R\bin\R.exe CMD INSTALL --build --library=cn.farms.buildbin-libdir cn.farms_1.46.0.tar.gz |
| StartedAt: 2023-04-11 07:45:48 -0400 (Tue, 11 Apr 2023) |
| EndedAt: 2023-04-11 07:46:33 -0400 (Tue, 11 Apr 2023) |
| EllapsedTime: 44.8 seconds |
| RetCode: 0 |
| Status: OK |
| PackageFile: cn.farms_1.46.0.zip |
| PackageFileSize: 2.721 MiB |
##############################################################################
##############################################################################
###
### Running command:
###
### rm -rf cn.farms.buildbin-libdir && mkdir cn.farms.buildbin-libdir && F:\biocbuild\bbs-3.16-bioc\R\bin\R.exe CMD INSTALL --build --library=cn.farms.buildbin-libdir cn.farms_1.46.0.tar.gz
###
##############################################################################
##############################################################################
* installing *source* package 'cn.farms' ...
** using staged installation
** libs
gcc -I"F:/biocbuild/bbs-3.16-bioc/R/include" -DNDEBUG -I"C:/rtools42/x86_64-w64-mingw32.static.posix/include" -O2 -Wall -std=gnu99 -mfpmath=sse -msse2 -mstackrealign -c R_init_cnfarms.c -o R_init_cnfarms.o
g++ -std=gnu++14 -I"F:/biocbuild/bbs-3.16-bioc/R/include" -DNDEBUG -I"C:/rtools42/x86_64-w64-mingw32.static.posix/include" -O2 -Wall -mfpmath=sse -msse2 -mstackrealign -c laplace.cpp -o laplace.o
laplace.cpp: In function 'SEXPREC* momentsGauss(SEXP, SEXP, SEXP, SEXP, SEXP, SEXP, SEXP, SEXP, SEXP, SEXP)':
laplace.cpp:442:6: warning: unused variable 'method' [-Wunused-variable]
442 | int method=0;
| ^~~~~~
laplace.cpp: In function 'void computeParameters(double, double, double, double, double, double, int&, double&, double&, double&, double&, double&, double&, double&, double&, double&, double&, double&, double&, double&, double&)':
laplace.cpp:368:56: warning: 'I1right' may be used uninitialized in this function [-Wmaybe-uninitialized]
368 | double rightMoment1=1.0*rightMy*I0right+1.0*rightSigma*I1right;
| ~~~~~~~~~~~~~~^~~~~~~~
laplace.cpp:364:35: warning: 'I1left' may be used uninitialized in this function [-Wmaybe-uninitialized]
364 | double I2left=(-leftMy/leftSigma)*I1left+I0left;
| ~~~~~~~~~~~~~~~~~~~^~~~~~~
gcc -I"F:/biocbuild/bbs-3.16-bioc/R/include" -DNDEBUG -I"C:/rtools42/x86_64-w64-mingw32.static.posix/include" -O2 -Wall -std=gnu99 -mfpmath=sse -msse2 -mstackrealign -c sparse_farms.c -o sparse_farms.o
g++ -std=gnu++14 -shared -s -static-libgcc -o cn.farms.dll tmp.def R_init_cnfarms.o laplace.o sparse_farms.o -LC:/rtools42/x86_64-w64-mingw32.static.posix/lib/x64 -LC:/rtools42/x86_64-w64-mingw32.static.posix/lib -LF:/biocbuild/bbs-3.16-bioc/R/bin/x64 -lR
installing to F:/biocbuild/bbs-3.16-bioc/meat/cn.farms.buildbin-libdir/00LOCK-cn.farms/00new/cn.farms/libs/x64
** R
** demo
** inst
** byte-compile and prepare package for lazy loading
** help
*** installing help indices
** building package indices
** installing vignettes
** testing if installed package can be loaded from temporary location
** testing if installed package can be loaded from final location
** testing if installed package keeps a record of temporary installation path
* MD5 sums
packaged installation of 'cn.farms' as cn.farms_1.46.0.zip
* DONE (cn.farms)