| Back to Multiple platform build/check report for BioC 3.16: simplified long |
|
This page was generated on 2023-04-12 11:05:27 -0400 (Wed, 12 Apr 2023).
| Hostname | OS | Arch (*) | R version | Installed pkgs |
|---|---|---|---|---|
| nebbiolo2 | Linux (Ubuntu 20.04.5 LTS) | x86_64 | 4.2.3 (2023-03-15) -- "Shortstop Beagle" | 4502 |
| palomino4 | Windows Server 2022 Datacenter | x64 | 4.2.3 (2023-03-15 ucrt) -- "Shortstop Beagle" | 4282 |
| lconway | macOS 12.5.1 Monterey | x86_64 | 4.2.3 (2023-03-15) -- "Shortstop Beagle" | 4310 |
| Click on any hostname to see more info about the system (e.g. compilers) (*) as reported by 'uname -p', except on Windows and Mac OS X | ||||
|
To the developers/maintainers of the cardelino package: - Please allow up to 24 hours (and sometimes 48 hours) for your latest push to git@git.bioconductor.org:packages/cardelino.git to reflect on this report. See How and When does the builder pull? When will my changes propagate? for more information. - Make sure to use the following settings in order to reproduce any error or warning you see on this page. |
| Package 253/2183 | Hostname | OS / Arch | INSTALL | BUILD | CHECK | BUILD BIN | ||||||||
| cardelino 1.0.0 (landing page) Jeffrey Pullin
| nebbiolo2 | Linux (Ubuntu 20.04.5 LTS) / x86_64 | OK | OK | OK | |||||||||
| palomino4 | Windows Server 2022 Datacenter / x64 | OK | OK | OK | OK | |||||||||
| lconway | macOS 12.5.1 Monterey / x86_64 | OK | OK | OK | OK | |||||||||
| Package: cardelino |
| Version: 1.0.0 |
| Command: F:\biocbuild\bbs-3.16-bioc\R\bin\R.exe CMD check --no-multiarch --install=check:cardelino.install-out.txt --library=F:\biocbuild\bbs-3.16-bioc\R\library --no-vignettes --timings cardelino_1.0.0.tar.gz |
| StartedAt: 2023-04-10 23:39:01 -0400 (Mon, 10 Apr 2023) |
| EndedAt: 2023-04-10 23:46:24 -0400 (Mon, 10 Apr 2023) |
| EllapsedTime: 443.4 seconds |
| RetCode: 0 |
| Status: OK |
| CheckDir: cardelino.Rcheck |
| Warnings: 0 |
##############################################################################
##############################################################################
###
### Running command:
###
### F:\biocbuild\bbs-3.16-bioc\R\bin\R.exe CMD check --no-multiarch --install=check:cardelino.install-out.txt --library=F:\biocbuild\bbs-3.16-bioc\R\library --no-vignettes --timings cardelino_1.0.0.tar.gz
###
##############################################################################
##############################################################################
* using log directory 'F:/biocbuild/bbs-3.16-bioc/meat/cardelino.Rcheck'
* using R version 4.2.3 (2023-03-15 ucrt)
* using platform: x86_64-w64-mingw32 (64-bit)
* using session charset: UTF-8
* using option '--no-vignettes'
* checking for file 'cardelino/DESCRIPTION' ... OK
* checking extension type ... Package
* this is package 'cardelino' version '1.0.0'
* package encoding: UTF-8
* checking package namespace information ... OK
* checking package dependencies ... NOTE
Package which this enhances but not available for checking: 'doMC'
* checking if this is a source package ... OK
* checking if there is a namespace ... OK
* checking for hidden files and directories ... OK
* checking for portable file names ... OK
* checking whether package 'cardelino' can be installed ... OK
* checking installed package size ... OK
* checking package directory ... OK
* checking 'build' directory ... OK
* checking DESCRIPTION meta-information ... OK
* checking top-level files ... OK
* checking for left-over files ... OK
* checking index information ... OK
* checking package subdirectories ... OK
* checking R files for non-ASCII characters ... OK
* checking R files for syntax errors ... OK
* checking whether the package can be loaded ... OK
* checking whether the package can be loaded with stated dependencies ... OK
* checking whether the package can be unloaded cleanly ... OK
* checking whether the namespace can be loaded with stated dependencies ... OK
* checking whether the namespace can be unloaded cleanly ... OK
* checking dependencies in R code ... OK
* checking S3 generic/method consistency ... OK
* checking replacement functions ... OK
* checking foreign function calls ... OK
* checking R code for possible problems ... OK
* checking Rd files ... OK
* checking Rd metadata ... OK
* checking Rd cross-references ... OK
* checking for missing documentation entries ... OK
* checking for code/documentation mismatches ... OK
* checking Rd \usage sections ... OK
* checking Rd contents ... OK
* checking for unstated dependencies in examples ... OK
* checking contents of 'data' directory ... OK
* checking data for non-ASCII characters ... OK
* checking data for ASCII and uncompressed saves ... OK
* checking files in 'vignettes' ... OK
* checking examples ... OK
Examples with CPU (user + system) or elapsed time > 5s
user system elapsed
vc_heatmap 90.19 1.64 91.86
clone_id 17.55 1.16 18.70
get_snp_matrices 16.31 0.55 18.84
* checking for unstated dependencies in 'tests' ... OK
* checking tests ...
Running 'testthat.R'
OK
* checking for unstated dependencies in vignettes ... OK
* checking package vignettes in 'inst/doc' ... OK
* checking running R code from vignettes ... SKIPPED
* checking re-building of vignette outputs ... SKIPPED
* checking PDF version of manual ... OK
* DONE
Status: 1 NOTE
See
'F:/biocbuild/bbs-3.16-bioc/meat/cardelino.Rcheck/00check.log'
for details.
cardelino.Rcheck/00install.out
############################################################################## ############################################################################## ### ### Running command: ### ### F:\biocbuild\bbs-3.16-bioc\R\bin\R.exe CMD INSTALL cardelino ### ############################################################################## ############################################################################## * installing to library 'F:/biocbuild/bbs-3.16-bioc/R/library' * installing *source* package 'cardelino' ... ** using staged installation ** R ** data ** inst ** byte-compile and prepare package for lazy loading ** help *** installing help indices ** building package indices ** installing vignettes ** testing if installed package can be loaded from temporary location ** testing if installed package can be loaded from final location ** testing if installed package keeps a record of temporary installation path * DONE (cardelino)
cardelino.Rcheck/tests/testthat.Rout
R version 4.2.3 (2023-03-15 ucrt) -- "Shortstop Beagle"
Copyright (C) 2023 The R Foundation for Statistical Computing
Platform: x86_64-w64-mingw32/x64 (64-bit)
R is free software and comes with ABSOLUTELY NO WARRANTY.
You are welcome to redistribute it under certain conditions.
Type 'license()' or 'licence()' for distribution details.
R is a collaborative project with many contributors.
Type 'contributors()' for more information and
'citation()' on how to cite R or R packages in publications.
Type 'demo()' for some demos, 'help()' for on-line help, or
'help.start()' for an HTML browser interface to help.
Type 'q()' to quit R.
> Sys.setenv("R_TESTS" = "")
> library(testthat)
> library(cardelino)
>
> test_check("cardelino")
[1] "Total iterations: 11"
100% converged.
[1] "Converged in 200 iterations."
DIC: 5372.07 D_mean: 2538.2 D_post: 2397.51 logLik_var: 743.64
[,1] [,2] [,3] [,4]
[1,] 1 2 3 4
[1] "60 samples have multiple labels."
Scanning file to determine attributes.
File attributes:
meta lines: 37
header_line: 38
variant count: 112
column count: 86
Meta line 37 read in.
All meta lines processed.
gt matrix initialized.
Character matrix gt created.
Character matrix gt rows: 112
Character matrix gt cols: 86
skip: 0
nrows: 112
row_num: 0
Processed variant: 112
All variants processed
[1] "112 out of 112 SNPs passed."
Scanning file to determine attributes.
File attributes:
meta lines: 37
header_line: 38
variant count: 112
column count: 86
Meta line 37 read in.
All meta lines processed.
gt matrix initialized.
Character matrix gt created.
Character matrix gt rows: 112
Character matrix gt cols: 86
skip: 0
nrows: 112
row_num: 0
Processed variant: 112
All variants processed
[ FAIL 0 | WARN 2 | SKIP 0 | PASS 20 ]
[ FAIL 0 | WARN 2 | SKIP 0 | PASS 20 ]
>
> # check test coverage with covr in Rstudio
> # covr::package_coverage()
>
> proc.time()
user system elapsed
20.50 1.48 22.23
cardelino.Rcheck/cardelino-Ex.timings
| name | user | system | elapsed | |
| assign_cells_to_clones | 0.11 | 0.03 | 0.15 | |
| binaryPRC | 0 | 0 | 0 | |
| binaryROC | 0 | 0 | 0 | |
| clone_id | 17.55 | 1.16 | 18.70 | |
| colMatch | 0.02 | 0.00 | 0.02 | |
| get_snp_matrices | 16.31 | 0.55 | 18.84 | |
| get_tree | 0.44 | 0.04 | 0.48 | |
| heat_matrix | 0.70 | 0.04 | 0.75 | |
| load_GT_vcf | 0.31 | 0.05 | 0.42 | |
| load_cellSNP_vcf | 0.03 | 0.00 | 0.03 | |
| mixBinom | 0.02 | 0.00 | 0.01 | |
| mtx_to_df | 0 | 0 | 0 | |
| plot_config_diffs | 0.23 | 0.00 | 0.24 | |
| plot_tree | 0.39 | 0.00 | 0.39 | |
| predMixBinom | 0.02 | 0.00 | 0.01 | |
| prob_heatmap | 0.06 | 0.02 | 0.08 | |
| pub.theme | 0.01 | 0.01 | 0.03 | |
| read_vcf | 3.14 | 0.34 | 3.48 | |
| rowArgmax | 0 | 0 | 0 | |
| rowMax | 0 | 0 | 0 | |
| sample_seq_depth | 0.11 | 0.00 | 0.11 | |
| sample_tree_SNV | 0 | 0 | 0 | |
| sim_read_count | 1.38 | 0.03 | 1.41 | |
| vc_heatmap | 90.19 | 1.64 | 91.86 | |