| Back to Multiple platform build/check report for BioC 3.16: simplified long |
|
This page was generated on 2023-04-12 11:05:34 -0400 (Wed, 12 Apr 2023).
| Hostname | OS | Arch (*) | R version | Installed pkgs |
|---|---|---|---|---|
| nebbiolo2 | Linux (Ubuntu 20.04.5 LTS) | x86_64 | 4.2.3 (2023-03-15) -- "Shortstop Beagle" | 4502 |
| palomino4 | Windows Server 2022 Datacenter | x64 | 4.2.3 (2023-03-15 ucrt) -- "Shortstop Beagle" | 4282 |
| lconway | macOS 12.5.1 Monterey | x86_64 | 4.2.3 (2023-03-15) -- "Shortstop Beagle" | 4310 |
| Click on any hostname to see more info about the system (e.g. compilers) (*) as reported by 'uname -p', except on Windows and Mac OS X | ||||
|
To the developers/maintainers of the GeneNetworkBuilder package: - Please allow up to 24 hours (and sometimes 48 hours) for your latest push to git@git.bioconductor.org:packages/GeneNetworkBuilder.git to reflect on this report. See How and When does the builder pull? When will my changes propagate? for more information. - Make sure to use the following settings in order to reproduce any error or warning you see on this page. |
| Package 761/2183 | Hostname | OS / Arch | INSTALL | BUILD | CHECK | BUILD BIN | ||||||||
| GeneNetworkBuilder 1.40.0 (landing page) Jianhong Ou
| nebbiolo2 | Linux (Ubuntu 20.04.5 LTS) / x86_64 | OK | OK | OK | |||||||||
| palomino4 | Windows Server 2022 Datacenter / x64 | OK | OK | OK | OK | |||||||||
| lconway | macOS 12.5.1 Monterey / x86_64 | OK | OK | OK | OK | |||||||||
| Package: GeneNetworkBuilder |
| Version: 1.40.0 |
| Command: F:\biocbuild\bbs-3.16-bioc\R\bin\R.exe CMD check --no-multiarch --install=check:GeneNetworkBuilder.install-out.txt --library=F:\biocbuild\bbs-3.16-bioc\R\library --no-vignettes --timings GeneNetworkBuilder_1.40.0.tar.gz |
| StartedAt: 2023-04-11 01:45:49 -0400 (Tue, 11 Apr 2023) |
| EndedAt: 2023-04-11 01:47:11 -0400 (Tue, 11 Apr 2023) |
| EllapsedTime: 81.9 seconds |
| RetCode: 0 |
| Status: OK |
| CheckDir: GeneNetworkBuilder.Rcheck |
| Warnings: 0 |
##############################################################################
##############################################################################
###
### Running command:
###
### F:\biocbuild\bbs-3.16-bioc\R\bin\R.exe CMD check --no-multiarch --install=check:GeneNetworkBuilder.install-out.txt --library=F:\biocbuild\bbs-3.16-bioc\R\library --no-vignettes --timings GeneNetworkBuilder_1.40.0.tar.gz
###
##############################################################################
##############################################################################
* using log directory 'F:/biocbuild/bbs-3.16-bioc/meat/GeneNetworkBuilder.Rcheck'
* using R version 4.2.3 (2023-03-15 ucrt)
* using platform: x86_64-w64-mingw32 (64-bit)
* using session charset: UTF-8
* using option '--no-vignettes'
* checking for file 'GeneNetworkBuilder/DESCRIPTION' ... OK
* checking extension type ... Package
* this is package 'GeneNetworkBuilder' version '1.40.0'
* package encoding: UTF-8
* checking package namespace information ... OK
* checking package dependencies ... OK
* checking if this is a source package ... OK
* checking if there is a namespace ... OK
* checking for hidden files and directories ... OK
* checking for portable file names ... OK
* checking whether package 'GeneNetworkBuilder' can be installed ... OK
* checking installed package size ... NOTE
installed size is 8.2Mb
sub-directories of 1Mb or more:
data 4.4Mb
htmlwidgets 2.6Mb
libs 1.0Mb
* checking package directory ... OK
* checking 'build' directory ... OK
* checking DESCRIPTION meta-information ... OK
* checking top-level files ... OK
* checking for left-over files ... OK
* checking index information ... OK
* checking package subdirectories ... OK
* checking R files for non-ASCII characters ... OK
* checking R files for syntax errors ... OK
* checking whether the package can be loaded ... OK
* checking whether the package can be loaded with stated dependencies ... OK
* checking whether the package can be unloaded cleanly ... OK
* checking whether the namespace can be loaded with stated dependencies ... OK
* checking whether the namespace can be unloaded cleanly ... OK
* checking dependencies in R code ... OK
* checking S3 generic/method consistency ... OK
* checking replacement functions ... OK
* checking foreign function calls ... OK
* checking R code for possible problems ... OK
* checking Rd files ... OK
* checking Rd metadata ... OK
* checking Rd cross-references ... OK
* checking for missing documentation entries ... OK
* checking for code/documentation mismatches ... OK
* checking Rd \usage sections ... OK
* checking Rd contents ... OK
* checking for unstated dependencies in examples ... OK
* checking contents of 'data' directory ... OK
* checking data for non-ASCII characters ... OK
* checking LazyData ... OK
* checking data for ASCII and uncompressed saves ... OK
* checking line endings in C/C++/Fortran sources/headers ... OK
* checking line endings in Makefiles ... OK
* checking compilation flags in Makevars ... OK
* checking for GNU extensions in Makefiles ... OK
* checking for portable use of $(BLAS_LIBS) and $(LAPACK_LIBS) ... OK
* checking use of PKG_*FLAGS in Makefiles ... OK
* checking compiled code ... NOTE
Note: information on .o files for x64 is not available
File 'F:/biocbuild/bbs-3.16-bioc/R/library/GeneNetworkBuilder/libs/x64/GeneNetworkBuilder.dll':
Found 'abort', possibly from 'abort' (C), 'runtime' (Fortran)
Found 'exit', possibly from 'exit' (C), 'stop' (Fortran)
Compiled code should not call entry points which might terminate R nor
write to stdout/stderr instead of to the console, nor use Fortran I/O
nor system RNGs. The detected symbols are linked into the code but
might come from libraries and not actually be called.
See 'Writing portable packages' in the 'Writing R Extensions' manual.
* checking files in 'vignettes' ... OK
* checking examples ... OK
* checking for unstated dependencies in 'tests' ... OK
* checking tests ...
Running 'runTests.R'
OK
* checking for unstated dependencies in vignettes ... OK
* checking package vignettes in 'inst/doc' ... OK
* checking running R code from vignettes ... SKIPPED
* checking re-building of vignette outputs ... SKIPPED
* checking PDF version of manual ... OK
* DONE
Status: 2 NOTEs
See
'F:/biocbuild/bbs-3.16-bioc/meat/GeneNetworkBuilder.Rcheck/00check.log'
for details.
GeneNetworkBuilder.Rcheck/00install.out
############################################################################## ############################################################################## ### ### Running command: ### ### F:\biocbuild\bbs-3.16-bioc\R\bin\R.exe CMD INSTALL GeneNetworkBuilder ### ############################################################################## ############################################################################## * installing to library 'F:/biocbuild/bbs-3.16-bioc/R/library' * installing *source* package 'GeneNetworkBuilder' ... ** using staged installation ** libs g++ -std=gnu++14 -I"F:/biocbuild/bbs-3.16-bioc/R/include" -DNDEBUG -I'F:/biocbuild/bbs-3.16-bioc/R/library/Rcpp/include' -I"C:/rtools42/x86_64-w64-mingw32.static.posix/include" -O2 -Wall -mfpmath=sse -msse2 -mstackrealign -c RcppExports.cpp -o RcppExports.o g++ -std=gnu++14 -I"F:/biocbuild/bbs-3.16-bioc/R/include" -DNDEBUG -I'F:/biocbuild/bbs-3.16-bioc/R/library/Rcpp/include' -I"C:/rtools42/x86_64-w64-mingw32.static.posix/include" -O2 -Wall -mfpmath=sse -msse2 -mstackrealign -c geneTree.cpp -o geneTree.o g++ -std=gnu++14 -I"F:/biocbuild/bbs-3.16-bioc/R/include" -DNDEBUG -I'F:/biocbuild/bbs-3.16-bioc/R/library/Rcpp/include' -I"C:/rtools42/x86_64-w64-mingw32.static.posix/include" -O2 -Wall -mfpmath=sse -msse2 -mstackrealign -c nodefilter.cpp -o nodefilter.o g++ -std=gnu++14 -shared -s -static-libgcc -o GeneNetworkBuilder.dll tmp.def RcppExports.o geneTree.o nodefilter.o -LC:/rtools42/x86_64-w64-mingw32.static.posix/lib/x64 -LC:/rtools42/x86_64-w64-mingw32.static.posix/lib -LF:/biocbuild/bbs-3.16-bioc/R/bin/x64 -lR installing to F:/biocbuild/bbs-3.16-bioc/R/library/00LOCK-GeneNetworkBuilder/00new/GeneNetworkBuilder/libs/x64 ** R ** data *** moving datasets to lazyload DB ** inst ** byte-compile and prepare package for lazy loading ** help *** installing help indices ** building package indices ** installing vignettes ** testing if installed package can be loaded from temporary location ** testing if installed package can be loaded from final location ** testing if installed package keeps a record of temporary installation path * DONE (GeneNetworkBuilder)
GeneNetworkBuilder.Rcheck/tests/runTests.Rout
R version 4.2.3 (2023-03-15 ucrt) -- "Shortstop Beagle"
Copyright (C) 2023 The R Foundation for Statistical Computing
Platform: x86_64-w64-mingw32/x64 (64-bit)
R is free software and comes with ABSOLUTELY NO WARRANTY.
You are welcome to redistribute it under certain conditions.
Type 'license()' or 'licence()' for distribution details.
R is a collaborative project with many contributors.
Type 'contributors()' for more information and
'citation()' on how to cite R or R packages in publications.
Type 'demo()' for some demos, 'help()' for on-line help, or
'help.start()' for an HTML browser interface to help.
Type 'q()' to quit R.
> require("GeneNetworkBuilder") || stop("unable to load Package:GeneNetworkBuilder")
Loading required package: GeneNetworkBuilder
Loading required package: Rcpp
[1] TRUE
> BiocGenerics:::testPackage("GeneNetworkBuilder")
RUNIT TEST PROTOCOL -- Tue Apr 11 01:47:01 2023
***********************************************
Number of test functions: 5
Number of errors: 0
Number of failures: 0
1 Test Suite :
GeneNetworkBuilder RUnit Tests - 5 test functions, 0 errors, 0 failures
Number of test functions: 5
Number of errors: 0
Number of failures: 0
>
> proc.time()
user system elapsed
1.14 0.18 1.29
GeneNetworkBuilder.Rcheck/GeneNetworkBuilder-Ex.timings
| name | user | system | elapsed | |
| browseNetwork | 2.42 | 0.25 | 2.70 | |
| buildNetwork | 0.20 | 0.02 | 0.22 | |
| ce.IDsMap | 0.10 | 0.00 | 0.09 | |
| ce.interactionmap | 0.01 | 0.00 | 0.02 | |
| ce.mapIDs | 0.10 | 0.02 | 0.11 | |
| ce.miRNA.map | 0 | 0 | 0 | |
| convertID | 0.14 | 0.01 | 0.16 | |
| example.data | 0.08 | 0.00 | 0.07 | |
| exportNetwork | 1.84 | 0.38 | 3.53 | |
| filterNetwork | 1.48 | 0.06 | 1.55 | |
| hs.IDsMap | 0.05 | 0.00 | 0.05 | |
| hs.interactionmap | 0.11 | 0.00 | 0.11 | |
| hs.mapIDs | 0.02 | 0.00 | 0.01 | |
| hs.miRNA.map | 0.00 | 0.01 | 0.02 | |
| networkFromGenes | 0.12 | 0.00 | 0.12 | |
| polishNetwork | 1.49 | 0.11 | 1.60 | |
| subsetNetwork | 0.06 | 0.02 | 0.09 | |
| uniqueExprsData | 0.26 | 0.00 | 0.27 | |