| Back to Multiple platform build/check report for BioC 3.16: simplified long |
|
This page was generated on 2023-04-12 11:05:28 -0400 (Wed, 12 Apr 2023).
| Hostname | OS | Arch (*) | R version | Installed pkgs |
|---|---|---|---|---|
| nebbiolo2 | Linux (Ubuntu 20.04.5 LTS) | x86_64 | 4.2.3 (2023-03-15) -- "Shortstop Beagle" | 4502 |
| palomino4 | Windows Server 2022 Datacenter | x64 | 4.2.3 (2023-03-15 ucrt) -- "Shortstop Beagle" | 4282 |
| lconway | macOS 12.5.1 Monterey | x86_64 | 4.2.3 (2023-03-15) -- "Shortstop Beagle" | 4310 |
| Click on any hostname to see more info about the system (e.g. compilers) (*) as reported by 'uname -p', except on Windows and Mac OS X | ||||
|
To the developers/maintainers of the ChIPpeakAnno package: - Please allow up to 24 hours (and sometimes 48 hours) for your latest push to git@git.bioconductor.org:packages/ChIPpeakAnno.git to reflect on this report. See How and When does the builder pull? When will my changes propagate? for more information. - Make sure to use the following settings in order to reproduce any error or warning you see on this page. |
| Package 313/2183 | Hostname | OS / Arch | INSTALL | BUILD | CHECK | BUILD BIN | ||||||||
| ChIPpeakAnno 3.32.0 (landing page) Jianhong Ou
| nebbiolo2 | Linux (Ubuntu 20.04.5 LTS) / x86_64 | OK | OK | OK | |||||||||
| palomino4 | Windows Server 2022 Datacenter / x64 | OK | OK | OK | OK | |||||||||
| lconway | macOS 12.5.1 Monterey / x86_64 | OK | OK | OK | OK | |||||||||
| Package: ChIPpeakAnno |
| Version: 3.32.0 |
| Command: F:\biocbuild\bbs-3.16-bioc\R\bin\R.exe CMD check --no-multiarch --install=check:ChIPpeakAnno.install-out.txt --library=F:\biocbuild\bbs-3.16-bioc\R\library --no-vignettes --timings ChIPpeakAnno_3.32.0.tar.gz |
| StartedAt: 2023-04-10 23:53:08 -0400 (Mon, 10 Apr 2023) |
| EndedAt: 2023-04-11 00:03:41 -0400 (Tue, 11 Apr 2023) |
| EllapsedTime: 632.3 seconds |
| RetCode: 0 |
| Status: OK |
| CheckDir: ChIPpeakAnno.Rcheck |
| Warnings: 0 |
##############################################################################
##############################################################################
###
### Running command:
###
### F:\biocbuild\bbs-3.16-bioc\R\bin\R.exe CMD check --no-multiarch --install=check:ChIPpeakAnno.install-out.txt --library=F:\biocbuild\bbs-3.16-bioc\R\library --no-vignettes --timings ChIPpeakAnno_3.32.0.tar.gz
###
##############################################################################
##############################################################################
* using log directory 'F:/biocbuild/bbs-3.16-bioc/meat/ChIPpeakAnno.Rcheck'
* using R version 4.2.3 (2023-03-15 ucrt)
* using platform: x86_64-w64-mingw32 (64-bit)
* using session charset: UTF-8
* using option '--no-vignettes'
* checking for file 'ChIPpeakAnno/DESCRIPTION' ... OK
* checking extension type ... Package
* this is package 'ChIPpeakAnno' version '3.32.0'
* package encoding: UTF-8
* checking package namespace information ... OK
* checking package dependencies ... OK
* checking if this is a source package ... OK
* checking if there is a namespace ... OK
* checking for hidden files and directories ... OK
* checking for portable file names ... OK
* checking whether package 'ChIPpeakAnno' can be installed ... OK
* checking installed package size ... NOTE
installed size is 19.1Mb
sub-directories of 1Mb or more:
data 12.6Mb
extdata 5.2Mb
* checking package directory ... OK
* checking 'build' directory ... OK
* checking DESCRIPTION meta-information ... OK
* checking top-level files ... OK
* checking for left-over files ... OK
* checking index information ... OK
* checking package subdirectories ... OK
* checking R files for non-ASCII characters ... OK
* checking R files for syntax errors ... OK
* checking whether the package can be loaded ... OK
* checking whether the package can be loaded with stated dependencies ... OK
* checking whether the package can be unloaded cleanly ... OK
* checking whether the namespace can be loaded with stated dependencies ... OK
* checking whether the namespace can be unloaded cleanly ... OK
* checking dependencies in R code ... OK
* checking S3 generic/method consistency ... OK
* checking replacement functions ... OK
* checking foreign function calls ... OK
* checking R code for possible problems ... NOTE
oligoFrequency : <anonymous>: no visible global function definition for
'oligonucleotideFrequency'
Undefined global functions or variables:
oligonucleotideFrequency
* checking Rd files ... OK
* checking Rd metadata ... OK
* checking Rd cross-references ... OK
* checking for missing documentation entries ... OK
* checking for code/documentation mismatches ... OK
* checking Rd \usage sections ... OK
* checking Rd contents ... OK
* checking for unstated dependencies in examples ... OK
* checking contents of 'data' directory ... OK
* checking data for non-ASCII characters ... OK
* checking LazyData ... OK
* checking data for ASCII and uncompressed saves ... OK
* checking files in 'vignettes' ... OK
* checking examples ... OK
Examples with CPU (user + system) or elapsed time > 5s
user system elapsed
findEnhancers 23.39 1.09 24.50
findMotifsInPromoterSeqs 14.97 0.32 15.45
annotatePeakInBatch 12.73 1.11 13.86
summarizeOverlapsByBins 2.69 0.02 19.39
tileCount 1.25 0.02 18.67
* checking for unstated dependencies in 'tests' ... OK
* checking tests ...
Running 'runTests.R'
OK
* checking for unstated dependencies in vignettes ... OK
* checking package vignettes in 'inst/doc' ... OK
* checking running R code from vignettes ... SKIPPED
* checking re-building of vignette outputs ... SKIPPED
* checking PDF version of manual ... OK
* DONE
Status: 2 NOTEs
See
'F:/biocbuild/bbs-3.16-bioc/meat/ChIPpeakAnno.Rcheck/00check.log'
for details.
ChIPpeakAnno.Rcheck/00install.out
############################################################################## ############################################################################## ### ### Running command: ### ### F:\biocbuild\bbs-3.16-bioc\R\bin\R.exe CMD INSTALL ChIPpeakAnno ### ############################################################################## ############################################################################## * installing to library 'F:/biocbuild/bbs-3.16-bioc/R/library' * installing *source* package 'ChIPpeakAnno' ... ** using staged installation ** R ** data *** moving datasets to lazyload DB ** inst ** byte-compile and prepare package for lazy loading ** help *** installing help indices ** building package indices ** installing vignettes ** testing if installed package can be loaded from temporary location ** testing if installed package can be loaded from final location ** testing if installed package keeps a record of temporary installation path * DONE (ChIPpeakAnno)
ChIPpeakAnno.Rcheck/tests/runTests.Rout
R version 4.2.3 (2023-03-15 ucrt) -- "Shortstop Beagle"
Copyright (C) 2023 The R Foundation for Statistical Computing
Platform: x86_64-w64-mingw32/x64 (64-bit)
R is free software and comes with ABSOLUTELY NO WARRANTY.
You are welcome to redistribute it under certain conditions.
Type 'license()' or 'licence()' for distribution details.
R is a collaborative project with many contributors.
Type 'contributors()' for more information and
'citation()' on how to cite R or R packages in publications.
Type 'demo()' for some demos, 'help()' for on-line help, or
'help.start()' for an HTML browser interface to help.
Type 'q()' to quit R.
> require("ChIPpeakAnno") || stop("unable to load Package:ChIPpeakAnno")
Loading required package: ChIPpeakAnno
Loading required package: IRanges
Loading required package: BiocGenerics
Attaching package: 'BiocGenerics'
The following objects are masked from 'package:stats':
IQR, mad, sd, var, xtabs
The following objects are masked from 'package:base':
Filter, Find, Map, Position, Reduce, anyDuplicated, aperm, append,
as.data.frame, basename, cbind, colnames, dirname, do.call,
duplicated, eval, evalq, get, grep, grepl, intersect, is.unsorted,
lapply, mapply, match, mget, order, paste, pmax, pmax.int, pmin,
pmin.int, rank, rbind, rownames, sapply, setdiff, sort, table,
tapply, union, unique, unsplit, which.max, which.min
Loading required package: S4Vectors
Loading required package: stats4
Attaching package: 'S4Vectors'
The following objects are masked from 'package:base':
I, expand.grid, unname
Attaching package: 'IRanges'
The following object is masked from 'package:grDevices':
windows
Loading required package: GenomicRanges
Loading required package: GenomeInfoDb
[1] TRUE
> require("BSgenome.Drerio.UCSC.danRer7") || stop("unable to load Package:BSgenome.Drerio.UCSC.danRer7")
Loading required package: BSgenome.Drerio.UCSC.danRer7
Loading required package: BSgenome
Loading required package: Biostrings
Loading required package: XVector
Attaching package: 'Biostrings'
The following object is masked from 'package:base':
strsplit
Loading required package: rtracklayer
[1] TRUE
> require("org.Hs.eg.db") || stop("unable to load Package:org.Hs.eg.db")
Loading required package: org.Hs.eg.db
Loading required package: AnnotationDbi
Loading required package: Biobase
Welcome to Bioconductor
Vignettes contain introductory material; view with
'browseVignettes()'. To cite Bioconductor, see
'citation("Biobase")', and for packages 'citation("pkgname")'.
[1] TRUE
> require("org.Ce.eg.db") || stop("unable to load Package:org.Ce.eg.db")
Loading required package: org.Ce.eg.db
[1] TRUE
> require("BSgenome.Celegans.UCSC.ce10") || stop("unable to load Package:BSgenome.Celegans.UCSC.ce10")
Loading required package: BSgenome.Celegans.UCSC.ce10
[1] TRUE
> require("EnsDb.Hsapiens.v79") || stop("unable to load Package:EnsDb.Hsapiens.v79")
Loading required package: EnsDb.Hsapiens.v79
Loading required package: ensembldb
Loading required package: GenomicFeatures
Loading required package: AnnotationFilter
Attaching package: 'ensembldb'
The following object is masked from 'package:stats':
filter
[1] TRUE
> require("TxDb.Hsapiens.UCSC.hg38.knownGene") || stop("unable to load TxDb.Hsapiens.UCSC.hg38.knownGene")
Loading required package: TxDb.Hsapiens.UCSC.hg38.knownGene
[1] TRUE
> require("biomaRt") || stop("unable to load biomaRt")
Loading required package: biomaRt
[1] TRUE
> require("reactome.db") || stop("unable to load reactome.db")
Loading required package: reactome.db
[1] TRUE
> require("testthat") || stop("unable to load testthat")
Loading required package: testthat
Attaching package: 'testthat'
The following object is masked from 'package:AnnotationFilter':
not
[1] TRUE
> test_check("ChIPpeakAnno")
[ FAIL 0 | WARN 4 | SKIP 6 | PASS 316 ]
══ Skipped tests ═══════════════════════════════════════════════════════════════
• empty test (6)
[ FAIL 0 | WARN 4 | SKIP 6 | PASS 316 ]
>
> proc.time()
user system elapsed
168.28 8.01 177.92
ChIPpeakAnno.Rcheck/ChIPpeakAnno-Ex.timings
| name | user | system | elapsed | |
| ChIPpeakAnno-package | 0 | 0 | 0 | |
| ExonPlusUtr.human.GRCh37 | 3.34 | 0.00 | 3.34 | |
| HOT.spots | 0.11 | 0.01 | 0.13 | |
| IDRfilter | 0 | 0 | 0 | |
| Peaks.Ste12.Replicate1 | 0.05 | 0.00 | 0.05 | |
| Peaks.Ste12.Replicate2 | 0.00 | 0.03 | 0.03 | |
| Peaks.Ste12.Replicate3 | 0.01 | 0.00 | 0.01 | |
| TSS.human.GRCh37 | 0.19 | 0.02 | 0.21 | |
| TSS.human.GRCh38 | 0.16 | 0.00 | 0.15 | |
| TSS.human.NCBI36 | 0.12 | 0.00 | 0.13 | |
| TSS.mouse.GRCm38 | 0.11 | 0.01 | 0.12 | |
| TSS.mouse.NCBIM37 | 0.08 | 0.00 | 0.08 | |
| TSS.rat.RGSC3.4 | 0.08 | 0.02 | 0.09 | |
| TSS.rat.Rnor_5.0 | 0.06 | 0.00 | 0.07 | |
| TSS.zebrafish.Zv8 | 0.08 | 0.00 | 0.08 | |
| TSS.zebrafish.Zv9 | 0.09 | 0.00 | 0.09 | |
| addAncestors | 1.03 | 0.05 | 1.08 | |
| addGeneIDs | 2.52 | 1.29 | 3.82 | |
| addMetadata | 1.52 | 0.14 | 1.66 | |
| annoGR | 0 | 0 | 0 | |
| annoPeaks | 2.61 | 0.42 | 3.41 | |
| annotatePeakInBatch | 12.73 | 1.11 | 13.86 | |
| annotatedPeak | 0.04 | 0.00 | 0.05 | |
| assignChromosomeRegion | 0 | 0 | 0 | |
| bdp | 0 | 0 | 0 | |
| binOverFeature | 0.74 | 0.07 | 0.81 | |
| binOverGene | 0 | 0 | 0 | |
| binOverRegions | 0 | 0 | 0 | |
| condenseMatrixByColnames | 0.01 | 0.00 | 0.01 | |
| convert2EntrezID | 0.35 | 0.02 | 0.36 | |
| countPatternInSeqs | 0.20 | 0.02 | 0.22 | |
| cumulativePercentage | 0 | 0 | 0 | |
| downstreams | 0.02 | 0.00 | 0.02 | |
| egOrgMap | 0 | 0 | 0 | |
| enrichedGO | 0.00 | 0.01 | 0.01 | |
| enrichmentPlot | 0.48 | 0.00 | 0.49 | |
| estFragmentLength | 0.00 | 0.02 | 0.01 | |
| estLibSize | 0 | 0 | 0 | |
| featureAlignedDistribution | 0.27 | 0.00 | 0.27 | |
| featureAlignedExtendSignal | 0 | 0 | 0 | |
| featureAlignedHeatmap | 0.30 | 0.00 | 0.29 | |
| featureAlignedSignal | 0.15 | 0.06 | 0.22 | |
| findEnhancers | 23.39 | 1.09 | 24.50 | |
| findMotifsInPromoterSeqs | 14.97 | 0.32 | 15.45 | |
| findOverlappingPeaks | 0 | 0 | 0 | |
| findOverlapsOfPeaks | 1.83 | 0.03 | 1.94 | |
| genomicElementDistribution | 0 | 0 | 0 | |
| genomicElementUpSetR | 0 | 0 | 0 | |
| getAllPeakSequence | 0.50 | 0.03 | 0.60 | |
| getAnnotation | 0.02 | 0.00 | 0.01 | |
| getEnrichedGO | 0.01 | 0.00 | 0.02 | |
| getEnrichedPATH | 0 | 0 | 0 | |
| getGO | 0 | 0 | 0 | |
| getGeneSeq | 0 | 0 | 0 | |
| getUniqueGOidCount | 0 | 0 | 0 | |
| getVennCounts | 0 | 0 | 0 | |
| hyperGtest | 0 | 0 | 0 | |
| makeVennDiagram | 0.02 | 0.00 | 0.01 | |
| mergePlusMinusPeaks | 0 | 0 | 0 | |
| metagenePlot | 2.20 | 0.08 | 2.31 | |
| myPeakList | 0.01 | 0.00 | 0.02 | |
| oligoFrequency | 0.14 | 0.01 | 0.15 | |
| oligoSummary | 0 | 0 | 0 | |
| peakPermTest | 0 | 0 | 0 | |
| peaksNearBDP | 0 | 0 | 0 | |
| pie1 | 0 | 0 | 0 | |
| plotBinOverRegions | 0.01 | 0.00 | 0.01 | |
| preparePool | 0 | 0 | 0 | |
| reCenterPeaks | 0.02 | 0.00 | 0.02 | |
| summarizeOverlapsByBins | 2.69 | 0.02 | 19.39 | |
| summarizePatternInPeaks | 0.51 | 0.04 | 0.56 | |
| tileCount | 1.25 | 0.02 | 18.67 | |
| tileGRanges | 0.03 | 0.00 | 0.04 | |
| toGRanges | 0.15 | 0.00 | 0.15 | |
| translatePattern | 0 | 0 | 0 | |
| wgEncodeTfbsV3 | 0.17 | 0.02 | 0.19 | |
| write2FASTA | 0.01 | 0.00 | 0.01 | |
| xget | 0.11 | 0.00 | 0.11 | |